Filter-Crypto v2.08 Perl 5 v5.29.10 x86_64-linux
- Status
- Pass
- From
- Andreas J. König (ANDK)
- Dist
-
Filter-Crypto v2.08
- Platform
- Perl 5 v5.29.10 x86_64-linux
- Date
- 2019-04-23 04:23:15
- ID
- 839defce-657f-11e9-b31e-19f87908eea8
This distribution has been tested as part of the CPAN Testers
project, supporting the Perl programming language. See
http://wiki.cpantesters.org/ for more information or email
questions to cpan-testers-discuss@perl.org
--
Dear Steve Hay,
This is a computer-generated report for Filter-Crypto-2.08
on perl 5.29.10, created by CPAN-Reporter-1.2018.
Thank you for uploading your work to CPAN. Congratulations!
All tests were successful.
Sections of this report:
* Tester comments
* Program output
* Prerequisites
* Environment and other context
------------------------------
TESTER COMMENTS
------------------------------
Additional comments from tester:
this report is from an automated smoke testing program
and was not reviewed by a human for accuracy
------------------------------
PROGRAM OUTPUT
------------------------------
Output from '/usr/bin/make test':
make[1]: Entering directory '/tmp/loop_over_bdir-28325-BL1owd/Filter-Crypto-2.08-0/CryptFile'
"/tmp/basesmoker-reloperl-16BY/bin/perl" -MExtUtils::Command::MM -e 'cp_nonempty' -- CryptFile.bs ../blib/arch/auto/Filter/Crypto/CryptFile/CryptFile.bs 644
Manifying 1 pod document
make[1]: Leaving directory '/tmp/loop_over_bdir-28325-BL1owd/Filter-Crypto-2.08-0/CryptFile'
make[1]: Entering directory '/tmp/loop_over_bdir-28325-BL1owd/Filter-Crypto-2.08-0/Decrypt'
"/tmp/basesmoker-reloperl-16BY/bin/perl" -MExtUtils::Command::MM -e 'cp_nonempty' -- Decrypt.bs ../blib/arch/auto/Filter/Crypto/Decrypt/Decrypt.bs 644
Manifying 1 pod document
make[1]: Leaving directory '/tmp/loop_over_bdir-28325-BL1owd/Filter-Crypto-2.08-0/Decrypt'
PERL_DL_NONLAZY=1 "/tmp/basesmoker-reloperl-16BY/bin/perl" "-MExtUtils::Command::MM" "-MTest::Harness" "-e" "undef *Test::Harness::Switches; test_harness(0, 'blib/lib', 'blib/arch')" t/*.t
t/01_imports_01.t .... ok
t/01_imports_02.t .... ok
t/01_imports_03.t .... ok
t/01_imports_04.t .... ok
t/02_function.t ...... ok
t/03_script.t ........ ok
t/04_par.t ........... ok
t/05_errstr.t ........ ok
t/06_changes.t ....... skipped: Author testing only
t/07_critic.t ........ skipped: Author testing only
t/08_pod.t ........... skipped: Author testing only
t/09_pod_coverage.t .. skipped: Author testing only
All tests successful.
Files=12, Tests=448, 14 wallclock secs ( 0.07 usr 0.07 sys + 9.16 cusr 4.63 csys = 13.93 CPU)
Result: PASS
------------------------------
PREREQUISITES
------------------------------
Prerequisite modules loaded:
requires:
Module Need Have
--------------------- -------- ---------
Carp 0 1.50
Config 0 5.029010
constant 0 1.33
Cwd 0 3.78
Exporter 0 5.73
ExtUtils::MakeMaker 6.66 7.34
Fcntl 0 1.13
File::Basename 0 2.85
File::Copy 0 2.34
File::Find 0 1.36
File::Spec::Functions 0 3.78
File::Temp 0 0.2309
Getopt::Long 0 2.5
perl 5.008001 5.029010
Pod::Usage 1.15 1.69
Scalar::Util 0 1.50
strict 0 1.11
Text::ParseWords 0 3.30
Text::Wrap 0 2013.0523
warnings 0 1.44
XSLoader 0 0.30
build_requires:
Module Need Have
--------------------- -------- ---------
blib 0 1.07
ExtUtils::MakeMaker 0 7.34
FindBin 0 1.51
Test::More 0 1.302162
configure_requires:
Module Need Have
--------------------- -------- ---------
Carp 0 1.50
Config 0 5.029010
constant 0 1.33
Cwd 0 3.78
ExtUtils::MakeMaker 6.66 7.34
Fcntl 0 1.13
File::Basename 0 2.85
File::Copy 0 2.34
File::Spec::Functions 0 3.78
Getopt::Long 0 2.5
perl 5.008001 5.029010
Pod::Usage 1.15 1.69
strict 0 1.11
Text::Wrap 0 2013.0523
warnings 0 1.44
------------------------------
ENVIRONMENT AND OTHER CONTEXT
------------------------------
Environment variables:
AUTOMATED_TESTING = 1
LANG = en_US.UTF-8
PATH = /home/sand/bin:/usr/local/bin:/usr/bin:/bin:/usr/games:/usr/local/perl/bin:/usr/X11/bin:/sbin:/usr/sbin
PERL5LIB = /tmp/loop_over_bdir-28325-BL1owd/Test-Perinci-CmdLine-1.47-0/blib/arch:/tmp/loop_over_bdir-28325-BL1owd/Test-Perinci-CmdLine-1.47-0/blib/lib:/tmp/loop_over_bdir-28325-BL1owd/Perinci-Examples-0.812-0/blib/arch:/tmp/loop_over_bdir-28325-BL1owd/Perinci-Examples-0.812-0/blib/lib:/tmp/loop_over_bdir-28325-BL1owd/Perinci-Sub-Property-arg-cmdline-0.02-0/blib/arch:/tmp/loop_over_bdir-28325-BL1owd/Perinci-Sub-Property-arg-cmdline-0.02-0/blib/lib:/tmp/loop_over_bdir-28325-BL1owd/Data-Validate-0.09-0/blib/arch:/tmp/loop_over_bdir-28325-BL1owd/Data-Validate-0.09-0/blib/lib
PERL5OPT =
PERL5_CPANPLUS_IS_RUNNING = 20178
PERL5_CPAN_IS_RUNNING = 20178
PERL_CANARY_STABILITY_NOPROMPT = 1
PERL_MM_USE_DEFAULT = 1
PERL_USE_UNSAFE_INC = 1
SHELL = /usr/bin/zsh
TERM = screen
Perl special variables (and OS-specific diagnostics, for MSWin32):
$^X = /tmp/basesmoker-reloperl-16BY/bin/perl
$UID/$EUID = 1005 / 1005
$GID = 1005 1005
$EGID = 1005 1005
Perl module toolchain versions installed:
Module Have
------------------- --------
CPAN 2.26
CPAN::Meta 2.150010
Cwd 3.78
ExtUtils::CBuilder 0.280231
ExtUtils::Command 7.34
ExtUtils::Install 2.14
ExtUtils::MakeMaker 7.34
ExtUtils::Manifest 1.72
ExtUtils::ParseXS 3.40
File::Spec 3.78
JSON 4.02
JSON::PP 4.02
Module::Build 0.4229
Module::Signature 0.83
Parse::CPAN::Meta 2.150010
Test::Harness 3.42
Test::More 1.302162
YAML 1.27
YAML::Syck 1.31
version 0.9924
--
Summary of my perl5 (revision 5 version 29 subversion 10) configuration:
Derived from: ad356c9136877a334bc46e46b290ec1da75b3773
Platform:
osname=linux
osvers=4.18.0-2-amd64
archname=x86_64-linux
uname='linux k93msid 4.18.0-2-amd64 #1 smp debian 4.18.10-2 (2018-10-07) x86_64 gnulinux '
config_args='-Dprefix=/home/sand/src/perl/repoperls/installed-perls/host/k93msid/v5.29.10/da1c -Dmyhostname=k93msid -Dinstallusrbinperl=n -Uversiononly -Dusedevel -des -Ui_db -Dlibswanted=cl pthread socket inet nsl gdbm dbm malloc dl ld sun m crypt sec util c cposix posix ucb BSD gdbm_compat -Uuseithreads -Uuselongdouble -DEBUGGING=-g'
hint=recommended
useposix=true
d_sigaction=define
useithreads=undef
usemultiplicity=undef
use64bitint=define
use64bitall=define
uselongdouble=undef
usemymalloc=n
default_inc_excludes_dot=define
bincompat5005=undef
Compiler:
cc='cc'
ccflags ='-fwrapv -fno-strict-aliasing -pipe -fstack-protector-strong -I/usr/local/include -D_LARGEFILE_SOURCE -D_FILE_OFFSET_BITS=64 -D_FORTIFY_SOURCE=2'
optimize='-O2 -g'
cppflags='-fwrapv -fno-strict-aliasing -pipe -fstack-protector-strong -I/usr/local/include'
ccversion=''
gccversion='8.2.0'
gccosandvers=''
intsize=4
longsize=8
ptrsize=8
doublesize=8
byteorder=12345678
doublekind=3
d_longlong=define
longlongsize=8
d_longdbl=define
longdblsize=16
longdblkind=3
ivtype='long'
ivsize=8
nvtype='double'
nvsize=8
Off_t='off_t'
lseeksize=8
alignbytes=8
prototype=define
Linker and Libraries:
ld='cc'
ldflags =' -fstack-protector-strong -L/usr/local/lib'
libpth=/usr/local/lib /usr/lib/gcc/x86_64-linux-gnu/8/include-fixed /usr/include/x86_64-linux-gnu /usr/lib /lib/x86_64-linux-gnu /lib/../lib /usr/lib/x86_64-linux-gnu /usr/lib/../lib /lib
libs=-lpthread -lnsl -ldl -lm -lcrypt -lutil -lc
perllibs=-lpthread -lnsl -ldl -lm -lcrypt -lutil -lc
libc=libc-2.27.so
so=so
useshrplib=false
libperl=libperl.a
gnulibc_version='2.27'
Dynamic Linking:
dlsrc=dl_dlopen.xs
dlext=so
d_dlsymun=undef
ccdlflags='-Wl,-E'
cccdlflags='-fPIC'
lddlflags='-shared -O2 -g -L/usr/local/lib -fstack-protector-strong'
Characteristics of this binary (from libperl):
Compile-time options:
HAS_TIMES
PERLIO_LAYERS
PERL_COPY_ON_WRITE
PERL_DONT_CREATE_GVSV
PERL_MALLOC_WRAP
PERL_OP_PARENT
PERL_PRESERVE_IVUV
PERL_USE_DEVEL
USE_64_BIT_ALL
USE_64_BIT_INT
USE_LARGE_FILES
USE_LOCALE
USE_LOCALE_COLLATE
USE_LOCALE_CTYPE
USE_LOCALE_NUMERIC
USE_LOCALE_TIME
USE_PERLIO
USE_PERL_ATOF
Locally applied patches:
uncommitted-changes
Built under linux
Compiled at Apr 20 2019 22:06:28
%ENV:
PERL5LIB="/tmp/loop_over_bdir-28325-BL1owd/Test-Perinci-CmdLine-1.47-0/blib/arch:/tmp/loop_over_bdir-28325-BL1owd/Test-Perinci-CmdLine-1.47-0/blib/lib:/tmp/loop_over_bdir-28325-BL1owd/Perinci-Examples-0.812-0/blib/arch:/tmp/loop_over_bdir-28325-BL1owd/Perinci-Examples-0.812-0/blib/lib:/tmp/loop_over_bdir-28325-BL1owd/Perinci-Sub-Property-arg-cmdline-0.02-0/blib/arch:/tmp/loop_over_bdir-28325-BL1owd/Perinci-Sub-Property-arg-cmdline-0.02-0/blib/lib:/tmp/loop_over_bdir-28325-BL1owd/Data-Validate-0.09-0/blib/arch:/tmp/loop_over_bdir-28325-BL1owd/Data-Validate-0.09-0/blib/lib"
PERL5OPT=""
PERL5_CPANPLUS_IS_RUNNING="20178"
PERL5_CPAN_IS_RUNNING="20178"
PERL_CANARY_STABILITY_NOPROMPT="1"
PERL_MM_USE_DEFAULT="1"
PERL_USE_UNSAFE_INC="1"
@INC:
/tmp/loop_over_bdir-28325-BL1owd/Test-Perinci-CmdLine-1.47-0/blib/arch
/tmp/loop_over_bdir-28325-BL1owd/Test-Perinci-CmdLine-1.47-0/blib/lib
/tmp/loop_over_bdir-28325-BL1owd/Perinci-Examples-0.812-0/blib/arch
/tmp/loop_over_bdir-28325-BL1owd/Perinci-Examples-0.812-0/blib/lib
/tmp/loop_over_bdir-28325-BL1owd/Perinci-Sub-Property-arg-cmdline-0.02-0/blib/arch
/tmp/loop_over_bdir-28325-BL1owd/Perinci-Sub-Property-arg-cmdline-0.02-0/blib/lib
/tmp/loop_over_bdir-28325-BL1owd/Data-Validate-0.09-0/blib/arch
/tmp/loop_over_bdir-28325-BL1owd/Data-Validate-0.09-0/blib/lib
/home/sand/src/perl/repoperls/installed-perls/host/k93msid/v5.29.10/da1c/lib/site_perl/5.29.10/x86_64-linux
/home/sand/src/perl/repoperls/installed-perls/host/k93msid/v5.29.10/da1c/lib/site_perl/5.29.10
/home/sand/src/perl/repoperls/installed-perls/host/k93msid/v5.29.10/da1c/lib/5.29.10/x86_64-linux
/home/sand/src/perl/repoperls/installed-perls/host/k93msid/v5.29.10/da1c/lib/5.29.10
.