DBIx-Class v0.082843 Perl 5 v5.26.3 x86_64-linux-multi

Status
Pass
From
Nigel Horne
Dist
DBIx-Class v0.082843
Platform
Perl 5 v5.26.3 x86_64-linux-multi
Date
2022-08-02 20:34:32
ID
83bbc9c6-12a2-11ed-a012-d93bacd65ec8
This distribution has been tested as part of the CPAN Testers
project, supporting the Perl programming language.  See
http://wiki.cpantesters.org/ for more information or email
questions to cpan-testers-discuss@perl.org


--
Dear Peter Rabbitson,

This is a computer-generated report for DBIx-Class-0.082843
on perl 5.26.3, created by CPAN-Reporter-1.2018.

Thank you for uploading your work to CPAN.  Congratulations!
All tests were successful.

Sections of this report:

    * Tester comments
    * Program output
    * Prerequisites
    * Environment and other context

------------------------------
TESTER COMMENTS
------------------------------

Additional comments from tester:

this report is from an automated smoke testing program
and was not reviewed by a human for accuracy

------------------------------
PROGRAM OUTPUT
------------------------------

Output from '/usr/bin/make test':

PERL_DL_NONLAZY=1 "/home/smoker/perl5/perlbrew/perls/perl-5.26.3-multi/bin/perl5.26.3" "-MExtUtils::Command::MM" "-MTest::Harness" "-e" "undef *Test::Harness::Switches; test_harness(0, 'inc', 'blib/lib', 'blib/arch')" t/*.t t/admin/*.t t/cdbi/*.t t/cdbi/DeepAbstractSearch/*.t t/cdbi/abstract/*.t t/cdbi/sweet/*.t t/count/*.t t/debug/*.t t/delete/*.t t/inflate/*.t t/multi_create/*.t t/ordered/*.t t/pager/*.t t/pager/data_page_compat/*.t t/prefetch/*.t t/relationship/*.t t/resultset/*.t t/resultsource/*.t t/row/*.t t/schema/*.t t/search/*.t t/sqlmaker/*.t t/sqlmaker/hierarchical/*.t t/sqlmaker/limit_dialects/*.t t/storage/*.t t/update/*.t xt/*.t
t/04_c3_mro.t ....................................... ok
t/05components.t .................................... ok
t/100extra_source.t ................................. ok
# 
# 
# List of loadable modules within both *OPTIONAL* and core dependency chains
# present on this system (modules sourced from ./blib, ./lib, ./t, and ./xt
# with versions identical to their parent namespace were omitted for brevity)
# 
#     *** Note that *MANY* of these modules will *NEVER* be loaded ***
#             *** during normal operation of DBIx::Class ***
# 
# @INC at startup (does not reflect manipulation at runtime):
#   0: ./inc/
#   1: ./blib/lib/
#   2: ./blib/arch/
#   3: ~/.cpan/build/SQL-Abstract-Classic-1.91-0/blib/arch/
#   4: ~/.cpan/build/SQL-Abstract-Classic-1.91-0/blib/lib/
#   5: ~/.cpan/build/SQL-Abstract-2.000001-0/blib/arch/
#   6: ~/.cpan/build/SQL-Abstract-2.000001-0/blib/lib/
#   7: ~/.cpan/build/Path-Class-0.37-0/blib/arch/
#   8: ~/.cpan/build/Path-Class-0.37-0/blib/lib/
#   9: ~/.cpan/build/Hash-Merge-0.302-0/blib/arch/
#  10: ~/.cpan/build/Hash-Merge-0.302-0/blib/lib/
#  11: ~/.cpan/build/Clone-Choose-0.010-0/blib/arch/
#  12: ~/.cpan/build/Clone-Choose-0.010-0/blib/lib/
#  13: ~/.cpan/build/Data-Dumper-Concise-2.023-0/blib/arch/
#  14: ~/.cpan/build/Data-Dumper-Concise-2.023-0/blib/lib/
#  15: ~/.cpan/build/Context-Preserve-0.03-0/blib/arch/
#  16: ~/.cpan/build/Context-Preserve-0.03-0/blib/lib/
#  17: ~/.cpan/build/Class-Unload-0.11-0/blib/arch/
#  18: ~/.cpan/build/Class-Unload-0.11-0/blib/lib/
#  19: ~/.cpan/build/Class-C3-Componentised-1.001002-0/blib/arch/
#  20: ~/.cpan/build/Class-C3-Componentised-1.001002-0/blib/lib/
#  21: ~/.cpan/build/Class-C3-0.35-0/blib/arch/
#  22: ~/.cpan/build/Class-C3-0.35-0/blib/lib/
#  23: ~/.cpan/build/Algorithm-C3-0.11-0/blib/arch/
#  24: ~/.cpan/build/Algorithm-C3-0.11-0/blib/lib/
#  25: ~/.cpan/build/Class-Accessor-Grouped-0.10014-0/blib/arch/
#  26: ~/.cpan/build/Class-Accessor-Grouped-0.10014-0/blib/lib/
#  27: ~/.cpan/build/SQL-Abstract-Classic-1.91-0/blib/arch/
#  28: ~/.cpan/build/SQL-Abstract-Classic-1.91-0/blib/lib/
#  29: ~/.cpan/build/SQL-Abstract-2.000001-0/blib/arch/
#  30: ~/.cpan/build/SQL-Abstract-2.000001-0/blib/lib/
#  31: ~/.cpan/build/Path-Class-0.37-0/blib/arch/
#  32: ~/.cpan/build/Path-Class-0.37-0/blib/lib/
#  33: ~/.cpan/build/Hash-Merge-0.302-0/blib/arch/
#  34: ~/.cpan/build/Hash-Merge-0.302-0/blib/lib/
#  35: ~/.cpan/build/Clone-Choose-0.010-0/blib/arch/
#  36: ~/.cpan/build/Clone-Choose-0.010-0/blib/lib/
#  37: ~/.cpan/build/Data-Dumper-Concise-2.023-0/blib/arch/
#  38: ~/.cpan/build/Data-Dumper-Concise-2.023-0/blib/lib/
#  39: ~/.cpan/build/Context-Preserve-0.03-0/blib/arch/
#  40: ~/.cpan/build/Context-Preserve-0.03-0/blib/lib/
#  41: ~/.cpan/build/Class-Unload-0.11-0/blib/arch/
#  42: ~/.cpan/build/Class-Unload-0.11-0/blib/lib/
#  43: ~/.cpan/build/Class-C3-Componentised-1.001002-0/blib/arch/
#  44: ~/.cpan/build/Class-C3-Componentised-1.001002-0/blib/lib/
#  45: ~/.cpan/build/Class-C3-0.35-0/blib/arch/
#  46: ~/.cpan/build/Class-C3-0.35-0/blib/lib/
#  47: ~/.cpan/build/Algorithm-C3-0.11-0/blib/arch/
#  48: ~/.cpan/build/Algorithm-C3-0.11-0/blib/lib/
#  49: ~/.cpan/build/Class-Accessor-Grouped-0.10014-0/blib/arch/
#  50: ~/.cpan/build/Class-Accessor-Grouped-0.10014-0/blib/lib/
#  51: <<SA>>/
#  52: <<SL>>/
#  53: <<PA>>/
#  54: <<PL>>/
#  55: ./
# 
# Sourcing markers:
#        PA: $Config{archlib}
#        PL: $Config{privlib}
#        SA: $Config{sitearch}
#        SL: $Config{sitelib}
#       BLL: ./blib/lib/
# 
# =============================
#        PA            0.29  attributes                                                                      [ MD5: 3c7494a1e2daadab4c2438772daf1f26 ]
#        PL            5.74  AutoLoader                                                                      [ MD5: c923fac66a84c6b5dbbf01250e7c1a42 ]
#        PA            1.68  B                                                                               [ MD5: a1b96c83bbb9e72e40c4ef0ad7ccb9ac ]
#        SL            0.24  B::Hooks::EndOfScope                                                            [ MD5: 3b9731e44ba19c730e41ef0865a9611a ]
#        SL            0.24  B::Hooks::EndOfScope::XS                                                        [ MD5: e329476ce9d632219d1448c8dd641a25 ]
#        PL            2.26  base                                                                            [ MD5: 33a4b1acedb7ad3d17aadf941ffdf092 ]
#        PL            1.05  bytes                                                                           [ MD5: 0b1f4cf7f07548ffd51cd5ddb6644fe2 ]
#        PL            1.42  Carp                                                                            [ MD5: 5e505f781edb59d1bc7d50192aca1d0b ]
#        SL            6.08  Carp::Clan                                                                      [ MD5: 7670ec49eede64de73e580ded76b5aaa ]
#        PL            1.42  Carp::Heavy                                                                     [ MD5: 79f092eecb710ba166304e7a88bfa45d ]
#  $INC[26]         0.10014  Class::Accessor::Grouped                                                        [ MD5: e62be17499d53d13f67a4361268aac40 ]
#  $INC[20]        1.001002  Class::C3::Componentised                                                        [ MD5: 2e92d4f7f9a7d2eda3cd1100583541a2 ]
#        SL            0.08  Class::Data::Inheritable                                                        [ MD5: eaa489d785a175db193d92b13674d96d ]
#        SL            1.36  Class::Inspector                                                                [ MD5: 7aed0ce1dfc5dd2067632ea22fd2f483 ]
#        SL            0.25  Class::Load                                                                     [ MD5: 52debf263bbf547f0260f9d66a071eee ]
#        SA            0.10  Class::Load::XS                                                                 [ MD5: cc30760936bb48922d9898c915555a19 ]
#        SA          2.2012  Class::MOP                                                                      [ MD5: 5d212f9afee2c34db548c8aeb440443e ]
#        SA          2.2012  Class::MOP::Attribute                                                           [ MD5: 221131b864c50291e5d3fccbccd8648e ]
#        SA          2.2012  Class::MOP::Class                                                               [ MD5: 44ba6a55db325c5c372a39912e852b6e ]
#        SA          2.2012  Class::MOP::Class::Immutable::Trait                                             [ MD5: e8f0e02d79dfe616576881e24bf6df11 ]
#        SA          2.2012  Class::MOP::Deprecated                                                          [ MD5: 627e255f58006a60da4675b45453f679 ]
#        SA          2.2012  Class::MOP::Instance                                                            [ MD5: ae6a6ce2a28e9348c0df1106fead8642 ]
#        SA          2.2012  Class::MOP::Method                                                              [ MD5: 49e1e9401f46bd1c1fd440799744e9e9 ]
#        SA          2.2012  Class::MOP::Method::Accessor                                                    [ MD5: 262abb90bc69c7dd77632c81662dae33 ]
#        SA          2.2012  Class::MOP::Method::Constructor                                                 [ MD5: cf417fb091eaf63069901f7306772edc ]
#        SA          2.2012  Class::MOP::Method::Generated                                                   [ MD5: fd6ed3fb16b8e287a88468f63b51e547 ]
#        SA          2.2012  Class::MOP::Method::Inlined                                                     [ MD5: f6e7855ee4f78e3a02be7052c035098e ]
#        SA          2.2012  Class::MOP::Method::Meta                                                        [ MD5: f8098fa232760301ae0b6e98208e79be ]
#        SA          2.2012  Class::MOP::Method::Wrapped                                                     [ MD5: 56de20d346f7de50b93722f27dbd2fcc ]
#        SA          2.2012  Class::MOP::MiniTrait                                                           [ MD5: 53f9954f9980b444e8d42fb023d9e07d ]
#        SA          2.2012  Class::MOP::Mixin                                                               [ MD5: 2b8462b9ba0a3d05611f4c2168644d50 ]
#        SA          2.2012  Class::MOP::Mixin::AttributeCore                                                [ MD5: 9d579f68b4322ed2f32bc6381e9e7782 ]
#        SA          2.2012  Class::MOP::Mixin::HasAttributes                                                [ MD5: 2465a62d5c8568b9b5985418301d7466 ]
#        SA          2.2012  Class::MOP::Mixin::HasMethods                                                   [ MD5: 8492f3ece67f6e535afc318f1ea983c7 ]
#        SA          2.2012  Class::MOP::Mixin::HasOverloads                                                 [ MD5: ec50051b64da06296449801ef328c2ec ]
#        SA          2.2012  Class::MOP::Module                                                              [ MD5: b339090104990125b1c7567d547b68bf ]
#        SA          2.2012  Class::MOP::Object                                                              [ MD5: 6164993804b3abe6ee4d4c5b260a626c ]
#        SA          2.2012  Class::MOP::Overload                                                            [ MD5: 5decfa03bd8a3b434b815a331a115e9c ]
#        SA          2.2012  Class::MOP::Package                                                             [ MD5: 4fb0420b1483895af653855211f4ec39 ]
#        PL            0.65  Class::Struct                                                                   [ MD5: cf060e4d87730484dcdf246d806fec93 ]
#        SL            0.15  Class::Trigger                                                                  [ MD5: 523fca6dd358a74679ed25047870b150 ]
#  $INC[18]            0.11  Class::Unload                                                                   [ MD5: f1fa19d4b6c75047849dcb0e8a1b383b ]
#        SA            1.19  Class::XSAccessor                                                               [ MD5: 0b7adfcc61192a80f97463e89d6d1696 ]
#        SA            1.19  Class::XSAccessor::Heavy                                                        [ MD5: db9379a668d6133fce801e4648cdef45 ]
#        SA            0.45  Clone                                                                           [ MD5: 0921ec15aa13688a65c12919e85f1257 ]
#  $INC[12]           0.010  Clone::Choose                                                                   [ MD5: 884cece05d3959f067c7e20ed3d05cf5 ]
#        SA            3.75  common::sense                                                                   [ MD5: 6c0a31ca82bd7c5d904ff860a2f91498 ]
#        PA        5.026003  Config                                                                          [ MD5: 92c9ad7c5cf0602357f8d6c274fefcfa ]
#        PL            1.33  constant                                                                        [ MD5: 56cde6eba0f667ab56196613df3933c1 ]
#  $INC[16]            0.03  Context::Preserve                                                               [ MD5: 62155e2bc041508eff050250d74a0c38 ]
#        SA            4.19  Cpanel::JSON::XS                                                                [ MD5: fcc82202285f5f80eae7dbef091b4c41 ]
#        SA            3.75  Cwd                                                                             [ MD5: ac096f132d787b5c834fdf897d149650 ]
#        SA           2.173  Data::Dumper                                                                    [ MD5: 240698bf674c462e399495439de7a1c3 ]
#  $INC[14]           2.023  Data::Dumper::Concise                                                           [ MD5: b18cb47e46e385ccee825ac7e5e59d9e ]
#        SL           0.110  Data::OptList                                                                   [ MD5: abf71027225f7e71ffb99d9e60f1c817 ]
#        SA            1.64  DBD::SQLite                                                                     [ MD5: 51b8cd5b6a12afa6919700e9835df0cf ]
#        SA           1.643  DBI                                                                             [ MD5: f21c16d842093e2a90b21537379e38df ]
#       BLL        0.082843  DBIx::Class                                                                     [ MD5: c7e0efa8ca59419329d4b8c7a6364ea1 ]
#        SL            0.14  Devel::GlobalDestruction                                                        [ MD5: fa8dcedeb9a8a3d29fbef7dfce342970 ]
#        SL           0.005  Devel::OverloadInfo                                                             [ MD5: 585b292147dc170f3b3f3611ee04a32b ]
#        SL            2.18  Devel::Symdump                                                                  [ MD5: e649ab91a4890ab2543e821daef73079 ]
#        PL            1.16  Digest::base                                                                    [ MD5: c46e2ebb720ee7d9c600ce5acbf34291 ]
#        PA            2.55  Digest::MD5                                                                     [ MD5: eb31899db132d674e1db22f4727234f6 ]
#        PA            1.42  DynaLoader                                                                      [ MD5: 946142306a2c4799cb2f003e42da5d86 ]
#        SA            3.06  Encode                                                                          [ MD5: 9f286d9c2efd7e23bf69ac980d9f4ec2 ]
#        SA            2.24  Encode::Alias                                                                   [ MD5: c3280193456386938373947a4be14c6b ]
#        SA            2.05  Encode::Config                                                                  [ MD5: 7bdd1d8dffa8d3500086802451fc020d ]
#        SA            2.08  Encode::Encoding                                                                [ MD5: 3f40faa217288ed2cb4e34af87b6bfd6 ]
#        SA            1.03  Encode::MIME::Name                                                              [ MD5: 056ea8f31df117e2984d9bd3a77555dc ]
#        PA            1.28  Errno                                                                           [ MD5: 4d9b8c573d6c9f1cb1316021ef40fc25 ]
#        SL            0.14  Eval::Closure                                                                   [ MD5: 6c72ca7cb0924d00e0c1a8bee904c349 ]
#        PL            5.72  Exporter                                                                        [ MD5: 358c4022647b971c7c4f3a4157b8343e ]
#        PL            5.72  Exporter::Heavy                                                                 [ MD5: d8032ca40b44e010673e6dd5816ca66b ]
#        SL            7.44  ExtUtils::Liblist                                                               [ MD5: 21d8ddc640c9e426fde2c848882f08ea ]
#        SL            7.44  ExtUtils::Liblist::Kid                                                          [ MD5: 62d7ccac7ed72982cff35e4c308e9154 ]
#        SL            7.44  ExtUtils::MakeMaker                                                             [ MD5: dc5d0f42fd15a70ea2377bc5b886614c ]
#        SL            7.44  ExtUtils::MakeMaker::Config                                                     [ MD5: e4fe3b9f4224237f040758e50f5fd719 ]
#        SL            7.44  ExtUtils::MakeMaker::Locale                                                     [ MD5: e1864443074abf5310463fd8ac69d293 ]
#        SL            7.44  ExtUtils::MakeMaker::version                                                    [ MD5: e1ad84643f6fb6ef6c63814b786a061b ]
#        SL            7.44  ExtUtils::MM                                                                    [ MD5: f6ac8789106f2d4ac5a8a151eed17f25 ]
#        SL            7.44  ExtUtils::MM_Any                                                                [ MD5: 59bf7a10dcf30129b361ff7ea2011977 ]
#        SL            7.44  ExtUtils::MM_Unix                                                               [ MD5: 7086109dd54970c61aa7cf23d8541d6c ]
#        SL            7.44  ExtUtils::MY                                                                    [ MD5: bde5c46f885e02e10f5056d92da2a772 ]
#        PA            1.13  Fcntl                                                                           [ MD5: b337d563fd4bc958c7e0a2bba2ca86d2 ]
#        PL            2.85  File::Basename                                                                  [ MD5: 060f029d056cc44e536c7d278f69bf43 ]
#        PL            2.32  File::Copy                                                                      [ MD5: 6bd3ccbef5e29781e19ab4d4a4dfc779 ]
#        PL            1.34  File::Find                                                                      [ MD5: 04150524197463018d3188f24e360c5e ]
#        PA            1.28  File::Glob                                                                      [ MD5: 3924cc309b6830781e15c9b95f1c6e2c ]
#        SL           1.004  File::HomeDir                                                                   [ MD5: f640f0205e9a71b526307ba35e345721 ]
#        SL           1.004  File::HomeDir::Driver                                                           [ MD5: 41e785bb125af285b8a47daf0f218cc2 ]
#        SL           1.004  File::HomeDir::Unix                                                             [ MD5: e6ce1b7f9d8cc0213abc885d1d5882c3 ]
#        PL         2.12_01  File::Path                                                                      [ MD5: b71c56316d768bc029229b0ee4e40f5e ]
#        SA            3.75  File::Spec                                                                      [ MD5: 60adab4a60c40a7115274bd9c0801425 ]
#        SA            3.75  File::Spec::Unix                                                                [ MD5: 64adb743d17fa746ca7c31eb21971eb7 ]
#        PL            1.07  File::stat                                                                      [ MD5: d6fcb5be03ba2b0f34569f8dbc9c17c8 ]
#        SL          0.2309  File::Temp                                                                      [ MD5: 9710fcbc8911ae90f20b0c863ebfe79b ]
#                    0.2309  File::Temp::Dir                                                               ! -f $INC{'File/Temp/Dir.pm'}
#        SL            1.23  File::Which                                                                     [ MD5: 2db291b6abbcd6ccafc8bdbf4535f509 ]
#        PL            1.51  FindBin                                                                         [ MD5: dd2958b9672d2fbd39371b5b590def2f ]
#        SL            2.51  Getopt::Long                                                                    [ MD5: 7119f2c25b6e2352580da9b6a84c9ab9 ]
#        SL           0.105  Getopt::Long::Descriptive                                                       [ MD5: d38222d0f66a30c5e1c7c0f1aadf57cd ]
#        SL           0.105  Getopt::Long::Descriptive::Opts                                                 [ MD5: 83cad8f20612bf903b2cf61426074006 ]
#        SL           0.105  Getopt::Long::Descriptive::Usage                                                [ MD5: 156ba8c899377c9062b8b5fb0015d261 ]
#  $INC[10]           0.302  Hash::Merge                                                                     [ MD5: 85df9910eb2a543ae53fff090dcb3901 ]
#        PA            0.13  I18N::Langinfo                                                                  [ MD5: 706de135fde051348167b99b4d87722f ]
#        PL          0.0606  if                                                                              [ MD5: 64ca426ae881664b5bf41c88b2c96963 ]
#        PL            1.01  integer                                                                         [ MD5: 3e5ff5fb486c95945e10e79859dd5bfb ]
#        PA            1.38  IO                                                                              [ MD5: 0fd9a20e71a733dbe5859bd96e32334d ]
#        PA            1.10  IO::Dir                                                                         [ MD5: 3382ea44d8e267cc12a596fbfe73ff92 ]
#        PA            1.16  IO::File                                                                        [ MD5: 206278c02dd4a3fb7792a4a193d2588b ]
#        PA            1.36  IO::Handle                                                                      [ MD5: ba4d379aeccdf0982810a9ebc71aa1ce ]
#        PA            1.10  IO::Seekable                                                                    [ MD5: f62813b55c062f449160100dca67d043 ]
#        SL            4.02  JSON                                                                            [ MD5: e627742db8812fc21f885b2414c7a0c4 ]
#                      4.02  JSON::Backend::XS                                                             ! -f $INC{'JSON/Backend/XS.pm'}
#        PL      2.27400_02  JSON::PP                                                                        [ MD5: 41a51e893f3f4b4e9cf1c50f415577c2 ]
#                      1.01  JSON::PP::IncrParser                                                          ! -f $INC{'JSON/PP/IncrParser.pm'}
#        SA            4.02  JSON::XS                                                                        [ MD5: d22befbc4753ff6024ddf7a4c0a99e89 ]
#        PA         1.46_02  List::Util                                                                      [ MD5: a7be2ad5372cc4930892d5242c5134a2 ]
#        PL            1.09  locale                                                                          [ MD5: 0e2f243d25cdd1380e17ebfb8b9eee5c ]
#        PL        1.999806  Math::BigInt                                                                    [ MD5: b67876533973c62afd04fe167dd12795 ]
#        SA          2.2012  metaclass                                                                       [ MD5: cae13d7a19c2ce0f117e1a54dca1c8b5 ]
#        SL                  Method::Generate::Accessor                                                      [ MD5: 9209197a79974c455fca96e01ae687fe ]
#        SL                  Method::Generate::Constructor                                                   [ MD5: 34ec0d8db3d6be1fef4b216a47ed3f40 ]
#        SL            0.09  Module::Implementation                                                          [ MD5: 2a146bb117cd6b798e2b928231799546 ]
#        SL           0.016  Module::Runtime                                                                 [ MD5: db1042b0f9341111c7f904480a82596a ]
#        SL        2.004000  Moo                                                                             [ MD5: b8194004755d4a39b41c16fcb0605c6d ]
#        SL                  Moo::HandleMoose                                                                [ MD5: ed0b031e284427345cf74a5e883683e1 ]
#        SL                  Moo::HandleMoose::FakeMetaClass                                                 [ MD5: 6d3ddb2b22897cc06ca741e73c35d890 ]
#        SL                  Moo::Object                                                                     [ MD5: 454a78f98f0239ac4044db19f07e8567 ]
#        SL                  Moo::sification                                                                 [ MD5: 9ef3e1bfcf46a351c20ca221d490d99f ]
#        SA          2.2012  Moose                                                                           [ MD5: 06fe437baccabbc07ef4fbd0d4caf8ea ]
#        SA          2.2012  Moose::Deprecated                                                               [ MD5: 110f82664663023aef9cdc5a881e1151 ]
#        SA          2.2012  Moose::Exporter                                                                 [ MD5: d2202019316be6638ecc5afb3f7d63bf ]
#        SA          2.2012  Moose::Meta::Attribute                                                          [ MD5: 748e2dec0a2db67ef769d735e511df73 ]
#        SA          2.2012  Moose::Meta::Attribute::Native                                                  [ MD5: 9d3df1d5a33fada86a455018f1fb0a59 ]
#        SA          2.2012  Moose::Meta::Class                                                              [ MD5: 11c9bba30a0ce9e7d36bffe993162182 ]
#        SA          2.2012  Moose::Meta::Class::Immutable::Trait                                            [ MD5: 7f40fc3b23940837de976ce83082ce66 ]
#        SA          2.2012  Moose::Meta::Instance                                                           [ MD5: 922e540ce3bc6d9a0324c2470866b089 ]
#        SA          2.2012  Moose::Meta::Method                                                             [ MD5: 5e9490ace9a18d389db2b16c256941d1 ]
#        SA          2.2012  Moose::Meta::Method::Accessor                                                   [ MD5: 208fd3d7c1070d7b23e5373f02a529a7 ]
#        SA          2.2012  Moose::Meta::Method::Augmented                                                  [ MD5: 83583c662925872b258478e2c39ccceb ]
#        SA          2.2012  Moose::Meta::Method::Constructor                                                [ MD5: 95ed75857359516f8e08b8abdccbc530 ]
#        SA          2.2012  Moose::Meta::Method::Delegation                                                 [ MD5: c6594bcbc087ba356d6656ed5a28f685 ]
#        SA          2.2012  Moose::Meta::Method::Destructor                                                 [ MD5: 9a101130a11389c829afb77650f5a390 ]
#        SA          2.2012  Moose::Meta::Method::Meta                                                       [ MD5: e4ae9042bd777d8a3f34a7d5782f386f ]
#        SA          2.2012  Moose::Meta::Method::Overridden                                                 [ MD5: 6c1233daf7a2261594a22662cc781c27 ]
#        SA          2.2012  Moose::Meta::Mixin::AttributeCore                                               [ MD5: f5320fc64df49eabca1a79e5ed71fcef ]
#        SA          2.2012  Moose::Meta::Object::Trait                                                      [ MD5: 93ea8414c13cc3e920eb132f0cde81b2 ]
#        SA          2.2012  Moose::Meta::Role                                                               [ MD5: 419137e4439e365f4fc11f52d22cfe6b ]
#        SA          2.2012  Moose::Meta::Role::Application                                                  [ MD5: 8729793f331381ce961532fddc3b74a5 ]
#        SA          2.2012  Moose::Meta::Role::Application::RoleSummation                                   [ MD5: 712c5f32a33cd85a444a29e832da17d3 ]
#        SA          2.2012  Moose::Meta::Role::Application::ToClass                                         [ MD5: d0d677da3b799f56226a0243d51ab916 ]
#        SA          2.2012  Moose::Meta::Role::Application::ToInstance                                      [ MD5: 0edfa2b6d2eca5287d0b3b733673d1f3 ]
#        SA          2.2012  Moose::Meta::Role::Application::ToRole                                          [ MD5: 4f8a3883858b90eb5ac8fa722bc582ab ]
#        SA          2.2012  Moose::Meta::Role::Attribute                                                    [ MD5: 9d1dca979ee4e78506b627514e63081b ]
#        SA          2.2012  Moose::Meta::Role::Composite                                                    [ MD5: 16353e8cb670915ffc150e9e00aa4534 ]
#        SA          2.2012  Moose::Meta::Role::Method                                                       [ MD5: 8b145e8e2059a485b0963314387cd963 ]
#        SA          2.2012  Moose::Meta::Role::Method::Conflicting                                          [ MD5: 42b5cfb838ed855927da8068c38a621d ]
#        SA          2.2012  Moose::Meta::Role::Method::Required                                             [ MD5: 77347d5a8267dbdbabadff1ecec1ccad ]
#        SA          2.2012  Moose::Meta::TypeCoercion                                                       [ MD5: 51f097377234efdf84fbe9300dc37931 ]
#        SA          2.2012  Moose::Meta::TypeCoercion::Union                                                [ MD5: 9f4a77b9549954750e4c8b1b4c984a0d ]
#        SA          2.2012  Moose::Meta::TypeConstraint                                                     [ MD5: 9f446a6580cd6241a58f613d99dbd15c ]
#        SA          2.2012  Moose::Meta::TypeConstraint::Class                                              [ MD5: 440386c14d663069bd913f5156ce2b17 ]
#        SA          2.2012  Moose::Meta::TypeConstraint::DuckType                                           [ MD5: 63a6513b5aa52ca8c3dccf7ce822e32a ]
#        SA          2.2012  Moose::Meta::TypeConstraint::Enum                                               [ MD5: daa6716792ba1b69b0481386c38f48a0 ]
#        SA          2.2012  Moose::Meta::TypeConstraint::Parameterizable                                    [ MD5: 8b0a56f718c40b4c4e23e030b8e387c4 ]
#        SA          2.2012  Moose::Meta::TypeConstraint::Parameterized                                      [ MD5: d29e9208910931222e1891bc4a4159a6 ]
#        SA          2.2012  Moose::Meta::TypeConstraint::Registry                                           [ MD5: 9b61051d8c235b75e9b8a5afcd9f1ec4 ]
#        SA          2.2012  Moose::Meta::TypeConstraint::Role                                               [ MD5: 8f6740896ddd6143dcedae46de3b6ae2 ]
#        SA          2.2012  Moose::Meta::TypeConstraint::Union                                              [ MD5: bca439ab1afc1474e66256559a8d7a59 ]
#        SA          2.2012  Moose::Object                                                                   [ MD5: c046e82c2c8626aeaa9e787eeae79338 ]
#        SA          2.2012  Moose::Role                                                                     [ MD5: 8a26dce949eed4c97511c6788f3be0ec ]
#        SA          2.2012  Moose::Util                                                                     [ MD5: 1d40d909d3526ca7cdce543c783b12bc ]
#        SA          2.2012  Moose::Util::MetaRole                                                           [ MD5: 0e66259948ededfb5d8af4ae693cf83d ]
#        SA          2.2012  Moose::Util::TypeConstraints                                                    [ MD5: e809e5e763a0f413f2312def3866a7d1 ]
#        SA          2.2012  Moose::Util::TypeConstraints::Builtins                                          [ MD5: 967e2f54cf8171ea6c864fb336dd9b97 ]
#        SL            0.50  MooseX::Types                                                                   [ MD5: 17bbbb8842f7942f7dbbb26921f6a101 ]
#        SL            0.50  MooseX::Types::Base                                                             [ MD5: d150a08c20428cc44a004f8638ad41db ]
#        SL            0.50  MooseX::Types::CheckedUtilExports                                               [ MD5: 557b5771665a6e0ec9ccfe638cecb5b7 ]
#        SL            0.50  MooseX::Types::Moose                                                            [ MD5: 50ab28fc41501c0c28f0dcd01ca1df26 ]
#        SL            0.50  MooseX::Types::TypeDecorator                                                    [ MD5: f141bb4c2a1c181421144011515c112b ]
#        SL            0.50  MooseX::Types::UndefinedType                                                    [ MD5: 2fd1fdbd0da64f6d55375bce8458d66d ]
#        SL            0.50  MooseX::Types::Util                                                             [ MD5: 39cdff774bdb7208e1c73892a26ccd3a ]
#        PA            1.20  mro                                                                             [ MD5: 55e173fa7c4aa8a39d0b12f002d01a84 ]
#        SL            0.13  MRO::Compat                                                                     [ MD5: 0e22f9bf6be934a1ef7ecc18c01ea6be ]
#        SL            0.29  namespace::autoclean                                                            [ MD5: cb986f01f8feabc7b72cc8e09d0aa1be ]
#        SL            0.27  namespace::clean                                                                [ MD5: f3e03f7f5f26391565d98357834e909b ]
#        PL            1.28  overload                                                                        [ MD5: c62689b45e22bba17c624608526f4735 ]
#        PL            0.02  overloading                                                                     [ MD5: 36e1b34f8175e036d57e51fd7d56becd ]
#        SL            0.17  Package::DeprecationManager                                                     [ MD5: 93dddddd7913b016f00963197be1c5f1 ]
#        SL            0.38  Package::Stash                                                                  [ MD5: eb2d8bc231d6485055686fba89992d05 ]
#        SA            0.29  Package::Stash::XS                                                              [ MD5: fd533e932b5895d3a734d7f04ee3bf87 ]
#        SA             2.3  PadWalker                                                                       [ MD5: 5e80e9a7c9da8a30875f3ba47072930c ]
#        SA            1.07  Params::Util                                                                    [ MD5: dae515c40e02b36de308e51ddf0e8edd ]
#        SA            1.29  Params::Validate                                                                [ MD5: 4533877989c6fa2c3b03cc56ba0db066 ]
#        SA            1.29  Params::Validate::Constants                                                     [ MD5: a3aace4389f328e3ff0461aeff514947 ]
#        SA            1.29  Params::Validate::XS                                                            [ MD5: 9e61da3ba690d844355689dbc98ae5c8 ]
#        PL           0.236  parent                                                                          [ MD5: 0e42f824a13eae5979d10017afc8227b ]
#   $INC[8]            0.37  Path::Class                                                                     [ MD5: 62b3248e0d25291933a8d0f09e731547 ]
#   $INC[8]            0.37  Path::Class::Dir                                                                [ MD5: 9b7bd783037e1e812d6a82d62bcecb92 ]
#   $INC[8]            0.37  Path::Class::Entity                                                             [ MD5: 8e14d34b8f5a0909736e9bdaac460848 ]
#   $INC[8]            0.37  Path::Class::File                                                               [ MD5: b7f9029ac9e90dc1d509a95d12103c69 ]
#                  5.026003  perl                                                                            [ MD5: 53b361a67777b7a1bfa62dea6c4ad64f ]
#        PL            1.10  PerlIO                                                                          [ MD5: 66c4f1af51bbeb98e0f6ca863f8d1615 ]
#        SL            0.23  Pod::Coverage                                                                   [ MD5: d53035083682c2a78d56d998ad7239d2 ]
#        PL            1.07  Pod::Escapes                                                                    [ MD5: 66b73dccf48caa9ab161e8c3805cf955 ]
#        PL            1.63  Pod::Find                                                                       [ MD5: 1e09437d4c107f7ef2690f6b9995dbd7 ]
#        PL            1.63  Pod::InputObjects                                                               [ MD5: 6b7a4d75d42c87da3929354fafa2a5a6 ]
#        PL            1.63  Pod::Parser                                                                     [ MD5: 9b166f82ac0afacbb4e2c0140725f29d ]
#        PL            3.35  Pod::Simple                                                                     [ MD5: 03b172786576111ae1236c243895abbf ]
#        PL            3.35  Pod::Simple::BlackBox                                                           [ MD5: 7eab1220fc7b44eab792bbf9ccc44edb ]
#        PL            3.35  Pod::Simple::LinkSection                                                        [ MD5: 3fae92494f87b19babe726623f5af431 ]
#        PA            1.76  POSIX                                                                           [ MD5: 8aae02d248a1a31666c00a44087aa82f ]
#        PA            0.34  re                                                                              [ MD5: 556fa9f92f0c82877d05589af0b73acb ]
#        PA         1.46_02  Scalar::Util                                                                    [ MD5: ecae1b10069f01e9e57bdfb10a0b0a2d ]
#        SL            0.21  Scope::Guard                                                                    [ MD5: 914494bdeb65cd340f14eae265635cf2 ]
#        PL            1.02  SelectSaver                                                                     [ MD5: bddc465e351ad0508581b94ef112d322 ]
#   $INC[4]            1.91  SQL::Abstract::Classic                                                          [ MD5: 82c47bb99257b1225bb3576458e85992 ]
#   $INC[6]                  SQL::Abstract::Tree                                                             [ MD5: 4ebd475571c49fd341fd961558c89c7b ]
#   $INC[4]                  SQL::Abstract::Util                                                             [ MD5: 4599b28bcd164597e690650c495bd658 ]
#        PA            2.62  Storable                                                                        [ MD5: 73d816d785406bc5c2de9059918a9a3c ]
#        PL            1.11  strict                                                                          [ MD5: 441328c7ffbbe42a0226ec65bde71715 ]
#        SL        2.006006  Sub::Defer                                                                      [ MD5: d3942ab62222394a34d49d8a4e5d7e69 ]
#        SL           0.987  Sub::Exporter                                                                   [ MD5: aa6b0dc0ffcf3831d4cee7da6d7e8330 ]
#        SL        0.100052  Sub::Exporter::ForMethods                                                       [ MD5: 50b7071f63f77815db48360df0b102c4 ]
#        SL        0.001013  Sub::Exporter::Progressive                                                      [ MD5: 5f37412f2438f87c7b088c7b2e6dd8ab ]
#        SL           0.987  Sub::Exporter::Util                                                             [ MD5: 9bfd22ab1afa835541f6a7d298ab90fc ]
#        SA            0.14  Sub::Identify                                                                   [ MD5: c5aa7af217a6440b522298715d770472 ]
#        SL           0.928  Sub::Install                                                                    [ MD5: f077d4c445e5cceebd5aab8460fd2d5e ]
#        SA            0.26  Sub::Name                                                                       [ MD5: 9ffca0ac7776cb7653a81b85330b6b71 ]
#        SL        2.006006  Sub::Quote                                                                      [ MD5: 5601633673df930e47b212c2022b4eec ]
#        PA         1.46_02  Sub::Util                                                                       [ MD5: 44ac17c070ae630a659627b6cc1764c2 ]
#        PL            1.08  Symbol                                                                          [ MD5: f261ff12097b376fceb636639aa228c8 ]
#        SL        1.302175  Test2::API                                                                      [ MD5: d1983ba3891687e857d3c93469e9e2d7 ]
#        SL        1.302175  Test2::API::Context                                                             [ MD5: 16c7122cf682ce97a6d890f346ffd5f3 ]
#        SL        1.302175  Test2::API::Instance                                                            [ MD5: 5f81686345af6174b38c6224f2403bba ]
#        SL        1.302175  Test2::API::Stack                                                               [ MD5: 390a27d1f5dadd5526e91a457a31cba6 ]
#        SL        1.302175  Test2::Event                                                                    [ MD5: 255ba3331df5630d025c8a2ebb7c4084 ]
#        SL        1.302175  Test2::Event::Bail                                                              [ MD5: 1921dd99bf3de4b07b1aeddf245e77bb ]
#        SL        1.302175  Test2::Event::Diag                                                              [ MD5: 414abd7638dd22da8359d930ac922417 ]
#        SL        1.302175  Test2::Event::Exception                                                         [ MD5: a511dc521fde59ce1893464930c898e8 ]
#        SL        1.302175  Test2::Event::Fail                                                              [ MD5: ccadb1c3596390bf05401269815a827c ]
#        SL        1.302175  Test2::Event::Note                                                              [ MD5: f0aa435e270b473a7879cd44c00e9b73 ]
#        SL        1.302175  Test2::Event::Ok                                                                [ MD5: 8d1203dce3b44d9a9ffd89380a68bc19 ]
#        SL        1.302175  Test2::Event::Pass                                                              [ MD5: a10fcd7f16d1a38b23542a3588996db0 ]
#        SL        1.302175  Test2::Event::Plan                                                              [ MD5: 8e1cfb4d420244b7d5f6c77fa735fe02 ]
#        SL        1.302175  Test2::Event::Skip                                                              [ MD5: e05963f72141b5a52ede71db6e69a081 ]
#        SL        1.302175  Test2::Event::Subtest                                                           [ MD5: 6bccccb6fa48057dc1102c29069d7de8 ]
#        SL        1.302175  Test2::Event::V2                                                                [ MD5: 0acd9ceb519e06c4144056db07db1e6f ]
#        SL        1.302175  Test2::Event::Waiting                                                           [ MD5: 41f6d9660d728231c7acbec65b4c9369 ]
#        SL        1.302175  Test2::EventFacet                                                               [ MD5: ccd0b5777ff33750208dc9c6574fe443 ]
#        SL        1.302175  Test2::EventFacet::About                                                        [ MD5: 824393373b6bbbddcc29799429ab60bf ]
#        SL        1.302175  Test2::EventFacet::Amnesty                                                      [ MD5: ea968a4ca99e2f082efc82ebcc7294d9 ]
#        SL        1.302175  Test2::EventFacet::Assert                                                       [ MD5: f86833e5754418437ac109b3c07f38d8 ]
#        SL        1.302175  Test2::EventFacet::Control                                                      [ MD5: 67930247270b8e0d04ef87aad5c59189 ]
#        SL        1.302175  Test2::EventFacet::Error                                                        [ MD5: 155bedc1cc2a95fd11bf18db6062f099 ]
#        SL        1.302175  Test2::EventFacet::Hub                                                          [ MD5: 92b40547b5857e22d0e7b6516f1db6fa ]
#        SL        1.302175  Test2::EventFacet::Info                                                         [ MD5: 61e18f9dfebdcf3e582e47f8e4a6768c ]
#        SL        1.302175  Test2::EventFacet::Meta                                                         [ MD5: f4dcc3e37e13d5a2e70692b87055481c ]
#        SL        1.302175  Test2::EventFacet::Parent                                                       [ MD5: 451b4635d4e5c371f8689d192ef8dbad ]
#        SL        1.302175  Test2::EventFacet::Plan                                                         [ MD5: 5f626273b92f3036f610077ca1760bc0 ]
#        SL        1.302175  Test2::EventFacet::Trace                                                        [ MD5: 1007a77dd6835873fc9db9de392b2691 ]
#        SL        1.302175  Test2::Formatter                                                                [ MD5: 14c19d8695e043401a5541ef8f3a2540 ]
#        SL        1.302175  Test2::Formatter::TAP                                                           [ MD5: 0546313aa2e94939f7cf5718cd78002b ]
#        SL        1.302175  Test2::Hub                                                                      [ MD5: 0917ee74ec68214466e699e5ec1654a9 ]
#        SL        1.302175  Test2::Hub::Interceptor                                                         [ MD5: 47e0f4c6ec56a980a0a0ef65e791a3ab ]
#        SL        1.302175  Test2::Hub::Interceptor::Terminator                                             [ MD5: 6ba8f4503b2ccf43f5f34748197cfcdc ]
#        SL        1.302175  Test2::Hub::Subtest                                                             [ MD5: 453227ed451b7d6499608d0217bf9bbe ]
#        SL        1.302175  Test2::Util                                                                     [ MD5: cc3b4051fa9b292783700bfcb612fc03 ]
#        SL        1.302175  Test2::Util::ExternalMeta                                                       [ MD5: dc871354c5ec2fca51b5df57579d0f6f ]
#        SL        1.302175  Test2::Util::Facets2Legacy                                                      [ MD5: d5d08fa31a436e5b2542fac000c7bc41 ]
#        SL        1.302175  Test2::Util::HashBase                                                           [ MD5: 3c4c3ef323a347f31c4a553eea6c6de6 ]
#        SL        1.302175  Test2::Util::Trace                                                              [ MD5: c198804a566119e6a0687601c36e1671 ]
#        SL        1.302175  Test::Builder                                                                   [ MD5: 5eed86a20783939f290cc33f6f33962c ]
#        SL        1.302175  Test::Builder::Formatter                                                        [ MD5: 67422fb66878fba113556b5b80227d29 ]
#        SL        1.302175  Test::Builder::Module                                                           [ MD5: 7a960d5d9cf11522e8e12394fca8e549 ]
#        SL        1.302175  Test::Builder::TodoDiag                                                         [ MD5: 1c3bf06663cc8235df6499196504b1a4 ]
#        SA          2.2012  Test::Moose                                                                     [ MD5: 2cf9205b9ecc7440537a775ef90e7bcd ]
#        SL        1.302175  Test::More                                                                      [ MD5: e2631fb22cbde9c1063e3c3bd5e5b70c ]
#        SL            1.52  Test::Pod                                                                       [ MD5: 57529b9abbdd5ecf857b9c354764eb31 ]
#        SL            1.10  Test::Pod::Coverage                                                             [ MD5: b751ee701f87277a9013c485f474424e ]
#        SL            0.52  Test::Strict                                                                    [ MD5: ef2aca15b1c442f7eaf533b540acf4ea ]
#        PL            1.05  Tie::Hash                                                                       [ MD5: acc4709f0adb89bef2863771b6995d2b ]
#        PA          1.9741  Time::HiRes                                                                     [ MD5: 1d000317cf75b2f0496533568e8a2711 ]
#        SL            0.30  Try::Tiny                                                                       [ MD5: d89736db8fa61623ca85dcccd3678b4d ]
#        SL             1.0  Types::Serialiser                                                               [ MD5: b409e70ebab79d5b48b44dde9574b411 ]
#        PL            1.19  utf8                                                                            [ MD5: 1e81482deb175e2b15443c5223ec2e17 ]
#        SA            0.62  Variable::Magic                                                                 [ MD5: f799b01d18fef4f04032b0737bca868c ]
#        PL            1.03  vars                                                                            [ MD5: 613c5318b87aa69b1145ca028f964445 ]
#        PL          0.9917  version                                                                         [ MD5: 0fbc5ad8182938d1d4069286b234f4a4 ]
#        PL          0.9917  version::regex                                                                  [ MD5: 20be5542bf2a20a4732c68d7e9e785be ]
#        PL            1.37  warnings                                                                        [ MD5: 0e16d816918d9c552dd93339cd3c7b49 ]
#        PL            1.04  warnings::register                                                              [ MD5: 2d8f6ce093a2176b982c0e12c0194b3b ]
#        PL            0.27  XSLoader                                                                        [ MD5: 899f9728852e657e953bac9b376308bb ]
# =============================
# 
# List of loadable modules within both *OPTIONAL* and core dependency chains
# present on this system (modules sourced from ./blib, ./lib, ./t, and ./xt
# with versions identical to their parent namespace were omitted for brevity)
# 
#     *** Note that *MANY* of these modules will *NEVER* be loaded ***
#             *** during normal operation of DBIx::Class ***
# 
# 
t/00describe_environment.t .......................... ok
t/100populate.t ..................................... ok
t/101populate_rs.t .................................. ok
t/101source.t ....................................... ok
t/102load_classes.t ................................. ok
t/103many_to_many_warning.t ......................... ok
t/104view.t ......................................... ok
t/106dbic_carp.t .................................... ok
t/107obj_result_class.t ............................. ok
t/18insert_default.t ................................ ok
t/20setuperrors.t ................................... ok
t/19retrieve_on_insert.t ............................ ok
t/26dumper.t ........................................ ok
t/33exception_wrap.t ................................ ok
t/35exception_inaction.t ............................ ok
t/34exception_action.t .............................. ok
t/39load_namespaces_1.t ............................. ok
t/39load_namespaces_2.t ............................. ok
t/39load_namespaces_3.t ............................. ok
t/39load_namespaces_4.t ............................. ok
t/39load_namespaces_exception.t ..................... ok
t/39load_namespaces_rt41083.t ....................... ok
t/39load_namespaces_stress.t ........................ ok
t/40resultsetmanager.t .............................. ok
t/40compose_connection.t ............................ ok
t/50fork.t .......................................... skipped: Test needs DBD::Pg (see DBIx::Class::Optional::Dependencies for details)
t/51threadnodb.t .................................... skipped: your perl does not support ithreads
t/51threads.t ....................................... skipped: your perl does not support ithreads
t/51threadtxn.t ..................................... skipped: your perl does not support ithreads
t/46where_attribute.t ............................... ok
t/53lean_startup.t .................................. ok
t/52leaks.t ......................................... ok
t/60core.t .......................................... ok
t/61findnot.t ....................................... ok
t/63register_class.t ................................ ok
t/63register_column.t ............................... ok
t/63register_source.t ............................... ok
t/64db.t ............................................ ok
t/65multipk.t ....................................... ok
t/69update.t ........................................ ok
t/55namespaces_cleaned.t ............................ ok
t/70auto.t .......................................... ok
t/71mysql.t ......................................... skipped: Set $ENV{DBICTEST_MYSQL_DSN}, _USER and _PASS to run this test
t/72pg.t ............................................ skipped: Set $ENV{DBICTEST_PG_DSN}, _USER and _PASS to run this test
t/72pg_bytea.t ...................................... skipped: Test needs DBD::Pg (see DBIx::Class::Optional::Dependencies for details)
t/73oracle.t ........................................ skipped: Set $ENV{DBICTEST_ORA_DSN}, _USER and _PASS to run this test.
t/73oracle_blob.t ................................... skipped: Set $ENV{DBICTEST_ORA_DSN}, _USER and _PASS to run this test.
t/745db2.t .......................................... skipped: Set $ENV{DBICTEST_DB2_DSN}, _USER and _PASS to run this test
t/73oracle_hq.t ..................................... skipped: Set $ENV{DBICTEST_ORA_DSN}, _USER and _PASS to run this test.
t/746db2_400.t ...................................... skipped: Set $ENV{DBICTEST_DB2_400_DSN}, _USER and _PASS to run this test
t/746mssql.t ........................................ skipped: Set $ENV{DBICTEST_MSSQL_ODBC_DSN}, _USER and _PASS to run this test
t/746sybase.t ....................................... skipped: Set $ENV{DBICTEST_SYBASE_DSN}, _USER and _PASS to run this test. Warning: This test drops and creates the tables: 'artist', 'money_test' and 'bindtype_test'
t/747mssql_ado.t .................................... skipped: Set $ENV{DBICTEST_MSSQL_ADO_DSN}, _USER and _PASS to run this test
t/748informix.t ..................................... skipped: Set $ENV{DBICTEST_INFORMIX_DSN}, _USER and _PASS to run this test
t/749sqlanywhere.t .................................. skipped: Set $ENV{DBICTEST_SQLANYWHERE_DSN} and/or $ENV{DBICTEST_SQLANYWHERE_ODBC_DSN},
t/74mssql.t ......................................... skipped: Set $ENV{DBICTEST_MSSQL_DSN}, _USER and _PASS to run this test
t/750firebird.t ..................................... skipped: Set $ENV{DBICTEST_FIREBIRD_DSN} and/or $ENV{DBICTEST_FIREBIRD_INTERBASE_DSN} and/or $ENV{DBICTEST_FIREBIRD_ODBC_DSN}, _USER and _PASS to run these tests. WARNING: this test creates and drops the tables "artist", "bindtype_test" and "sequence_test"; the generators "gen_artist_artistid", "pkid1_seq", "pkid2_seq" and "nonpkid_seq" and the trigger "artist_bi".
t/751msaccess.t ..................................... skipped: Set $ENV{DBICTEST_MSACCESS_ODBC_DSN} and/or $ENV{DBICTEST_MSACCESS_ADO_DSN} (and optionally _USER and _PASS) to run these tests.
t/76joins.t ......................................... ok
t/76select.t ........................................ ok
t/752sqlite.t ....................................... ok
t/77join_count.t .................................... ok
t/78self_referencial.t .............................. ok
t/79aliasing.t ...................................... ok
t/80unique.t ........................................ ok
t/82cascade_copy.t .................................. ok
t/83cache.t ......................................... ok
t/84serialize.t ..................................... ok
t/85utf8.t .......................................... ok
t/86sqlt.t .......................................... skipped: Test needs SQL::Translator >= 0.11018 (see DBIx::Class::Optional::Dependencies for details)
t/86might_have.t .................................... ok
t/88result_set_column.t ............................. ok
t/90ensure_class_loaded.t ........................... ok
t/90join_torture.t .................................. ok
t/91merge_joinpref_attr.t ........................... ok
t/93autocast.t ...................................... ok
t/93single_accessor_object.t ........................ ok
t/94pk_mutation.t ................................... ok
t/94versioning.t .................................... skipped: Set $ENV{DBICTEST_MYSQL_DSN}, _USER and _PASS to run this test
t/96_is_deteministic_value.t ........................ skipped: Test needs DateTime >= 0.55, DateTime::Format::Strptime >= 1.2
t/87ordered.t ....................................... ok
t/97result_class.t .................................. ok
t/99dbic_sqlt_parser.t .............................. skipped: Test needs SQL::Translator >= 0.11018 (see DBIx::Class::Optional::Dependencies for details)
t/admin/01load.t .................................... skipped: Test needs JSON::Any >= 1.23, MooseX::Types::JSON >= 0.02, MooseX::Types::LoadableClass >= 0.011, MooseX::Types::Path::Class >= 0.05 (see DBIx::Class::Optional::Dependencies for details)
t/admin/02ddl.t ..................................... skipped: Test needs JSON::Any >= 1.23, MooseX::Types::JSON >= 0.02, MooseX::Types::LoadableClass >= 0.011, MooseX::Types::Path::Class >= 0.05 (see DBIx::Class::Optional::Dependencies for details)
t/admin/03data.t .................................... skipped: Test needs JSON::Any >= 1.23, MooseX::Types::JSON >= 0.02, MooseX::Types::LoadableClass >= 0.011, MooseX::Types::Path::Class >= 0.05 (see DBIx::Class::Optional::Dependencies for details)
t/admin/10script.t .................................. skipped: Test needs JSON::Any >= 1.31, JSON::DWIW, MooseX::Types::JSON >= 0.02, MooseX::Types::LoadableClass >= 0.011, MooseX::Types::Path::Class >= 0.05, Text::CSV >= 1.16
t/cdbi/01-columns.t ................................. skipped: Class::DBI required for this test
t/cdbi/02-Film.t .................................... skipped: Class::DBI required for this test
t/cdbi/03-subclassing.t ............................. skipped: Class::DBI required for this test
t/cdbi/04-lazy.t .................................... skipped: Class::DBI required for this test
t/cdbi/06-hasa.t .................................... skipped: Class::DBI required for this test
t/cdbi/08-inheritcols.t ............................. skipped: Class::DBI required for this test
t/cdbi/09-has_many.t ................................ skipped: Class::DBI required for this test
t/cdbi/11-triggers.t ................................ skipped: Class::DBI required for this test
t/cdbi/12-filter.t .................................. skipped: Class::DBI required for this test
t/cdbi/13-constraint.t .............................. skipped: Class::DBI required for this test
t/cdbi/14-might_have.t .............................. skipped: Class::DBI required for this test
t/cdbi/15-accessor.t ................................ skipped: Class::DBI required for this test
t/cdbi/16-reserved.t ................................ skipped: Class::DBI required for this test
t/cdbi/18-has_a.t ................................... skipped: Class::DBI required for this test
t/cdbi/19-set_sql.t ................................. skipped: Class::DBI required for this test
t/cdbi/21-iterator.t ................................ skipped: Class::DBI required for this test
t/cdbi/22-deflate_order.t ........................... skipped: Class::DBI required for this test
t/cdbi/22-self_referential.t ........................ skipped: Class::DBI required for this test
t/cdbi/23-cascade.t ................................. skipped: Class::DBI required for this test
t/cdbi/24-meta_info.t ............................... skipped: Class::DBI required for this test
t/cdbi/26-mutator.t ................................. skipped: Class::DBI required for this test
t/cdbi/30-pager.t ................................... skipped: Class::DBI required for this test
t/cdbi/70_implicit_inflate.t ........................ skipped: Test needs DateTime >= 0.55, DateTime::Format::SQLite, DateTime::Format::Strptime >= 1.2
t/cdbi/68-inflate_has_a.t ........................... skipped: Class::DBI required for this test
t/cdbi/71_column_object.t ........................... skipped: The tested functionality is only available in Class::DBI >= 3.0.5
t/cdbi/98-failure.t ................................. skipped: Class::DBI required for this test
t/cdbi/abstract/search_where.t ...................... skipped: Class::DBI required for this test
t/cdbi/columns_as_hashes.t .......................... skipped: Class::DBI required for this test
t/cdbi/columns_dont_override_custom_accessors.t ..... skipped: Class::DBI required for this test
t/cdbi/construct.t .................................. skipped: Class::DBI required for this test
t/cdbi/copy.t ....................................... skipped: Class::DBI required for this test
t/cdbi/DeepAbstractSearch/01_search.t ............... skipped: Class::DBI required for this test
t/cdbi/early_column_heisenbug.t ..................... skipped: Class::DBI required for this test
t/cdbi/has_many_loads_foreign_class.t ............... skipped: Class::DBI required for this test
t/cdbi/hasa_without_loading.t ....................... skipped: Class::DBI required for this test
t/cdbi/max_min_value_of.t ........................... skipped: Class::DBI required for this test
t/cdbi/mk_group_accessors.t ......................... skipped: Class::DBI required for this test
t/cdbi/multi_column_set.t ........................... skipped: Class::DBI required for this test
t/cdbi/object_cache.t ............................... skipped: Class::DBI required for this test
t/cdbi/retrieve_from_sql_with_limit.t ............... skipped: Class::DBI required for this test
t/cdbi/set_to_undef.t ............................... skipped: Class::DBI required for this test
t/cdbi/set_vs_DateTime.t ............................ skipped: Class::DBI required for this test
t/cdbi/sweet/08pager.t .............................. skipped: Class::DBI required for this test
t/count/count_rs.t .................................. ok
t/count/distinct.t .................................. ok
t/count/group_by_func.t ............................. ok
t/count/grouped_pager.t ............................. ok
t/count/in_subquery.t ............................... ok
t/count/joined.t .................................... ok
t/count/prefetch.t .................................. ok
t/debug/bulk-insert.t ............................... ok
t/count/search_related.t ............................ ok
t/debug/no-repeats.t ................................ ok
t/debug/core.t ...................................... ok
t/debug/pretty.t .................................... skipped: Test needs JSON::Any >= 1.23
t/debug/show-progress.t ............................. ok
t/delete/cascade_missing.t .......................... ok
t/delete/complex.t .................................. ok
t/delete/m2m.t ...................................... ok
t/delete/related.t .................................. ok
t/discard_changes_in_DESTROY.t ...................... ok
t/inflate/core.t .................................... skipped: Inflation tests need DateTime >= 0.55, DateTime::Format::Strptime >= 1.2
t/inflate/datetime_determine_parser.t ............... skipped: Test needs DateTime >= 0.55, DateTime::Format::SQLite, DateTime::Format::Strptime >= 1.2
t/inflate/datetime.t ................................ skipped: DT inflation tests need DateTime >= 0.55, DateTime::Format::SQLite, DateTime::Format::Strptime >= 1.2
t/inflate/datetime_firebird.t ....................... skipped: Set $ENV{DBICTEST_FIREBIRD_DSN} and/or $ENV{DBICTEST_FIREBIRD_INTERBASE_DSN} and/or $ENV{DBICTEST_FIREBIRD_ODBC_DSN}, _USER and _PASS to run these tests. WARNING: This test drops and creates a table called 'event'
t/inflate/datetime_informix.t ....................... skipped: Test needs DateTime >= 0.55, DateTime::Format::Strptime >= 1.2 and
t/inflate/datetime_missing_deps.t ................... ok
t/inflate/datetime_msaccess.t ....................... skipped: Set $ENV{DBICTEST_MSACCESS_ODBC_DSN} and/or $ENV{DBICTEST_MSACCESS_ADO_DSN} (and optionally _USER and _PASS) to run these tests.
t/inflate/datetime_mysql.t .......................... skipped: Inflation tests need DateTime >= 0.55, DateTime::Format::MySQL, DateTime::Format::Strptime >= 1.2
t/inflate/datetime_mssql.t .......................... skipped: Set $ENV{DBICTEST_MSSQL_ODBC_DSN} and/or $ENV{DBICTEST_MSSQL_DSN} and/or $ENV{DBICTEST_MSSQL_ADO_DSN} _USER and _PASS to run this test
t/inflate/datetime_oracle.t ......................... skipped: Set $ENV{DBICTEST_ORA_DSN}, _USER and _PASS to run this test. Warning: This test drops and creates a table called 'event'
t/inflate/datetime_pg.t ............................. skipped: Test needs DateTime >= 0.55, DateTime::Format::Pg >= 0.16004, DateTime::Format::Strptime >= 1.2
t/inflate/datetime_sqlanywhere.t .................... skipped: Set $ENV{DBICTEST_SQLANYWHERE_DSN} and/or $ENV{DBICTEST_SQLANYWHERE_ODBC_DSN}
t/inflate/datetime_sybase.t ......................... skipped: Test needs DateTime >= 0.55, DateTime::Format::Strptime >= 1.2 and
t/inflate/file_column.t ............................. ok
t/inflate/hri.t ..................................... ok
t/inflate/serialize.t ............................... ok
t/inflate/hri_torture.t ............................. ok
t/multi_create/cd_single.t .......................... ok
t/multi_create/diamond.t ............................ ok
t/multi_create/existing_in_chain.t .................. ok
t/multi_create/find_or_multicreate.t ................ ok
t/multi_create/has_many.t ........................... ok
t/multi_create/in_memory.t .......................... ok
t/multi_create/insert_defaults.t .................... ok
t/multi_create/m2m.t ................................ ok
t/multi_create/reentrance_count.t ................... skipped: Disable test entirely until multicreate is rewritten in terms of subqueries
t/multi_create/multilev_single_PKeqFK.t ............. ok
t/multi_create/standard.t ........................... ok
t/multi_create/torture.t ............................ ok
t/ordered/cascade_delete.t .......................... ok
t/ordered/unordered_movement.t ...................... ok
t/pager/data_page_compat/constructor.t .............. ok
t/pager/data_page_compat/simple.t ................... ok
t/pager/dbic_core.t ................................. ok
t/prefetch/attrs_untouched.t ........................ ok
t/prefetch/correlated.t ............................. ok
t/prefetch/count.t .................................. ok
t/prefetch/double_prefetch.t ........................ ok
t/prefetch/empty_cache.t ............................ ok
t/prefetch/false_colvalues.t ........................ ok
t/prefetch/grouped.t ................................ ok
t/prefetch/diamond.t ................................ ok
t/prefetch/incomplete.t ............................. ok
t/prefetch/join_type.t .............................. ok
t/prefetch/lazy_cursor.t ............................ ok
t/prefetch/multiple_hasmany.t ....................... ok
t/prefetch/manual.t ................................. ok
t/prefetch/multiple_hasmany_torture.t ............... ok
t/prefetch/o2m_o2m_order_by_with_limit.t ............ ok
t/prefetch/one_to_many_to_one.t ..................... ok
t/prefetch/refined_search_on_relation.t ............. ok
t/prefetch/restricted_children_set.t ................ ok
t/prefetch/standard.t ............................... ok
t/prefetch/via_search_related.t ..................... ok
t/prefetch/with_limit.t ............................. ok
t/relationship/after_update.t ....................... ok
t/relationship/core.t ............................... ok
t/relationship/custom_opaque.t ...................... ok
t/relationship/custom.t ............................. ok
t/relationship/custom_with_null_in_cond.t ........... ok
t/relationship/doesnt_exist.t ....................... ok
t/relationship/dynamic_foreign_columns.t ............ ok
t/relationship/info.t ............................... ok
t/relationship/malformed_declaration.t .............. ok
t/relationship/proxy.t .............................. ok
t/relationship/set_column_on_fk.t ................... ok
t/relationship/unresolvable.t ....................... ok
t/relationship/update_or_create_multi.t ............. ok
t/relationship/update_or_create_single.t ............ ok
t/resultset/as_query.t .............................. ok
t/resultset/as_subselect_rs.t ....................... ok
t/resultset/bind_attr.t ............................. ok
t/resultset/find_on_subquery_cond.t ................. ok
t/resultset/inflate_result_api.t .................... ok
t/resultset/inflatemap_abuse.t ...................... ok
t/resultset/is_ordered.t ............................ ok
t/resultset/is_paged.t .............................. ok
t/resultset/nulls_only.t ............................ ok
t/resultset/plus_select.t ........................... ok
t/resultset/rowparser_internals.t ................... ok
t/resultset/update_delete.t ......................... ok
t/resultset_class.t ................................. ok
t/resultset_overload.t .............................. ok
t/resultsource/set_primary_key.t .................... ok
t/resultsource/bare_resultclass_exception.t ......... ok
t/row/copy_with_extra_selection.t ................... ok
t/row/filter_column.t ............................... ok
t/row/find_one_has_many.t ........................... ok
t/row/inflate_result.t .............................. ok
t/row/pkless.t ...................................... ok
t/row/set_extra_column.t ............................ ok
t/schema/anon.t ..................................... ok
t/schema/clone.t .................................... ok
t/search/deprecated_attributes.t .................... ok
t/search/distinct.t ................................. ok
t/search/empty_attrs.t .............................. ok
t/search/preserve_original_rs.t ..................... ok
t/search/reentrancy.t ............................... ok
t/search/related_has_many.t ......................... ok
t/search/related_strip_prefetch.t ................... ok
t/search/select_chains.t ............................ ok
t/search/select_chains_unbalanced.t ................. ok
t/search/stack_cond.t ............................... ok
t/search/subquery.t ................................. ok
t/search/void.t ..................................... ok
t/sqlmaker/core.t ................................... ok
t/sqlmaker/bind_transport.t ......................... ok
t/sqlmaker/core_quoted.t ............................ ok
t/sqlmaker/hierarchical/oracle.t .................... skipped: Test needs Math::Base36 >= 0.07
t/sqlmaker/legacy_joins.t ........................... ok
t/sqlmaker/limit_dialects/basic.t ................... ok
t/sqlmaker/limit_dialects/custom.t .................. ok
t/sqlmaker/limit_dialects/fetch_first.t ............. ok
t/sqlmaker/limit_dialects/first_skip.t .............. ok
t/sqlmaker/limit_dialects/generic_subq.t ............ ok
t/sqlmaker/dbihacks_internals.t ..................... ok
t/sqlmaker/limit_dialects/mssql_torture.t ........... ok
t/sqlmaker/limit_dialects/rno.t ..................... ok
t/sqlmaker/limit_dialects/rownum.t .................. ok
t/sqlmaker/limit_dialects/skip_first.t .............. ok
t/sqlmaker/limit_dialects/toplimit.t ................ ok
t/sqlmaker/literal_with_bind.t ...................... ok
t/sqlmaker/limit_dialects/torture.t ................. ok
t/sqlmaker/msaccess.t ............................... ok
t/sqlmaker/mysql.t .................................. ok
t/sqlmaker/oracle.t ................................. skipped: Test needs Math::Base36 >= 0.07
t/sqlmaker/oraclejoin.t ............................. skipped: Test needs Math::Base36 >= 0.07
t/sqlmaker/nest_deprec.t ............................ ok
t/sqlmaker/order_by_func.t .......................... ok
t/sqlmaker/order_by_bindtransport.t ................. ok
t/sqlmaker/pg.t ..................................... ok
t/sqlmaker/quotes.t ................................. ok
t/sqlmaker/rebase.t ................................. ok
t/sqlmaker/sqlite.t ................................. ok
t/storage/cursor.t .................................. ok
t/storage/base.t .................................... ok
t/storage/dbh_do.t .................................. ok
t/storage/dbi_coderef.t ............................. ok
t/storage/deploy.t .................................. skipped: Test needs SQL::Translator >= 0.11018 (see DBIx::Class::Optional::Dependencies for details)
t/storage/deprecated_exception_source_bind_attrs.t .. ok
t/storage/dbi_env.t ................................. ok
t/storage/disable_sth_caching.t ..................... ok
t/storage/error.t ................................... ok
t/storage/exception.t ............................... ok
t/storage/global_destruction.t ...................... ok
t/storage/nobindvars.t .............................. ok
t/storage/on_connect_call.t ......................... ok
t/storage/on_connect_do.t ........................... ok
t/storage/ping_count.t .............................. ok
t/storage/prefer_stringification.t .................. ok
t/storage/quote_names.t ............................. ok
t/storage/reconnect.t ............................... ok
t/storage/replicated.t .............................. skipped: Test needs MooseX::Types::LoadableClass >= 0.011
t/storage/savepoints.t .............................. ok
t/storage/stats.t ................................... ok
t/storage/txn_scope_guard.t ......................... ok
t/storage/txn.t ..................................... ok
t/update/all.t ...................................... ok
t/update/ident_cond.t ............................... ok
t/update/type_aware.t ............................... ok
# 
# 
# 
# 211 contributors made this library what it is today
# 
# 
# Distinguished patrons:
#   * ( 2014 ~ 2015 ) Henry Van Styn, creator of http://p3rl.org/RapidApp
# 
# 
t/zzzzzzz_authors.t ................................. ok
t/zzzzzzz_perl_perf_bug.t ........................... skipped: Skipping as system appears to be a smoker
xt/authors.t ........................................ ok
t/zzzzzzz_sqlite_deadlock.t ......................... ok
xt/dbictest_unlink_guard.t .......................... ok
xt/old_envvars.t .................................... ok
xt/footers.t ........................................ ok
xt/optional_deps.t .................................. ok
xt/podcoverage.t .................................... ok
xt/quote_sub.t ...................................... ok
xt/pod.t ............................................ ok
xt/strictures.t ..................................... ok
xt/whitespace.t ..................................... skipped: Test needs: Test::EOL >= 1.0, Test::NoTabs >= 0.9
xt/standalone_testschema_resultclasses.t ............ ok
All tests successful.

Test Summary Report
-------------------
t/sqlmaker/limit_dialects/generic_subq.t          (Wstat: 0 Tests: 19 Failed: 0)
  TODO passed:   9, 11, 13, 15, 17
Files=325, Tests=43880, 448 wallclock secs (15.85 usr  3.37 sys + 567.63 cusr 90.77 csys = 677.62 CPU)
Result: PASS

------------------------------
PREREQUISITES
------------------------------

Prerequisite modules loaded:

requires:

    Module                   Need     Have    
    ------------------------ -------- --------
    Class::Accessor::Grouped 0.10012  0.10014 
    Class::C3::Componentised 1.0009   1.001002
    Class::Inspector         1.24     1.36    
    Config::Any              0.20     0.32    
    Context::Preserve        0.01     0.03    
    Data::Dumper::Concise    2.020    2.023   
    DBD::SQLite              1.29     1.64    
    DBI                      1.57     1.643   
    Devel::GlobalDestruction 0.09     0.14    
    File::Temp               0.22     0.2309  
    Hash::Merge              0.12     0.302   
    Module::Find             0.07     0.15    
    Moo                      2.000    2.004000
    MRO::Compat              0.12     0.13    
    namespace::clean         0.24     0.27    
    Package::Stash           0.28     0.38    
    Path::Class              0.18     0.37    
    perl                     5.008001 5.026003
    Scope::Guard             0.03     0.21    
    SQL::Abstract::Classic   1.91     1.91    
    Sub::Name                0.04     0.26    
    Test::Deep               0.101    1.130   
    Test::Exception          0.31     0.43    
    Test::More               0.94     1.302175
    Test::Warn               0.21     0.36    
    Text::Balanced           2.00     2.03    
    Try::Tiny                0.07     0.30    

build_requires:

    Module                   Need     Have    
    ------------------------ -------- --------
    DBD::SQLite              1.29     1.64    
    ExtUtils::MakeMaker      6.59     7.44    
    File::Temp               0.22     0.2309  
    Package::Stash           0.28     0.38    
    Test::Deep               0.101    1.130   
    Test::Exception          0.31     0.43    
    Test::More               0.94     1.302175
    Test::Warn               0.21     0.36    

configure_requires:

    Module                   Need     Have    
    ------------------------ -------- --------
    ExtUtils::MakeMaker      6.59     7.44    


------------------------------
ENVIRONMENT AND OTHER CONTEXT
------------------------------

Environment variables:

    AUTOMATED_TESTING = 1
    HARNESS_OPTIONS = c:j2
    PATH = /home/smoker/perl5/perlbrew/bin:/home/smoker/perl5/perlbrew/perls/perl-5.26.3-multi/bin:/usr/local/sbin:/usr/local/bin:/usr/sbin:/usr/bin:/sbin:/bin:
    PERL5LIB = /home/smoker/.cpan/build/SQL-Abstract-Classic-1.91-0/blib/arch:/home/smoker/.cpan/build/SQL-Abstract-Classic-1.91-0/blib/lib:/home/smoker/.cpan/build/SQL-Abstract-2.000001-0/blib/arch:/home/smoker/.cpan/build/SQL-Abstract-2.000001-0/blib/lib:/home/smoker/.cpan/build/Path-Class-0.37-0/blib/arch:/home/smoker/.cpan/build/Path-Class-0.37-0/blib/lib:/home/smoker/.cpan/build/Hash-Merge-0.302-0/blib/arch:/home/smoker/.cpan/build/Hash-Merge-0.302-0/blib/lib:/home/smoker/.cpan/build/Clone-Choose-0.010-0/blib/arch:/home/smoker/.cpan/build/Clone-Choose-0.010-0/blib/lib:/home/smoker/.cpan/build/Data-Dumper-Concise-2.023-0/blib/arch:/home/smoker/.cpan/build/Data-Dumper-Concise-2.023-0/blib/lib:/home/smoker/.cpan/build/Context-Preserve-0.03-0/blib/arch:/home/smoker/.cpan/build/Context-Preserve-0.03-0/blib/lib:/home/smoker/.cpan/build/Class-Unload-0.11-0/blib/arch:/home/smoker/.cpan/build/Class-Unload-0.11-0/blib/lib:/home/smoker/.cpan/build/Class-C3-Componentised-1.001002-0/blib/arch:/home/smoker/.cpan/build/Class-C3-Componentised-1.001002-0/blib/lib:/home/smoker/.cpan/build/Class-C3-0.35-0/blib/arch:/home/smoker/.cpan/build/Class-C3-0.35-0/blib/lib:/home/smoker/.cpan/build/Algorithm-C3-0.11-0/blib/arch:/home/smoker/.cpan/build/Algorithm-C3-0.11-0/blib/lib:/home/smoker/.cpan/build/Class-Accessor-Grouped-0.10014-0/blib/arch:/home/smoker/.cpan/build/Class-Accessor-Grouped-0.10014-0/blib/lib
    PERL5OPT = 
    PERL5_CPANPLUS_IS_RUNNING = 31
    PERL5_CPAN_IS_RUNNING = 31
    PERL5_CPAN_IS_RUNNING_IN_RECURSION = 1,31
    PERLBREW_HOME = /home/smoker/.perlbrew
    PERLBREW_MANPATH = /home/smoker/perl5/perlbrew/perls/perl-5.26.3-multi/man
    PERLBREW_PATH = /home/smoker/perl5/perlbrew/bin:/home/smoker/perl5/perlbrew/perls/perl-5.26.3-multi/bin
    PERLBREW_PERL = perl-5.26.3-multi
    PERLBREW_ROOT = /home/smoker/perl5/perlbrew
    PERLBREW_SHELLRC_VERSION = 0.88
    PERLBREW_VERSION = 0.88
    PERL_USE_UNSAFE_INC = 1
    SHELL = /bin/bash
    TERM = xterm
    TMPDIR = /tmp/testwrapper.18

Perl special variables (and OS-specific diagnostics, for MSWin32):

    $^X = /home/smoker/perl5/perlbrew/perls/perl-5.26.3-multi/bin/perl5.26.3
    $UID/$EUID = 1000 / 1000
    $GID = 1000
    $EGID = 1000

Perl module toolchain versions installed:

    Module              Have      
    ------------------- ----------
    CPAN                2.18      
    CPAN::Meta          2.150010  
    Cwd                 3.75      
    ExtUtils::CBuilder  0.280225  
    ExtUtils::Command   7.44      
    ExtUtils::Install   2.06      
    ExtUtils::MakeMaker 7.44      
    ExtUtils::Manifest  1.70      
    ExtUtils::ParseXS   3.34      
    File::Spec          3.75      
    JSON                4.02      
    JSON::PP            2.27400_02
    Module::Build       0.4231    
    Module::Signature   n/a       
    Parse::CPAN::Meta   2.150010  
    Test::Harness       3.38      
    Test::More          1.302175  
    YAML                1.30      
    YAML::Syck          1.32      
    version             0.9917    


--

Summary of my perl5 (revision 5 version 26 subversion 3) configuration:
   
  Platform:
    osname=linux
    osvers=5.3.0-1018-oracle
    archname=x86_64-linux-multi
    uname='linux a5c78c39564b 5.3.0-1018-oracle #20~18.04.1-ubuntu smp mon may 11 12:47:44 utc 2020 x86_64 gnulinux '
    config_args='-de -Dprefix=/home/smoker/perl5/perlbrew/perls/perl-5.26.3-multi -Dusedevel -Dusemultiplicity -Accflags=-O2 -pipe -Wall -Wextra -mtune=native -march=native -Aeval:scriptdir=/home/smoker/perl5/perlbrew/perls/perl-5.26.3-multi/bin'
    hint=recommended
    useposix=true
    d_sigaction=define
    useithreads=undef
    usemultiplicity=define
    use64bitint=define
    use64bitall=define
    uselongdouble=undef
    usemymalloc=n
    default_inc_excludes_dot=define
    bincompat5005=undef
  Compiler:
    cc='cc'
    ccflags ='-O2 -pipe -Wall -Wextra -mtune=native -march=native -fwrapv -fno-strict-aliasing -fstack-protector-strong -I/usr/local/include -D_LARGEFILE_SOURCE -D_FILE_OFFSET_BITS=64 -D_FORTIFY_SOURCE=2'
    optimize='-O2'
    cppflags='-O2 -pipe -Wall -Wextra -mtune=native -march=native -fwrapv -fno-strict-aliasing -fstack-protector-strong -I/usr/local/include'
    ccversion=''
    gccversion='8.3.0'
    gccosandvers=''
    intsize=4
    longsize=8
    ptrsize=8
    doublesize=8
    byteorder=12345678
    doublekind=3
    d_longlong=define
    longlongsize=8
    d_longdbl=define
    longdblsize=16
    longdblkind=3
    ivtype='long'
    ivsize=8
    nvtype='double'
    nvsize=8
    Off_t='off_t'
    lseeksize=8
    alignbytes=8
    prototype=define
  Linker and Libraries:
    ld='cc'
    ldflags =' -fstack-protector-strong -L/usr/local/lib'
    libpth=/usr/local/lib /usr/lib/gcc/x86_64-linux-gnu/8/include-fixed /usr/include/x86_64-linux-gnu /usr/lib /lib/x86_64-linux-gnu /lib/../lib /usr/lib/x86_64-linux-gnu /usr/lib/../lib /lib
    libs=-lpthread -lnsl -ldl -lm -lcrypt -lutil -lc
    perllibs=-lpthread -lnsl -ldl -lm -lcrypt -lutil -lc
    libc=libc-2.28.so
    so=so
    useshrplib=false
    libperl=libperl.a
    gnulibc_version='2.28'
  Dynamic Linking:
    dlsrc=dl_dlopen.xs
    dlext=so
    d_dlsymun=undef
    ccdlflags='-Wl,-E'
    cccdlflags='-fPIC'
    lddlflags='-shared -O2 -L/usr/local/lib -fstack-protector-strong'


Characteristics of this binary (from libperl): 
  Compile-time options:
    HAS_TIMES
    MULTIPLICITY
    PERLIO_LAYERS
    PERL_COPY_ON_WRITE
    PERL_DONT_CREATE_GVSV
    PERL_IMPLICIT_CONTEXT
    PERL_MALLOC_WRAP
    PERL_OP_PARENT
    PERL_PRESERVE_IVUV
    PERL_USE_DEVEL
    USE_64_BIT_ALL
    USE_64_BIT_INT
    USE_LARGE_FILES
    USE_LOCALE
    USE_LOCALE_COLLATE
    USE_LOCALE_CTYPE
    USE_LOCALE_NUMERIC
    USE_LOCALE_TIME
    USE_PERLIO
    USE_PERL_ATOF
  Locally applied patches:
    Devel::PatchPerl 2.00
  Built under linux
  Compiled at Jun  9 2020 22:28:58
  %ENV:
    PERL5LIB="/home/smoker/.cpan/build/SQL-Abstract-Classic-1.91-0/blib/arch:/home/smoker/.cpan/build/SQL-Abstract-Classic-1.91-0/blib/lib:/home/smoker/.cpan/build/SQL-Abstract-2.000001-0/blib/arch:/home/smoker/.cpan/build/SQL-Abstract-2.000001-0/blib/lib:/home/smoker/.cpan/build/Path-Class-0.37-0/blib/arch:/home/smoker/.cpan/build/Path-Class-0.37-0/blib/lib:/home/smoker/.cpan/build/Hash-Merge-0.302-0/blib/arch:/home/smoker/.cpan/build/Hash-Merge-0.302-0/blib/lib:/home/smoker/.cpan/build/Clone-Choose-0.010-0/blib/arch:/home/smoker/.cpan/build/Clone-Choose-0.010-0/blib/lib:/home/smoker/.cpan/build/Data-Dumper-Concise-2.023-0/blib/arch:/home/smoker/.cpan/build/Data-Dumper-Concise-2.023-0/blib/lib:/home/smoker/.cpan/build/Context-Preserve-0.03-0/blib/arch:/home/smoker/.cpan/build/Context-Preserve-0.03-0/blib/lib:/home/smoker/.cpan/build/Class-Unload-0.11-0/blib/arch:/home/smoker/.cpan/build/Class-Unload-0.11-0/blib/lib:/home/smoker/.cpan/build/Class-C3-Componentised-1.001002-0/blib/arch:/home/smoker/.cpan/build/Class-C3-Componentised-1.001002-0/blib/lib:/home/smoker/.cpan/build/Class-C3-0.35-0/blib/arch:/home/smoker/.cpan/build/Class-C3-0.35-0/blib/lib:/home/smoker/.cpan/build/Algorithm-C3-0.11-0/blib/arch:/home/smoker/.cpan/build/Algorithm-C3-0.11-0/blib/lib:/home/smoker/.cpan/build/Class-Accessor-Grouped-0.10014-0/blib/arch:/home/smoker/.cpan/build/Class-Accessor-Grouped-0.10014-0/blib/lib"
    PERL5OPT=""
    PERL5_CPANPLUS_IS_RUNNING="31"
    PERL5_CPAN_IS_RUNNING="31"
    PERL5_CPAN_IS_RUNNING_IN_RECURSION="1,31"
    PERLBREW_HOME="/home/smoker/.perlbrew"
    PERLBREW_MANPATH="/home/smoker/perl5/perlbrew/perls/perl-5.26.3-multi/man"
    PERLBREW_PATH="/home/smoker/perl5/perlbrew/bin:/home/smoker/perl5/perlbrew/perls/perl-5.26.3-multi/bin"
    PERLBREW_PERL="perl-5.26.3-multi"
    PERLBREW_ROOT="/home/smoker/perl5/perlbrew"
    PERLBREW_SHELLRC_VERSION="0.88"
    PERLBREW_VERSION="0.88"
    PERL_USE_UNSAFE_INC="1"
  @INC:
    /home/smoker/.cpan/build/SQL-Abstract-Classic-1.91-0/blib/arch
    /home/smoker/.cpan/build/SQL-Abstract-Classic-1.91-0/blib/lib
    /home/smoker/.cpan/build/SQL-Abstract-2.000001-0/blib/arch
    /home/smoker/.cpan/build/SQL-Abstract-2.000001-0/blib/lib
    /home/smoker/.cpan/build/Path-Class-0.37-0/blib/arch
    /home/smoker/.cpan/build/Path-Class-0.37-0/blib/lib
    /home/smoker/.cpan/build/Hash-Merge-0.302-0/blib/arch
    /home/smoker/.cpan/build/Hash-Merge-0.302-0/blib/lib
    /home/smoker/.cpan/build/Clone-Choose-0.010-0/blib/arch
    /home/smoker/.cpan/build/Clone-Choose-0.010-0/blib/lib
    /home/smoker/.cpan/build/Data-Dumper-Concise-2.023-0/blib/arch
    /home/smoker/.cpan/build/Data-Dumper-Concise-2.023-0/blib/lib
    /home/smoker/.cpan/build/Context-Preserve-0.03-0/blib/arch
    /home/smoker/.cpan/build/Context-Preserve-0.03-0/blib/lib
    /home/smoker/.cpan/build/Class-Unload-0.11-0/blib/arch
    /home/smoker/.cpan/build/Class-Unload-0.11-0/blib/lib
    /home/smoker/.cpan/build/Class-C3-Componentised-1.001002-0/blib/arch
    /home/smoker/.cpan/build/Class-C3-Componentised-1.001002-0/blib/lib
    /home/smoker/.cpan/build/Class-C3-0.35-0/blib/arch
    /home/smoker/.cpan/build/Class-C3-0.35-0/blib/lib
    /home/smoker/.cpan/build/Algorithm-C3-0.11-0/blib/arch
    /home/smoker/.cpan/build/Algorithm-C3-0.11-0/blib/lib
    /home/smoker/.cpan/build/Class-Accessor-Grouped-0.10014-0/blib/arch
    /home/smoker/.cpan/build/Class-Accessor-Grouped-0.10014-0/blib/lib
    /home/smoker/perl5/perlbrew/perls/perl-5.26.3-multi/lib/site_perl/5.26.3/x86_64-linux-multi
    /home/smoker/perl5/perlbrew/perls/perl-5.26.3-multi/lib/site_perl/5.26.3
    /home/smoker/perl5/perlbrew/perls/perl-5.26.3-multi/lib/5.26.3/x86_64-linux-multi
    /home/smoker/perl5/perlbrew/perls/perl-5.26.3-multi/lib/5.26.3
    .