Back
From: metabase:user:314402c4-2aae-11df-837a-5e0a49663a4f
Subject: PASS DateTime-Format-Epoch-0.16 v5.20.1 FreeBSD
Date: 2015-11-01T18:36:50Z
This distribution has been tested as part of the CPAN Testers
project, supporting the Perl programming language. See
http://wiki.cpantesters.org/ for more information or email
questions to cpan-testers-discuss@perl.org
--
Dear Alexandr Ciornii,
This is a computer-generated report for DateTime-Format-Epoch-0.16
on perl 5.20.1, created by CPAN-Reporter-1.2011.
Thank you for uploading your work to CPAN. Congratulations!
All tests were successful.
Sections of this report:
* Tester comments
* Program output
* Prerequisites
* Environment and other context
------------------------------
TESTER COMMENTS
------------------------------
Additional comments from tester:
none provided
------------------------------
PROGRAM OUTPUT
------------------------------
Output from './Build test':
# ==> DateTime version = 1.18
# ==> Math::BigInt version = 1.9993
# ==> Math::BigInt lib = Math::BigInt::Pari
# ==> Math::BigInt::Pari version =1.18
t/001_load.t .... ok
t/002_format.t .. ok
t/003_bigint.t .. ok
t/004_nano.t .... ok
t/005_leap.t .... ok
t/006_local.t ... ok
t/007_parse.t ... ok
t/008_dhms.t .... ok
t/101_load.t .... ok
t/102_format.t .. ok
t/201_load.t .... ok
t/202_format.t .. ok
t/301_load.t .... ok
t/302_format.t .. ok
t/303_parse.t ... ok
t/401_load.t .... ok
t/402_format.t .. ok
t/502_format.t .. ok
t/601_load.t .... ok
t/pod.t ......... ok
All tests successful.
Files=20, Tests=133, 9 wallclock secs ( 0.12 usr 0.12 sys + 6.38 cusr 1.38 csys = 7.98 CPU)
Result: PASS
------------------------------
PREREQUISITES
------------------------------
Prerequisite modules loaded:
requires:
Module Need Have
---------------- ------- --------
DateTime 0.31 1.18
Math::BigInt 1.66 1.9993
Params::Validate 0 1.17
perl 5.00503 5.020001
warnings 0 1.23
build_requires:
Module Need Have
---------------- ------- --------
Test::More 0 1.001014
------------------------------
ENVIRONMENT AND OTHER CONTEXT
------------------------------
Environment variables:
LC_ALL = de_DE.ISO8859-1
PATH = /usr/local/bin:/usr/bin:/bin:/usr/local/sbin:/usr/sbin:/sbin:/home/cpansand/bin/freebsd10.1:/home/cpansand/bin/sh:/home/cpansand/bin:/usr/games:/home/cpansand/devel:/home/eserte/src/srezic-misc/scripts
PERL5LIB = /home/cpansand/.cpan/build/2015110118/CLASS-1.00-ar4fBL/blib/arch:/home/cpansand/.cpan/build/2015110118/CLASS-1.00-ar4fBL/blib/lib:/home/cpansand/.cpan/build/2015110118/Carp-Fix-1_25-1.000001-YoXsRc/blib/arch:/home/cpansand/.cpan/build/2015110118/Carp-Fix-1_25-1.000001-YoXsRc/blib/lib:/home/cpansand/.cpan/build/2015110118/autobox-List-Util-20090629-XAEoa7/blib/arch:/home/cpansand/.cpan/build/2015110118/autobox-List-Util-20090629-XAEoa7/blib/lib:/home/cpansand/.cpan/build/2015110118/autobox-2.83-lI0WZ2/blib/arch:/home/cpansand/.cpan/build/2015110118/autobox-2.83-lI0WZ2/blib/lib:/home/cpansand/.cpan/build/2015110118/Taint-Util-0.08-ygoxcq/blib/arch:/home/cpansand/.cpan/build/2015110118/Taint-Util-0.08-ygoxcq/blib/lib
PERL5OPT =
PERL5_CPANPLUS_IS_RUNNING = 78815
PERL5_CPAN_IS_RUNNING = 78815
PERL5_CPAN_IS_RUNNING_IN_RECURSION = 66976,78815
PERLDOC = -MPod::Perldoc::ToTextOverstrike
PERL_BATCH = yes
PERL_CANARY_STABILITY_NOPROMPT = 1
PERL_CPAN_REPORTER_CONFIG = /var/tmp/cpansmoker-1023/2015110118/cpanreporter_001_config.ini
PERL_EXTUTILS_AUTOINSTALL = --defaultdeps
SHELL = /usr/local/bin/zsh
TERM = screen
TMPDIR = /var/tmp/cpansmoker-1023/2015110118
Perl special variables (and OS-specific diagnostics, for MSWin32):
$^X = /usr/perl5.20.1Dp/bin/perl5.20.1
$UID/$EUID = 1023 / 1023
$GID = 1023 1023
$EGID = 1023 1023
Perl module toolchain versions installed:
Module Have
------------------- --------
CPAN 2.05
CPAN::Meta 2.143240
Cwd 3.48
ExtUtils::CBuilder 0.280217
ExtUtils::Command 1.18
ExtUtils::Install 1.67
ExtUtils::MakeMaker 7.04
ExtUtils::Manifest 1.70
ExtUtils::ParseXS 3.24
File::Spec 3.48
JSON 2.90
JSON::PP 2.27203
Module::Build 0.4211
Module::Signature n/a
Parse::CPAN::Meta 1.4414
Test::Harness 3.30
Test::More 1.001014
YAML 1.14
YAML::Syck 1.29
version 0.9909
--
Summary of my perl5 (revision 5 version 20 subversion 1) configuration:
Platform:
osname=freebsd, osvers=10.1-release, archname=amd64-freebsd-ld
uname='freebsd cvrsnica-freebsd-101.herceg.de 10.1-release freebsd 10.1-release #0 r274401: tue nov 11 21:02:49 utc 2014 root@releng1.nyi.freebsd.org:usrobjusrsrcsysgeneric amd64 '
config_args='-ds -e -Dprefix=/usr/perl5.20.1Dp -Duselongdouble'
hint=recommended, useposix=true, d_sigaction=define
useithreads=undef, usemultiplicity=undef
use64bitint=define, use64bitall=define, uselongdouble=define
usemymalloc=n, bincompat5005=undef
Compiler:
cc='cc', ccflags ='-DHAS_FPSETMASK -DHAS_FLOATINGPOINT_H -fno-strict-aliasing -pipe -fstack-protector -I/usr/local/include',
optimize='-O',
cppflags='-DHAS_FPSETMASK -DHAS_FLOATINGPOINT_H -fno-strict-aliasing -pipe -fstack-protector -I/usr/local/include'
ccversion='', gccversion='4.2.1 Compatible FreeBSD Clang 3.4.1 (tags/RELEASE_34/dot1-final 208032)', gccosandvers=''
intsize=4, longsize=8, ptrsize=8, doublesize=8, byteorder=12345678
d_longlong=define, longlongsize=8, d_longdbl=define, longdblsize=16
ivtype='long', ivsize=8, nvtype='long double', nvsize=16, Off_t='off_t', lseeksize=8
alignbytes=16, prototype=define
Linker and Libraries:
ld='cc', ldflags ='-pthread -Wl,-E -fstack-protector -L/usr/local/lib'
libpth=/usr/lib /usr/local/lib /usr/include/clang/3.4.1 /usr/lib
libs=-lgdbm -lm -lcrypt -lutil -lc
perllibs=-lm -lcrypt -lutil -lc
libc=, so=so, useshrplib=false, libperl=libperl.a
gnulibc_version=''
Dynamic Linking:
dlsrc=dl_dlopen.xs, dlext=so, d_dlsymun=undef, ccdlflags=' '
cccdlflags='-DPIC -fPIC', lddlflags='-shared -L/usr/local/lib -fstack-protector'
Characteristics of this binary (from libperl):
Compile-time options: HAS_TIMES PERLIO_LAYERS PERL_DONT_CREATE_GVSV
PERL_HASH_FUNC_ONE_AT_A_TIME_HARD PERL_MALLOC_WRAP
PERL_NEW_COPY_ON_WRITE PERL_PRESERVE_IVUV
USE_64_BIT_ALL USE_64_BIT_INT USE_LARGE_FILES
USE_LOCALE USE_LOCALE_COLLATE USE_LOCALE_CTYPE
USE_LOCALE_NUMERIC USE_LONG_DOUBLE USE_PERLIO
USE_PERL_ATOF
Built under freebsd
Compiled at Feb 13 2015 08:17:27
%ENV:
PERL5LIB="/home/cpansand/.cpan/build/2015110118/CLASS-1.00-ar4fBL/blib/arch:/home/cpansand/.cpan/build/2015110118/CLASS-1.00-ar4fBL/blib/lib:/home/cpansand/.cpan/build/2015110118/Carp-Fix-1_25-1.000001-YoXsRc/blib/arch:/home/cpansand/.cpan/build/2015110118/Carp-Fix-1_25-1.000001-YoXsRc/blib/lib:/home/cpansand/.cpan/build/2015110118/autobox-List-Util-20090629-XAEoa7/blib/arch:/home/cpansand/.cpan/build/2015110118/autobox-List-Util-20090629-XAEoa7/blib/lib:/home/cpansand/.cpan/build/2015110118/autobox-2.83-lI0WZ2/blib/arch:/home/cpansand/.cpan/build/2015110118/autobox-2.83-lI0WZ2/blib/lib:/home/cpansand/.cpan/build/2015110118/Taint-Util-0.08-ygoxcq/blib/arch:/home/cpansand/.cpan/build/2015110118/Taint-Util-0.08-ygoxcq/blib/lib"
PERL5OPT=""
PERL5_CPANPLUS_IS_RUNNING="78815"
PERL5_CPAN_IS_RUNNING="78815"
PERL5_CPAN_IS_RUNNING_IN_RECURSION="66976,78815"
PERLDOC="-MPod::Perldoc::ToTextOverstrike"
PERL_BATCH="yes"
PERL_CANARY_STABILITY_NOPROMPT="1"
PERL_CPAN_REPORTER_CONFIG="/var/tmp/cpansmoker-1023/2015110118/cpanreporter_001_config.ini"
PERL_EXTUTILS_AUTOINSTALL="--defaultdeps"
@INC:
/home/cpansand/.cpan/build/2015110118/CLASS-1.00-ar4fBL/blib/arch
/home/cpansand/.cpan/build/2015110118/CLASS-1.00-ar4fBL/blib/lib
/home/cpansand/.cpan/build/2015110118/Carp-Fix-1_25-1.000001-YoXsRc/blib/arch
/home/cpansand/.cpan/build/2015110118/Carp-Fix-1_25-1.000001-YoXsRc/blib/lib
/home/cpansand/.cpan/build/2015110118/autobox-List-Util-20090629-XAEoa7/blib/arch
/home/cpansand/.cpan/build/2015110118/autobox-List-Util-20090629-XAEoa7/blib/lib
/home/cpansand/.cpan/build/2015110118/autobox-2.83-lI0WZ2/blib/arch
/home/cpansand/.cpan/build/2015110118/autobox-2.83-lI0WZ2/blib/lib
/home/cpansand/.cpan/build/2015110118/Taint-Util-0.08-ygoxcq/blib/arch
/home/cpansand/.cpan/build/2015110118/Taint-Util-0.08-ygoxcq/blib/lib
/usr/perl5.20.1Dp/lib/site_perl/5.20.1/amd64-freebsd-ld
/usr/perl5.20.1Dp/lib/site_perl/5.20.1
/usr/perl5.20.1Dp/lib/5.20.1/amd64-freebsd-ld
/usr/perl5.20.1Dp/lib/5.20.1
.