Back
From: metabase:user:30f4dfbe-2aae-11df-837a-5e0a49663a4f
Subject: PASS Text-WideChar-Util-0.16 v5.22.1 Mac OS X
Date: 2016-03-03T06:02:30Z
This distribution has been tested as part of the CPAN Testers
project, supporting the Perl programming language. See
http://wiki.cpantesters.org/ for more information or email
questions to cpan-testers-discuss@perl.org
--
Dear perlancar,
This is a computer-generated report for Text-WideChar-Util-0.16
on perl 5.22.1, created by CPAN-Reporter-1.2015.
Thank you for uploading your work to CPAN. Congratulations!
All tests were successful.
Sections of this report:
* Tester comments
* Program output
* Prerequisites
* Environment and other context
------------------------------
TESTER COMMENTS
------------------------------
Additional comments from tester:
this report is from an automated smoke testing program
and was not reviewed by a human for accuracy
------------------------------
PROGRAM OUTPUT
------------------------------
Output from '/sw/bin/make test':
PERL_DL_NONLAZY=1 "/Users/hornenj/perl5/perlbrew/perls/perl-5.22.1/bin/perl5.22.1" "-MExtUtils::Command::MM" "-MTest::Harness" "-e" "undef *Test::Harness::Switches; test_harness(0, 'blib/lib', 'blib/arch')" t/*.t
t/00-compile.t ............ ok
t/01-basics.t ............. skipped: Chinese locale not supported on this system
t/release-pod-coverage.t .. skipped: these tests are for release candidate testing
t/release-pod-syntax.t .... skipped: these tests are for release candidate testing
t/release-rinci.t ......... skipped: these tests are for release candidate testing
Wide character (U+5B58) in pattern match (m//) at /Users/hornenj/.cpan/build/Text-WideChar-Util-0.16-mevKbb/blib/lib/Text/WideChar/Util.pm line 161.
Wide character (U+5B58) in pattern match (m//) at /Users/hornenj/.cpan/build/Text-WideChar-Util-0.16-mevKbb/blib/lib/Text/WideChar/Util.pm line 161.
Wide character (U+5B58) in pattern match (m//) at /Users/hornenj/.cpan/build/Text-WideChar-Util-0.16-mevKbb/blib/lib/Text/WideChar/Util.pm line 193.
Wide character (U+5B58) in pattern match (m//) at /Users/hornenj/.cpan/build/Text-WideChar-Util-0.16-mevKbb/blib/lib/Text/WideChar/Util.pm line 193.
Wide character (U+5B58) in pattern match (m//) at /Users/hornenj/.cpan/build/Text-WideChar-Util-0.16-mevKbb/blib/lib/Text/WideChar/Util.pm line 193.
Wide character (U+5B58) in pattern match (m//) at /Users/hornenj/.cpan/build/Text-WideChar-Util-0.16-mevKbb/blib/lib/Text/WideChar/Util.pm line 193.
Wide character (U+5B58) in pattern match (m//) at /Users/hornenj/.cpan/build/Text-WideChar-Util-0.16-mevKbb/blib/lib/Text/WideChar/Util.pm line 193.
Wide character (U+5B58) in pattern match (m//) at /Users/hornenj/.cpan/build/Text-WideChar-Util-0.16-mevKbb/blib/lib/Text/WideChar/Util.pm line 193.
Wide character (U+5B58) in pattern match (m//) at /Users/hornenj/.cpan/build/Text-WideChar-Util-0.16-mevKbb/blib/lib/Text/WideChar/Util.pm line 193.
Wide character (U+5B58) in pattern match (m//) at /Users/hornenj/.cpan/build/Text-WideChar-Util-0.16-mevKbb/blib/lib/Text/WideChar/Util.pm line 193.
Wide character (U+50A8) in pattern match (m//) at /Users/hornenj/.cpan/build/Text-WideChar-Util-0.16-mevKbb/blib/lib/Text/WideChar/Util.pm line 193.
Wide character (U+50A8) in pattern match (m//) at /Users/hornenj/.cpan/build/Text-WideChar-Util-0.16-mevKbb/blib/lib/Text/WideChar/Util.pm line 193.
Wide character (U+50A8) in pattern match (m//) at /Users/hornenj/.cpan/build/Text-WideChar-Util-0.16-mevKbb/blib/lib/Text/WideChar/Util.pm line 193.
Wide character (U+50A8) in pattern match (m//) at /Users/hornenj/.cpan/build/Text-WideChar-Util-0.16-mevKbb/blib/lib/Text/WideChar/Util.pm line 193.
Wide character (U+50A8) in pattern match (m//) at /Users/hornenj/.cpan/build/Text-WideChar-Util-0.16-mevKbb/blib/lib/Text/WideChar/Util.pm line 193.
Wide character (U+50A8) in pattern match (m//) at /Users/hornenj/.cpan/build/Text-WideChar-Util-0.16-mevKbb/blib/lib/Text/WideChar/Util.pm line 193.
Wide character (U+50A8) in pattern match (m//) at /Users/hornenj/.cpan/build/Text-WideChar-Util-0.16-mevKbb/blib/lib/Text/WideChar/Util.pm line 193.
Wide character (U+50A8) in pattern match (m//) at /Users/hornenj/.cpan/build/Text-WideChar-Util-0.16-mevKbb/blib/lib/Text/WideChar/Util.pm line 193.
Wide character (U+548C) in pattern match (m//) at /Users/hornenj/.cpan/build/Text-WideChar-Util-0.16-mevKbb/blib/lib/Text/WideChar/Util.pm line 193.
Wide character (U+548C) in pattern match (m//) at /Users/hornenj/.cpan/build/Text-WideChar-Util-0.16-mevKbb/blib/lib/Text/WideChar/Util.pm line 193.
Wide character (U+548C) in pattern match (m//) at /Users/hornenj/.cpan/build/Text-WideChar-Util-0.16-mevKbb/blib/lib/Text/WideChar/Util.pm line 193.
Wide character (U+548C) in pattern match (m//) at /Users/hornenj/.cpan/build/Text-WideChar-Util-0.16-mevKbb/blib/lib/Text/WideChar/Util.pm line 193.
Wide character (U+548C) in pattern match (m//) at /Users/hornenj/.cpan/build/Text-WideChar-Util-0.16-mevKbb/blib/lib/Text/WideChar/Util.pm line 193.
Wide character (U+548C) in pattern match (m//) at /Users/hornenj/.cpan/build/Text-WideChar-Util-0.16-mevKbb/blib/lib/Text/WideChar/Util.pm line 193.
Wide character (U+548C) in pattern match (m//) at /Users/hornenj/.cpan/build/Text-WideChar-Util-0.16-mevKbb/blib/lib/Text/WideChar/Util.pm line 193.
Wide character (U+548C) in pattern match (m//) at /Users/hornenj/.cpan/build/Text-WideChar-Util-0.16-mevKbb/blib/lib/Text/WideChar/Util.pm line 193.
Wide character (U+4FE1) in pattern match (m//) at /Users/hornenj/.cpan/build/Text-WideChar-Util-0.16-mevKbb/blib/lib/Text/WideChar/Util.pm line 193.
Wide character (U+4FE1) in pattern match (m//) at /Users/hornenj/.cpan/build/Text-WideChar-Util-0.16-mevKbb/blib/lib/Text/WideChar/Util.pm line 193.
Wide character (U+4FE1) in pattern match (m//) at /Users/hornenj/.cpan/build/Text-WideChar-Util-0.16-mevKbb/blib/lib/Text/WideChar/Util.pm line 193.
Wide character (U+4FE1) in pattern match (m//) at /Users/hornenj/.cpan/build/Text-WideChar-Util-0.16-mevKbb/blib/lib/Text/WideChar/Util.pm line 193.
Wide character (U+4FE1) in pattern match (m//) at /Users/hornenj/.cpan/build/Text-WideChar-Util-0.16-mevKbb/blib/lib/Text/WideChar/Util.pm line 193.
Wide character (U+4FE1) in pattern match (m//) at /Users/hornenj/.cpan/build/Text-WideChar-Util-0.16-mevKbb/blib/lib/Text/WideChar/Util.pm line 193.
Wide character (U+4FE1) in pattern match (m//) at /Users/hornenj/.cpan/build/Text-WideChar-Util-0.16-mevKbb/blib/lib/Text/WideChar/Util.pm line 193.
Wide character (U+4FE1) in pattern match (m//) at /Users/hornenj/.cpan/build/Text-WideChar-Util-0.16-mevKbb/blib/lib/Text/WideChar/Util.pm line 193.
Wide character (U+606F) in pattern match (m//) at /Users/hornenj/.cpan/build/Text-WideChar-Util-0.16-mevKbb/blib/lib/Text/WideChar/Util.pm line 193.
Wide character (U+606F) in pattern match (m//) at /Users/hornenj/.cpan/build/Text-WideChar-Util-0.16-mevKbb/blib/lib/Text/WideChar/Util.pm line 193.
Wide character (U+606F) in pattern match (m//) at /Users/hornenj/.cpan/build/Text-WideChar-Util-0.16-mevKbb/blib/lib/Text/WideChar/Util.pm line 193.
Wide character (U+606F) in pattern match (m//) at /Users/hornenj/.cpan/build/Text-WideChar-Util-0.16-mevKbb/blib/lib/Text/WideChar/Util.pm line 193.
Wide character (U+606F) in pattern match (m//) at /Users/hornenj/.cpan/build/Text-WideChar-Util-0.16-mevKbb/blib/lib/Text/WideChar/Util.pm line 193.
Wide character (U+606F) in pattern match (m//) at /Users/hornenj/.cpan/build/Text-WideChar-Util-0.16-mevKbb/blib/lib/Text/WideChar/Util.pm line 193.
Wide character (U+606F) in pattern match (m//) at /Users/hornenj/.cpan/build/Text-WideChar-Util-0.16-mevKbb/blib/lib/Text/WideChar/Util.pm line 193.
Wide character (U+606F) in pattern match (m//) at /Users/hornenj/.cpan/build/Text-WideChar-Util-0.16-mevKbb/blib/lib/Text/WideChar/Util.pm line 193.
Wide character (U+7BA1) in pattern match (m//) at /Users/hornenj/.cpan/build/Text-WideChar-Util-0.16-mevKbb/blib/lib/Text/WideChar/Util.pm line 193.
Wide character (U+7BA1) in pattern match (m//) at /Users/hornenj/.cpan/build/Text-WideChar-Util-0.16-mevKbb/blib/lib/Text/WideChar/Util.pm line 193.
Wide character (U+7BA1) in pattern match (m//) at /Users/hornenj/.cpan/build/Text-WideChar-Util-0.16-mevKbb/blib/lib/Text/WideChar/Util.pm line 193.
Wide character (U+7BA1) in pattern match (m//) at /Users/hornenj/.cpan/build/Text-WideChar-Util-0.16-mevKbb/blib/lib/Text/WideChar/Util.pm line 193.
Wide character (U+7BA1) in pattern match (m//) at /Users/hornenj/.cpan/build/Text-WideChar-Util-0.16-mevKbb/blib/lib/Text/WideChar/Util.pm line 193.
Wide character (U+7BA1) in pattern match (m//) at /Users/hornenj/.cpan/build/Text-WideChar-Util-0.16-mevKbb/blib/lib/Text/WideChar/Util.pm line 193.
Wide character (U+7BA1) in pattern match (m//) at /Users/hornenj/.cpan/build/Text-WideChar-Util-0.16-mevKbb/blib/lib/Text/WideChar/Util.pm line 193.
Wide character (U+7BA1) in pattern match (m//) at /Users/hornenj/.cpan/build/Text-WideChar-Util-0.16-mevKbb/blib/lib/Text/WideChar/Util.pm line 193.
Wide character (U+7406) in pattern match (m//) at /Users/hornenj/.cpan/build/Text-WideChar-Util-0.16-mevKbb/blib/lib/Text/WideChar/Util.pm line 193.
Wide character (U+7406) in pattern match (m//) at /Users/hornenj/.cpan/build/Text-WideChar-Util-0.16-mevKbb/blib/lib/Text/WideChar/Util.pm line 193.
Wide character (U+7406) in pattern match (m//) at /Users/hornenj/.cpan/build/Text-WideChar-Util-0.16-mevKbb/blib/lib/Text/WideChar/Util.pm line 193.
Wide character (U+7406) in pattern match (m//) at /Users/hornenj/.cpan/build/Text-WideChar-Util-0.16-mevKbb/blib/lib/Text/WideChar/Util.pm line 193.
Wide character (U+7406) in pattern match (m//) at /Users/hornenj/.cpan/build/Text-WideChar-Util-0.16-mevKbb/blib/lib/Text/WideChar/Util.pm line 193.
Wide character (U+7406) in pattern match (m//) at /Users/hornenj/.cpan/build/Text-WideChar-Util-0.16-mevKbb/blib/lib/Text/WideChar/Util.pm line 193.
Wide character (U+7406) in pattern match (m//) at /Users/hornenj/.cpan/build/Text-WideChar-Util-0.16-mevKbb/blib/lib/Text/WideChar/Util.pm line 193.
Wide character (U+7406) in pattern match (m//) at /Users/hornenj/.cpan/build/Text-WideChar-Util-0.16-mevKbb/blib/lib/Text/WideChar/Util.pm line 193.
Wide character (U+516C) in pattern match (m//) at /Users/hornenj/.cpan/build/Text-WideChar-Util-0.16-mevKbb/blib/lib/Text/WideChar/Util.pm line 193.
Wide character (U+516C) in pattern match (m//) at /Users/hornenj/.cpan/build/Text-WideChar-Util-0.16-mevKbb/blib/lib/Text/WideChar/Util.pm line 193.
Wide character (U+516C) in pattern match (m//) at /Users/hornenj/.cpan/build/Text-WideChar-Util-0.16-mevKbb/blib/lib/Text/WideChar/Util.pm line 193.
Wide character (U+516C) in pattern match (m//) at /Users/hornenj/.cpan/build/Text-WideChar-Util-0.16-mevKbb/blib/lib/Text/WideChar/Util.pm line 193.
Wide character (U+516C) in pattern match (m//) at /Users/hornenj/.cpan/build/Text-WideChar-Util-0.16-mevKbb/blib/lib/Text/WideChar/Util.pm line 193.
Wide character (U+516C) in pattern match (m//) at /Users/hornenj/.cpan/build/Text-WideChar-Util-0.16-mevKbb/blib/lib/Text/WideChar/Util.pm line 193.
Wide character (U+516C) in pattern match (m//) at /Users/hornenj/.cpan/build/Text-WideChar-Util-0.16-mevKbb/blib/lib/Text/WideChar/Util.pm line 193.
Wide character (U+516C) in pattern match (m//) at /Users/hornenj/.cpan/build/Text-WideChar-Util-0.16-mevKbb/blib/lib/Text/WideChar/Util.pm line 193.
Wide character (U+53F8) in pattern match (m//) at /Users/hornenj/.cpan/build/Text-WideChar-Util-0.16-mevKbb/blib/lib/Text/WideChar/Util.pm line 193.
Wide character (U+53F8) in pattern match (m//) at /Users/hornenj/.cpan/build/Text-WideChar-Util-0.16-mevKbb/blib/lib/Text/WideChar/Util.pm line 193.
Wide character (U+53F8) in pattern match (m//) at /Users/hornenj/.cpan/build/Text-WideChar-Util-0.16-mevKbb/blib/lib/Text/WideChar/Util.pm line 193.
Wide character (U+53F8) in pattern match (m//) at /Users/hornenj/.cpan/build/Text-WideChar-Util-0.16-mevKbb/blib/lib/Text/WideChar/Util.pm line 193.
Wide character (U+53F8) in pattern match (m//) at /Users/hornenj/.cpan/build/Text-WideChar-Util-0.16-mevKbb/blib/lib/Text/WideChar/Util.pm line 193.
Wide character (U+53F8) in pattern match (m//) at /Users/hornenj/.cpan/build/Text-WideChar-Util-0.16-mevKbb/blib/lib/Text/WideChar/Util.pm line 193.
Wide character (U+53F8) in pattern match (m//) at /Users/hornenj/.cpan/build/Text-WideChar-Util-0.16-mevKbb/blib/lib/Text/WideChar/Util.pm line 193.
Wide character (U+53F8) in pattern match (m//) at /Users/hornenj/.cpan/build/Text-WideChar-Util-0.16-mevKbb/blib/lib/Text/WideChar/Util.pm line 193.
Wide character (U+4F4D) in pattern match (m//) at /Users/hornenj/.cpan/build/Text-WideChar-Util-0.16-mevKbb/blib/lib/Text/WideChar/Util.pm line 195.
Wide character (U+4E8E) in pattern match (m//) at /Users/hornenj/.cpan/build/Text-WideChar-Util-0.16-mevKbb/blib/lib/Text/WideChar/Util.pm line 195.
Wide character (U+963F) in pattern match (m//) at /Users/hornenj/.cpan/build/Text-WideChar-Util-0.16-mevKbb/blib/lib/Text/WideChar/Util.pm line 195.
Wide character (U+6839) in pattern match (m//) at /Users/hornenj/.cpan/build/Text-WideChar-Util-0.16-mevKbb/blib/lib/Text/WideChar/Util.pm line 195.
Wide character (U+5EF7) in pattern match (m//) at /Users/hornenj/.cpan/build/Text-WideChar-Util-0.16-mevKbb/blib/lib/Text/WideChar/Util.pm line 195.
Wide character (U+9996) in pattern match (m//) at /Users/hornenj/.cpan/build/Text-WideChar-Util-0.16-mevKbb/blib/lib/Text/WideChar/Util.pm line 195.
Wide character (U+90FD) in pattern match (m//) at /Users/hornenj/.cpan/build/Text-WideChar-Util-0.16-mevKbb/blib/lib/Text/WideChar/Util.pm line 195.
Wide character (U+5E03) in pattern match (m//) at /Users/hornenj/.cpan/build/Text-WideChar-Util-0.16-mevKbb/blib/lib/Text/WideChar/Util.pm line 195.
Wide character (U+5B9C) in pattern match (m//) at /Users/hornenj/.cpan/build/Text-WideChar-Util-0.16-mevKbb/blib/lib/Text/WideChar/Util.pm line 195.
Wide character (U+8BFA) in pattern match (m//) at /Users/hornenj/.cpan/build/Text-WideChar-Util-0.16-mevKbb/blib/lib/Text/WideChar/Util.pm line 195.
Wide character (U+65AF) in pattern match (m//) at /Users/hornenj/.cpan/build/Text-WideChar-Util-0.16-mevKbb/blib/lib/Text/WideChar/Util.pm line 195.
Wide character (U+827E) in pattern match (m//) at /Users/hornenj/.cpan/build/Text-WideChar-Util-0.16-mevKbb/blib/lib/Text/WideChar/Util.pm line 195.
Wide character (U+5229) in pattern match (m//) at /Users/hornenj/.cpan/build/Text-WideChar-Util-0.16-mevKbb/blib/lib/Text/WideChar/Util.pm line 195.
Wide character (U+65AF) in pattern match (m//) at /Users/hornenj/.cpan/build/Text-WideChar-Util-0.16-mevKbb/blib/lib/Text/WideChar/Util.pm line 195.
Wide character (U+7684) in pattern match (m//) at /Users/hornenj/.cpan/build/Text-WideChar-Util-0.16-mevKbb/blib/lib/Text/WideChar/Util.pm line 195.
Wide character (U+4E00) in pattern match (m//) at /Users/hornenj/.cpan/build/Text-WideChar-Util-0.16-mevKbb/blib/lib/Text/WideChar/Util.pm line 195.
Wide character (U+4E2A) in pattern match (m//) at /Users/hornenj/.cpan/build/Text-WideChar-Util-0.16-mevKbb/blib/lib/Text/WideChar/Util.pm line 195.
Wide character (U+5927) in pattern match (m//) at /Users/hornenj/.cpan/build/Text-WideChar-Util-0.16-mevKbb/blib/lib/Text/WideChar/Util.pm line 195.
Wide character (U+6570) in pattern match (m//) at /Users/hornenj/.cpan/build/Text-WideChar-Util-0.16-mevKbb/blib/lib/Text/WideChar/Util.pm line 195.
Wide character (U+636E) in pattern match (m//) at /Users/hornenj/.cpan/build/Text-WideChar-Util-0.16-mevKbb/blib/lib/Text/WideChar/Util.pm line 195.
Wide character (U+4E2D) in pattern match (m//) at /Users/hornenj/.cpan/build/Text-WideChar-Util-0.16-mevKbb/blib/lib/Text/WideChar/Util.pm line 195.
Wide character (U+5FC3) in pattern match (m//) at /Users/hornenj/.cpan/build/Text-WideChar-Util-0.16-mevKbb/blib/lib/Text/WideChar/Util.pm line 195.
Wide character (U+5468) in pattern match (m//) at /Users/hornenj/.cpan/build/Text-WideChar-Util-0.16-mevKbb/blib/lib/Text/WideChar/Util.pm line 195.
Wide character (U+4E09) in pattern match (m//) at /Users/hornenj/.cpan/build/Text-WideChar-Util-0.16-mevKbb/blib/lib/Text/WideChar/Util.pm line 195.
Wide character (U+906D) in pattern match (m//) at /Users/hornenj/.cpan/build/Text-WideChar-Util-0.16-mevKbb/blib/lib/Text/WideChar/Util.pm line 195.
Wide character (U+5927) in pattern match (m//) at /Users/hornenj/.cpan/build/Text-WideChar-Util-0.16-mevKbb/blib/lib/Text/WideChar/Util.pm line 195.
Wide character (U+706B) in pattern match (m//) at /Users/hornenj/.cpan/build/Text-WideChar-Util-0.16-mevKbb/blib/lib/Text/WideChar/Util.pm line 195.
Wide character (U+70E7) in pattern match (m//) at /Users/hornenj/.cpan/build/Text-WideChar-Util-0.16-mevKbb/blib/lib/Text/WideChar/Util.pm line 195.
Wide character (U+6BC1) in pattern match (m//) at /Users/hornenj/.cpan/build/Text-WideChar-Util-0.16-mevKbb/blib/lib/Text/WideChar/Util.pm line 195.
Wide character (U+FF0C) in pattern match (m//) at /Users/hornenj/.cpan/build/Text-WideChar-Util-0.16-mevKbb/blib/lib/Text/WideChar/Util.pm line 195.
Wide character (U+4E5D) in pattern match (m//) at /Users/hornenj/.cpan/build/Text-WideChar-Util-0.16-mevKbb/blib/lib/Text/WideChar/Util.pm line 195.
Wide character (U+540D) in pattern match (m//) at /Users/hornenj/.cpan/build/Text-WideChar-Util-0.16-mevKbb/blib/lib/Text/WideChar/Util.pm line 195.
Wide character (U+6D88) in pattern match (m//) at /Users/hornenj/.cpan/build/Text-WideChar-Util-0.16-mevKbb/blib/lib/Text/WideChar/Util.pm line 195.
Wide character (U+9632) in pattern match (m//) at /Users/hornenj/.cpan/build/Text-WideChar-Util-0.16-mevKbb/blib/lib/Text/WideChar/Util.pm line 195.
Wide character (U+5458) in pattern match (m//) at /Users/hornenj/.cpan/build/Text-WideChar-Util-0.16-mevKbb/blib/lib/Text/WideChar/Util.pm line 195.
Wide character (U+5728) in pattern match (m//) at /Users/hornenj/.cpan/build/Text-WideChar-Util-0.16-mevKbb/blib/lib/Text/WideChar/Util.pm line 195.
Wide character (U+6551) in pattern match (m//) at /Users/hornenj/.cpan/build/Text-WideChar-Util-0.16-mevKbb/blib/lib/Text/WideChar/Util.pm line 195.
Wide character (U+706B) in pattern match (m//) at /Users/hornenj/.cpan/build/Text-WideChar-Util-0.16-mevKbb/blib/lib/Text/WideChar/Util.pm line 195.
Wide character (U+4E2D) in pattern match (m//) at /Users/hornenj/.cpan/build/Text-WideChar-Util-0.16-mevKbb/blib/lib/Text/WideChar/Util.pm line 195.
Wide character (U+4E27) in pattern match (m//) at /Users/hornenj/.cpan/build/Text-WideChar-Util-0.16-mevKbb/blib/lib/Text/WideChar/Util.pm line 195.
Wide character (U+751F) in pattern match (m//) at /Users/hornenj/.cpan/build/Text-WideChar-Util-0.16-mevKbb/blib/lib/Text/WideChar/Util.pm line 195.
Wide character (U+FF0C) in pattern match (m//) at /Users/hornenj/.cpan/build/Text-WideChar-Util-0.16-mevKbb/blib/lib/Text/WideChar/Util.pm line 195.
Wide character (U+4EBA) in pattern match (m//) at /Users/hornenj/.cpan/build/Text-WideChar-Util-0.16-mevKbb/blib/lib/Text/WideChar/Util.pm line 195.
Wide character (U+5931) in pattern match (m//) at /Users/hornenj/.cpan/build/Text-WideChar-Util-0.16-mevKbb/blib/lib/Text/WideChar/Util.pm line 195.
Wide character (U+8E2A) in pattern match (m//) at /Users/hornenj/.cpan/build/Text-WideChar-Util-0.16-mevKbb/blib/lib/Text/WideChar/Util.pm line 195.
Wide character (U+FF0C) in pattern match (m//) at /Users/hornenj/.cpan/build/Text-WideChar-Util-0.16-mevKbb/blib/lib/Text/WideChar/Util.pm line 195.
Wide character (U+4EBA) in pattern match (m//) at /Users/hornenj/.cpan/build/Text-WideChar-Util-0.16-mevKbb/blib/lib/Text/WideChar/Util.pm line 195.
Wide character (U+53D7) in pattern match (m//) at /Users/hornenj/.cpan/build/Text-WideChar-Util-0.16-mevKbb/blib/lib/Text/WideChar/Util.pm line 195.
Wide character (U+4F24) in pattern match (m//) at /Users/hornenj/.cpan/build/Text-WideChar-Util-0.16-mevKbb/blib/lib/Text/WideChar/Util.pm line 195.
Wide character (U+3002) in pattern match (m//) at /Users/hornenj/.cpan/build/Text-WideChar-Util-0.16-mevKbb/blib/lib/Text/WideChar/Util.pm line 195.
Wide character (U+6570) in pattern match (m//) at /Users/hornenj/.cpan/build/Text-WideChar-Util-0.16-mevKbb/blib/lib/Text/WideChar/Util.pm line 195.
Wide character (U+636E) in pattern match (m//) at /Users/hornenj/.cpan/build/Text-WideChar-Util-0.16-mevKbb/blib/lib/Text/WideChar/Util.pm line 195.
Wide character (U+4E2D) in pattern match (m//) at /Users/hornenj/.cpan/build/Text-WideChar-Util-0.16-mevKbb/blib/lib/Text/WideChar/Util.pm line 195.
Wide character (U+5FC3) in pattern match (m//) at /Users/hornenj/.cpan/build/Text-WideChar-Util-0.16-mevKbb/blib/lib/Text/WideChar/Util.pm line 195.
Wide character (U+50A8) in pattern match (m//) at /Users/hornenj/.cpan/build/Text-WideChar-Util-0.16-mevKbb/blib/lib/Text/WideChar/Util.pm line 195.
Wide character (U+5B58) in pattern match (m//) at /Users/hornenj/.cpan/build/Text-WideChar-Util-0.16-mevKbb/blib/lib/Text/WideChar/Util.pm line 195.
Wide character (U+4E86) in pattern match (m//) at /Users/hornenj/.cpan/build/Text-WideChar-Util-0.16-mevKbb/blib/lib/Text/WideChar/Util.pm line 195.
Wide character (U+963F) in pattern match (m//) at /Users/hornenj/.cpan/build/Text-WideChar-Util-0.16-mevKbb/blib/lib/Text/WideChar/Util.pm line 195.
Wide character (U+6839) in pattern match (m//) at /Users/hornenj/.cpan/build/Text-WideChar-Util-0.16-mevKbb/blib/lib/Text/WideChar/Util.pm line 195.
Wide character (U+5EF7) in pattern match (m//) at /Users/hornenj/.cpan/build/Text-WideChar-Util-0.16-mevKbb/blib/lib/Text/WideChar/Util.pm line 195.
Wide character (U+592E) in pattern match (m//) at /Users/hornenj/.cpan/build/Text-WideChar-Util-0.16-mevKbb/blib/lib/Text/WideChar/Util.pm line 195.
Wide character (U+884C) in pattern match (m//) at /Users/hornenj/.cpan/build/Text-WideChar-Util-0.16-mevKbb/blib/lib/Text/WideChar/Util.pm line 195.
Wide character (U+548C) in pattern match (m//) at /Users/hornenj/.cpan/build/Text-WideChar-Util-0.16-mevKbb/blib/lib/Text/WideChar/Util.pm line 195.
Wide character (U+4F01) in pattern match (m//) at /Users/hornenj/.cpan/build/Text-WideChar-Util-0.16-mevKbb/blib/lib/Text/WideChar/Util.pm line 195.
Wide character (U+4E1A) in pattern match (m//) at /Users/hornenj/.cpan/build/Text-WideChar-Util-0.16-mevKbb/blib/lib/Text/WideChar/Util.pm line 195.
Wide character (U+6863) in pattern match (m//) at /Users/hornenj/.cpan/build/Text-WideChar-Util-0.16-mevKbb/blib/lib/Text/WideChar/Util.pm line 195.
Wide character (U+6848) in pattern match (m//) at /Users/hornenj/.cpan/build/Text-WideChar-Util-0.16-mevKbb/blib/lib/Text/WideChar/Util.pm line 195.
Wide character (U+FF0C) in pattern match (m//) at /Users/hornenj/.cpan/build/Text-WideChar-Util-0.16-mevKbb/blib/lib/Text/WideChar/Util.pm line 195.
Wide character (U+56E0) in pattern match (m//) at /Users/hornenj/.cpan/build/Text-WideChar-Util-0.16-mevKbb/blib/lib/Text/WideChar/Util.pm line 195.
Wide character (U+6B64) in pattern match (m//) at /Users/hornenj/.cpan/build/Text-WideChar-Util-0.16-mevKbb/blib/lib/Text/WideChar/Util.pm line 195.
Wide character (U+635F) in pattern match (m//) at /Users/hornenj/.cpan/build/Text-WideChar-Util-0.16-mevKbb/blib/lib/Text/WideChar/Util.pm line 195.
Wide character (U+5931) in pattern match (m//) at /Users/hornenj/.cpan/build/Text-WideChar-Util-0.16-mevKbb/blib/lib/Text/WideChar/Util.pm line 195.
Wide character (U+53EF) in pattern match (m//) at /Users/hornenj/.cpan/build/Text-WideChar-Util-0.16-mevKbb/blib/lib/Text/WideChar/Util.pm line 195.
Wide character (U+80FD) in pattern match (m//) at /Users/hornenj/.cpan/build/Text-WideChar-Util-0.16-mevKbb/blib/lib/Text/WideChar/Util.pm line 195.
Wide character (U+975E) in pattern match (m//) at /Users/hornenj/.cpan/build/Text-WideChar-Util-0.16-mevKbb/blib/lib/Text/WideChar/Util.pm line 195.
Wide character (U+5E38) in pattern match (m//) at /Users/hornenj/.cpan/build/Text-WideChar-Util-0.16-mevKbb/blib/lib/Text/WideChar/Util.pm line 195.
Wide character (U+5DE8) in pattern match (m//) at /Users/hornenj/.cpan/build/Text-WideChar-Util-0.16-mevKbb/blib/lib/Text/WideChar/Util.pm line 195.
Wide character (U+5927) in pattern match (m//) at /Users/hornenj/.cpan/build/Text-WideChar-Util-0.16-mevKbb/blib/lib/Text/WideChar/Util.pm line 195.
Wide character (U+3002) in pattern match (m//) at /Users/hornenj/.cpan/build/Text-WideChar-Util-0.16-mevKbb/blib/lib/Text/WideChar/Util.pm line 195.
Wide character (U+8FD9) in pattern match (m//) at /Users/hornenj/.cpan/build/Text-WideChar-Util-0.16-mevKbb/blib/lib/Text/WideChar/Util.pm line 195.
Wide character (U+4E2A) in pattern match (m//) at /Users/hornenj/.cpan/build/Text-WideChar-Util-0.16-mevKbb/blib/lib/Text/WideChar/Util.pm line 195.
Wide character (U+6570) in pattern match (m//) at /Users/hornenj/.cpan/build/Text-WideChar-Util-0.16-mevKbb/blib/lib/Text/WideChar/Util.pm line 195.
Wide character (U+636E) in pattern match (m//) at /Users/hornenj/.cpan/build/Text-WideChar-Util-0.16-mevKbb/blib/lib/Text/WideChar/Util.pm line 195.
Wide character (U+4E2D) in pattern match (m//) at /Users/hornenj/.cpan/build/Text-WideChar-Util-0.16-mevKbb/blib/lib/Text/WideChar/Util.pm line 195.
Wide character (U+5FC3) in pattern match (m//) at /Users/hornenj/.cpan/build/Text-WideChar-Util-0.16-mevKbb/blib/lib/Text/WideChar/Util.pm line 195.
Wide character (U+914D) in pattern match (m//) at /Users/hornenj/.cpan/build/Text-WideChar-Util-0.16-mevKbb/blib/lib/Text/WideChar/Util.pm line 195.
Wide character (U+5907) in pattern match (m//) at /Users/hornenj/.cpan/build/Text-WideChar-Util-0.16-mevKbb/blib/lib/Text/WideChar/Util.pm line 195.
Wide character (U+4E86) in pattern match (m//) at /Users/hornenj/.cpan/build/Text-WideChar-Util-0.16-mevKbb/blib/lib/Text/WideChar/Util.pm line 195.
Wide character (U+79C1) in pattern match (m//) at /Users/hornenj/.cpan/build/Text-WideChar-Util-0.16-mevKbb/blib/lib/Text/WideChar/Util.pm line 195.
Wide character (U+4EBA) in pattern match (m//) at /Users/hornenj/.cpan/build/Text-WideChar-Util-0.16-mevKbb/blib/lib/Text/WideChar/Util.pm line 195.
Wide character (U+7684) in pattern match (m//) at /Users/hornenj/.cpan/build/Text-WideChar-Util-0.16-mevKbb/blib/lib/Text/WideChar/Util.pm line 195.
Wide character (U+6551) in pattern match (m//) at /Users/hornenj/.cpan/build/Text-WideChar-Util-0.16-mevKbb/blib/lib/Text/WideChar/Util.pm line 195.
Wide character (U+706B) in pattern match (m//) at /Users/hornenj/.cpan/build/Text-WideChar-Util-0.16-mevKbb/blib/lib/Text/WideChar/Util.pm line 195.
Wide character (U+961F) in pattern match (m//) at /Users/hornenj/.cpan/build/Text-WideChar-Util-0.16-mevKbb/blib/lib/Text/WideChar/Util.pm line 195.
Wide character (U+FF0C) in pattern match (m//) at /Users/hornenj/.cpan/build/Text-WideChar-Util-0.16-mevKbb/blib/lib/Text/WideChar/Util.pm line 195.
Wide character (U+81EA) in pattern match (m//) at /Users/hornenj/.cpan/build/Text-WideChar-Util-0.16-mevKbb/blib/lib/Text/WideChar/Util.pm line 195.
Wide character (U+52A8) in pattern match (m//) at /Users/hornenj/.cpan/build/Text-WideChar-Util-0.16-mevKbb/blib/lib/Text/WideChar/Util.pm line 195.
Wide character (U+55B7) in pattern match (m//) at /Users/hornenj/.cpan/build/Text-WideChar-Util-0.16-mevKbb/blib/lib/Text/WideChar/Util.pm line 195.
Wide character (U+6C34) in pattern match (m//) at /Users/hornenj/.cpan/build/Text-WideChar-Util-0.16-mevKbb/blib/lib/Text/WideChar/Util.pm line 195.
Wide character (U+706D) in pattern match (m//) at /Users/hornenj/.cpan/build/Text-WideChar-Util-0.16-mevKbb/blib/lib/Text/WideChar/Util.pm line 195.
Wide character (U+706B) in pattern match (m//) at /Users/hornenj/.cpan/build/Text-WideChar-Util-0.16-mevKbb/blib/lib/Text/WideChar/Util.pm line 195.
Wide character (U+7CFB) in pattern match (m//) at /Users/hornenj/.cpan/build/Text-WideChar-Util-0.16-mevKbb/blib/lib/Text/WideChar/Util.pm line 195.
Wide character (U+7EDF) in pattern match (m//) at /Users/hornenj/.cpan/build/Text-WideChar-Util-0.16-mevKbb/blib/lib/Text/WideChar/Util.pm line 195.
Wide character (U+FF0C) in pattern match (m//) at /Users/hornenj/.cpan/build/Text-WideChar-Util-0.16-mevKbb/blib/lib/Text/WideChar/Util.pm line 195.
Wide character (U+706B) in pattern match (m//) at /Users/hornenj/.cpan/build/Text-WideChar-Util-0.16-mevKbb/blib/lib/Text/WideChar/Util.pm line 195.
Wide character (U+707E) in pattern match (m//) at /Users/hornenj/.cpan/build/Text-WideChar-Util-0.16-mevKbb/blib/lib/Text/WideChar/Util.pm line 195.
Wide character (U+63A7) in pattern match (m//) at /Users/hornenj/.cpan/build/Text-WideChar-Util-0.16-mevKbb/blib/lib/Text/WideChar/Util.pm line 195.
Wide character (U+5236) in pattern match (m//) at /Users/hornenj/.cpan/build/Text-WideChar-Util-0.16-mevKbb/blib/lib/Text/WideChar/Util.pm line 195.
Wide character (U+7CFB) in pattern match (m//) at /Users/hornenj/.cpan/build/Text-WideChar-Util-0.16-mevKbb/blib/lib/Text/WideChar/Util.pm line 195.
Wide character (U+7EDF) in pattern match (m//) at /Users/hornenj/.cpan/build/Text-WideChar-Util-0.16-mevKbb/blib/lib/Text/WideChar/Util.pm line 195.
Wide character (U+4EE5) in pattern match (m//) at /Users/hornenj/.cpan/build/Text-WideChar-Util-0.16-mevKbb/blib/lib/Text/WideChar/Util.pm line 195.
Wide character (U+53CA) in pattern match (m//) at /Users/hornenj/.cpan/build/Text-WideChar-Util-0.16-mevKbb/blib/lib/Text/WideChar/Util.pm line 195.
Wide character (U+5176) in pattern match (m//) at /Users/hornenj/.cpan/build/Text-WideChar-Util-0.16-mevKbb/blib/lib/Text/WideChar/Util.pm line 195.
Wide character (U+5B83) in pattern match (m//) at /Users/hornenj/.cpan/build/Text-WideChar-Util-0.16-mevKbb/blib/lib/Text/WideChar/Util.pm line 195.
Wide character (U+706B) in pattern match (m//) at /Users/hornenj/.cpan/build/Text-WideChar-Util-0.16-mevKbb/blib/lib/Text/WideChar/Util.pm line 195.
Wide character (U+707E) in pattern match (m//) at /Users/hornenj/.cpan/build/Text-WideChar-Util-0.16-mevKbb/blib/lib/Text/WideChar/Util.pm line 195.
Wide character (U+9884) in pattern match (m//) at /Users/hornenj/.cpan/build/Text-WideChar-Util-0.16-mevKbb/blib/lib/Text/WideChar/Util.pm line 195.
Wide character (U+9632) in pattern match (m//) at /Users/hornenj/.cpan/build/Text-WideChar-Util-0.16-mevKbb/blib/lib/Text/WideChar/Util.pm line 195.
Wide character (U+7684) in pattern match (m//) at /Users/hornenj/.cpan/build/Text-WideChar-Util-0.16-mevKbb/blib/lib/Text/WideChar/Util.pm line 195.
Wide character (U+63AA) in pattern match (m//) at /Users/hornenj/.cpan/build/Text-WideChar-Util-0.16-mevKbb/blib/lib/Text/WideChar/Util.pm line 195.
Wide character (U+65BD) in pattern match (m//) at /Users/hornenj/.cpan/build/Text-WideChar-Util-0.16-mevKbb/blib/lib/Text/WideChar/Util.pm line 195.
Wide character (U+3002) in pattern match (m//) at /Users/hornenj/.cpan/build/Text-WideChar-Util-0.16-mevKbb/blib/lib/Text/WideChar/Util.pm line 195.
Wide character (U+4F46) in pattern match (m//) at /Users/hornenj/.cpan/build/Text-WideChar-Util-0.16-mevKbb/blib/lib/Text/WideChar/Util.pm line 195.
Wide character (U+5373) in pattern match (m//) at /Users/hornenj/.cpan/build/Text-WideChar-Util-0.16-mevKbb/blib/lib/Text/WideChar/Util.pm line 195.
Wide character (U+4FBF) in pattern match (m//) at /Users/hornenj/.cpan/build/Text-WideChar-Util-0.16-mevKbb/blib/lib/Text/WideChar/Util.pm line 195.
Wide character (U+5982) in pattern match (m//) at /Users/hornenj/.cpan/build/Text-WideChar-Util-0.16-mevKbb/blib/lib/Text/WideChar/Util.pm line 195.
Wide character (U+6B64) in pattern match (m//) at /Users/hornenj/.cpan/build/Text-WideChar-Util-0.16-mevKbb/blib/lib/Text/WideChar/Util.pm line 195.
Wide character (U+FF0C) in pattern match (m//) at /Users/hornenj/.cpan/build/Text-WideChar-Util-0.16-mevKbb/blib/lib/Text/WideChar/Util.pm line 195.
Wide character (U+4ECD) in pattern match (m//) at /Users/hornenj/.cpan/build/Text-WideChar-Util-0.16-mevKbb/blib/lib/Text/WideChar/Util.pm line 195.
Wide character (U+7136) in pattern match (m//) at /Users/hornenj/.cpan/build/Text-WideChar-Util-0.16-mevKbb/blib/lib/Text/WideChar/Util.pm line 195.
Wide character (U+6CA1) in pattern match (m//) at /Users/hornenj/.cpan/build/Text-WideChar-Util-0.16-mevKbb/blib/lib/Text/WideChar/Util.pm line 195.
Wide character (U+6709) in pattern match (m//) at /Users/hornenj/.cpan/build/Text-WideChar-Util-0.16-mevKbb/blib/lib/Text/WideChar/Util.pm line 195.
Wide character (U+9884) in pattern match (m//) at /Users/hornenj/.cpan/build/Text-WideChar-Util-0.16-mevKbb/blib/lib/Text/WideChar/Util.pm line 195.
Wide character (U+9632) in pattern match (m//) at /Users/hornenj/.cpan/build/Text-WideChar-Util-0.16-mevKbb/blib/lib/Text/WideChar/Util.pm line 195.
Wide character (U+707E) in pattern match (m//) at /Users/hornenj/.cpan/build/Text-WideChar-Util-0.16-mevKbb/blib/lib/Text/WideChar/Util.pm line 195.
Wide character (U+96BE) in pattern match (m//) at /Users/hornenj/.cpan/build/Text-WideChar-Util-0.16-mevKbb/blib/lib/Text/WideChar/Util.pm line 195.
Wide character (U+7684) in pattern match (m//) at /Users/hornenj/.cpan/build/Text-WideChar-Util-0.16-mevKbb/blib/lib/Text/WideChar/Util.pm line 195.
Wide character (U+53D1) in pattern match (m//) at /Users/hornenj/.cpan/build/Text-WideChar-Util-0.16-mevKbb/blib/lib/Text/WideChar/Util.pm line 195.
Wide character (U+751F) in pattern match (m//) at /Users/hornenj/.cpan/build/Text-WideChar-Util-0.16-mevKbb/blib/lib/Text/WideChar/Util.pm line 195.
Wide character (U+3002) in pattern match (m//) at /Users/hornenj/.cpan/build/Text-WideChar-Util-0.16-mevKbb/blib/lib/Text/WideChar/Util.pm line 195.
Wide character (U+76EE) in pattern match (m//) at /Users/hornenj/.cpan/build/Text-WideChar-Util-0.16-mevKbb/blib/lib/Text/WideChar/Util.pm line 195.
Wide character (U+524D) in pattern match (m//) at /Users/hornenj/.cpan/build/Text-WideChar-Util-0.16-mevKbb/blib/lib/Text/WideChar/Util.pm line 195.
Wide character (U+8FD8) in pattern match (m//) at /Users/hornenj/.cpan/build/Text-WideChar-Util-0.16-mevKbb/blib/lib/Text/WideChar/Util.pm line 195.
Wide character (U+4E0D) in pattern match (m//) at /Users/hornenj/.cpan/build/Text-WideChar-Util-0.16-mevKbb/blib/lib/Text/WideChar/Util.pm line 195.
Wide character (U+6E05) in pattern match (m//) at /Users/hornenj/.cpan/build/Text-WideChar-Util-0.16-mevKbb/blib/lib/Text/WideChar/Util.pm line 195.
Wide character (U+695A) in pattern match (m//) at /Users/hornenj/.cpan/build/Text-WideChar-Util-0.16-mevKbb/blib/lib/Text/WideChar/Util.pm line 195.
Wide character (U+6570) in pattern match (m//) at /Users/hornenj/.cpan/build/Text-WideChar-Util-0.16-mevKbb/blib/lib/Text/WideChar/Util.pm line 195.
Wide character (U+636E) in pattern match (m//) at /Users/hornenj/.cpan/build/Text-WideChar-Util-0.16-mevKbb/blib/lib/Text/WideChar/Util.pm line 195.
Wide character (U+4E2D) in pattern match (m//) at /Users/hornenj/.cpan/build/Text-WideChar-Util-0.16-mevKbb/blib/lib/Text/WideChar/Util.pm line 195.
Wide character (U+5FC3) in pattern match (m//) at /Users/hornenj/.cpan/build/Text-WideChar-Util-0.16-mevKbb/blib/lib/Text/WideChar/Util.pm line 195.
Wide character (U+8D77) in pattern match (m//) at /Users/hornenj/.cpan/build/Text-WideChar-Util-0.16-mevKbb/blib/lib/Text/WideChar/Util.pm line 195.
Wide character (U+706B) in pattern match (m//) at /Users/hornenj/.cpan/build/Text-WideChar-Util-0.16-mevKbb/blib/lib/Text/WideChar/Util.pm line 195.
Wide character (U+7684) in pattern match (m//) at /Users/hornenj/.cpan/build/Text-WideChar-Util-0.16-mevKbb/blib/lib/Text/WideChar/Util.pm line 195.
Wide character (U+539F) in pattern match (m//) at /Users/hornenj/.cpan/build/Text-WideChar-Util-0.16-mevKbb/blib/lib/Text/WideChar/Util.pm line 195.
Wide character (U+56E0) in pattern match (m//) at /Users/hornenj/.cpan/build/Text-WideChar-Util-0.16-mevKbb/blib/lib/Text/WideChar/Util.pm line 195.
Wide character (U+3002) in pattern match (m//) at /Users/hornenj/.cpan/build/Text-WideChar-Util-0.16-mevKbb/blib/lib/Text/WideChar/Util.pm line 195.
Wide character (U+4F4D) in pattern match (m//) at /Users/hornenj/.cpan/build/Text-WideChar-Util-0.16-mevKbb/blib/lib/Text/WideChar/Util.pm line 199.
Wide character (U+4F4D) in pattern match (m//) at /Users/hornenj/.cpan/build/Text-WideChar-Util-0.16-mevKbb/blib/lib/Text/WideChar/Util.pm line 201.
Wide character (U+4E8E) in pattern match (m//) at /Users/hornenj/.cpan/build/Text-WideChar-Util-0.16-mevKbb/blib/lib/Text/WideChar/Util.pm line 201.
Wide character (U+963F) in pattern match (m//) at /Users/hornenj/.cpan/build/Text-WideChar-Util-0.16-mevKbb/blib/lib/Text/WideChar/Util.pm line 201.
Wide character (U+6839) in pattern match (m//) at /Users/hornenj/.cpan/build/Text-WideChar-Util-0.16-mevKbb/blib/lib/Text/WideChar/Util.pm line 201.
Wide character (U+5EF7) in pattern match (m//) at /Users/hornenj/.cpan/build/Text-WideChar-Util-0.16-mevKbb/blib/lib/Text/WideChar/Util.pm line 201.
Wide character (U+9996) in pattern match (m//) at /Users/hornenj/.cpan/build/Text-WideChar-Util-0.16-mevKbb/blib/lib/Text/WideChar/Util.pm line 201.
Wide character (U+90FD) in pattern match (m//) at /Users/hornenj/.cpan/build/Text-WideChar-Util-0.16-mevKbb/blib/lib/Text/WideChar/Util.pm line 201.
Wide character (U+5E03) in pattern match (m//) at /Users/hornenj/.cpan/build/Text-WideChar-Util-0.16-mevKbb/blib/lib/Text/WideChar/Util.pm line 201.
Wide character (U+5B9C) in pattern match (m//) at /Users/hornenj/.cpan/build/Text-WideChar-Util-0.16-mevKbb/blib/lib/Text/WideChar/Util.pm line 201.
Wide character (U+8BFA) in pattern match (m//) at /Users/hornenj/.cpan/build/Text-WideChar-Util-0.16-mevKbb/blib/lib/Text/WideChar/Util.pm line 201.
Wide character (U+65AF) in pattern match (m//) at /Users/hornenj/.cpan/build/Text-WideChar-Util-0.16-mevKbb/blib/lib/Text/WideChar/Util.pm line 201.
Wide character (U+827E) in pattern match (m//) at /Users/hornenj/.cpan/build/Text-WideChar-Util-0.16-mevKbb/blib/lib/Text/WideChar/Util.pm line 201.
Wide character (U+5229) in pattern match (m//) at /Users/hornenj/.cpan/build/Text-WideChar-Util-0.16-mevKbb/blib/lib/Text/WideChar/Util.pm line 201.
Wide character (U+65AF) in pattern match (m//) at /Users/hornenj/.cpan/build/Text-WideChar-Util-0.16-mevKbb/blib/lib/Text/WideChar/Util.pm line 201.
Wide character (U+7684) in pattern match (m//) at /Users/hornenj/.cpan/build/Text-WideChar-Util-0.16-mevKbb/blib/lib/Text/WideChar/Util.pm line 201.
Wide character (U+4E00) in pattern match (m//) at /Users/hornenj/.cpan/build/Text-WideChar-Util-0.16-mevKbb/blib/lib/Text/WideChar/Util.pm line 201.
Wide character (U+4E2A) in pattern match (m//) at /Users/hornenj/.cpan/build/Text-WideChar-Util-0.16-mevKbb/blib/lib/Text/WideChar/Util.pm line 201.
Wide character (U+5927) in pattern match (m//) at /Users/hornenj/.cpan/build/Text-WideChar-Util-0.16-mevKbb/blib/lib/Text/WideChar/Util.pm line 201.
Wide character (U+6570) in pattern match (m//) at /Users/hornenj/.cpan/build/Text-WideChar-Util-0.16-mevKbb/blib/lib/Text/WideChar/Util.pm line 201.
Wide character (U+636E) in pattern match (m//) at /Users/hornenj/.cpan/build/Text-WideChar-Util-0.16-mevKbb/blib/lib/Text/WideChar/Util.pm line 201.
Wide character (U+4E2D) in pattern match (m//) at /Users/hornenj/.cpan/build/Text-WideChar-Util-0.16-mevKbb/blib/lib/Text/WideChar/Util.pm line 201.
Wide character (U+5FC3) in pattern match (m//) at /Users/hornenj/.cpan/build/Text-WideChar-Util-0.16-mevKbb/blib/lib/Text/WideChar/Util.pm line 201.
Wide character (U+5468) in pattern match (m//) at /Users/hornenj/.cpan/build/Text-WideChar-Util-0.16-mevKbb/blib/lib/Text/WideChar/Util.pm line 201.
Wide character (U+4E09) in pattern match (m//) at /Users/hornenj/.cpan/build/Text-WideChar-Util-0.16-mevKbb/blib/lib/Text/WideChar/Util.pm line 201.
Wide character (U+906D) in pattern match (m//) at /Users/hornenj/.cpan/build/Text-WideChar-Util-0.16-mevKbb/blib/lib/Text/WideChar/Util.pm line 201.
Wide character (U+5927) in pattern match (m//) at /Users/hornenj/.cpan/build/Text-WideChar-Util-0.16-mevKbb/blib/lib/Text/WideChar/Util.pm line 201.
Wide character (U+706B) in pattern match (m//) at /Users/hornenj/.cpan/build/Text-WideChar-Util-0.16-mevKbb/blib/lib/Text/WideChar/Util.pm line 201.
Wide character (U+70E7) in pattern match (m//) at /Users/hornenj/.cpan/build/Text-WideChar-Util-0.16-mevKbb/blib/lib/Text/WideChar/Util.pm line 201.
Wide character (U+6BC1) in pattern match (m//) at /Users/hornenj/.cpan/build/Text-WideChar-Util-0.16-mevKbb/blib/lib/Text/WideChar/Util.pm line 201.
Wide character (U+FF0C) in pattern match (m//) at /Users/hornenj/.cpan/build/Text-WideChar-Util-0.16-mevKbb/blib/lib/Text/WideChar/Util.pm line 201.
Wide character (U+4E5D) in pattern match (m//) at /Users/hornenj/.cpan/build/Text-WideChar-Util-0.16-mevKbb/blib/lib/Text/WideChar/Util.pm line 201.
Wide character (U+540D) in pattern match (m//) at /Users/hornenj/.cpan/build/Text-WideChar-Util-0.16-mevKbb/blib/lib/Text/WideChar/Util.pm line 201.
Wide character (U+6D88) in pattern match (m//) at /Users/hornenj/.cpan/build/Text-WideChar-Util-0.16-mevKbb/blib/lib/Text/WideChar/Util.pm line 201.
Wide character (U+9632) in pattern match (m//) at /Users/hornenj/.cpan/build/Text-WideChar-Util-0.16-mevKbb/blib/lib/Text/WideChar/Util.pm line 201.
Wide character (U+5458) in pattern match (m//) at /Users/hornenj/.cpan/build/Text-WideChar-Util-0.16-mevKbb/blib/lib/Text/WideChar/Util.pm line 201.
Wide character (U+5728) in pattern match (m//) at /Users/hornenj/.cpan/build/Text-WideChar-Util-0.16-mevKbb/blib/lib/Text/WideChar/Util.pm line 201.
Wide character (U+6551) in pattern match (m//) at /Users/hornenj/.cpan/build/Text-WideChar-Util-0.16-mevKbb/blib/lib/Text/WideChar/Util.pm line 201.
Wide character (U+706B) in pattern match (m//) at /Users/hornenj/.cpan/build/Text-WideChar-Util-0.16-mevKbb/blib/lib/Text/WideChar/Util.pm line 201.
Wide character (U+4E2D) in pattern match (m//) at /Users/hornenj/.cpan/build/Text-WideChar-Util-0.16-mevKbb/blib/lib/Text/WideChar/Util.pm line 201.
Wide character (U+4E27) in pattern match (m//) at /Users/hornenj/.cpan/build/Text-WideChar-Util-0.16-mevKbb/blib/lib/Text/WideChar/Util.pm line 201.
Wide character (U+751F) in pattern match (m//) at /Users/hornenj/.cpan/build/Text-WideChar-Util-0.16-mevKbb/blib/lib/Text/WideChar/Util.pm line 201.
Wide character (U+FF0C) in pattern match (m//) at /Users/hornenj/.cpan/build/Text-WideChar-Util-0.16-mevKbb/blib/lib/Text/WideChar/Util.pm line 201.
Wide character (U+4EBA) in pattern match (m//) at /Users/hornenj/.cpan/build/Text-WideChar-Util-0.16-mevKbb/blib/lib/Text/WideChar/Util.pm line 201.
Wide character (U+4EBA) in pattern match (m//) at /Users/hornenj/.cpan/build/Text-WideChar-Util-0.16-mevKbb/blib/lib/Text/WideChar/Util.pm line 201.
Wide character (U+5931) in pattern match (m//) at /Users/hornenj/.cpan/build/Text-WideChar-Util-0.16-mevKbb/blib/lib/Text/WideChar/Util.pm line 201.
Wide character (U+8E2A) in pattern match (m//) at /Users/hornenj/.cpan/build/Text-WideChar-Util-0.16-mevKbb/blib/lib/Text/WideChar/Util.pm line 201.
Wide character (U+FF0C) in pattern match (m//) at /Users/hornenj/.cpan/build/Text-WideChar-Util-0.16-mevKbb/blib/lib/Text/WideChar/Util.pm line 201.
Wide character (U+4EBA) in pattern match (m//) at /Users/hornenj/.cpan/build/Text-WideChar-Util-0.16-mevKbb/blib/lib/Text/WideChar/Util.pm line 201.
Wide character (U+4EBA) in pattern match (m//) at /Users/hornenj/.cpan/build/Text-WideChar-Util-0.16-mevKbb/blib/lib/Text/WideChar/Util.pm line 201.
Wide character (U+53D7) in pattern match (m//) at /Users/hornenj/.cpan/build/Text-WideChar-Util-0.16-mevKbb/blib/lib/Text/WideChar/Util.pm line 201.
Wide character (U+4F24) in pattern match (m//) at /Users/hornenj/.cpan/build/Text-WideChar-Util-0.16-mevKbb/blib/lib/Text/WideChar/Util.pm line 201.
Wide character (U+3002) in pattern match (m//) at /Users/hornenj/.cpan/build/Text-WideChar-Util-0.16-mevKbb/blib/lib/Text/WideChar/Util.pm line 201.
Wide character (U+6570) in pattern match (m//) at /Users/hornenj/.cpan/build/Text-WideChar-Util-0.16-mevKbb/blib/lib/Text/WideChar/Util.pm line 201.
Wide character (U+636E) in pattern match (m//) at /Users/hornenj/.cpan/build/Text-WideChar-Util-0.16-mevKbb/blib/lib/Text/WideChar/Util.pm line 201.
Wide character (U+4E2D) in pattern match (m//) at /Users/hornenj/.cpan/build/Text-WideChar-Util-0.16-mevKbb/blib/lib/Text/WideChar/Util.pm line 201.
Wide character (U+5FC3) in pattern match (m//) at /Users/hornenj/.cpan/build/Text-WideChar-Util-0.16-mevKbb/blib/lib/Text/WideChar/Util.pm line 201.
Wide character (U+50A8) in pattern match (m//) at /Users/hornenj/.cpan/build/Text-WideChar-Util-0.16-mevKbb/blib/lib/Text/WideChar/Util.pm line 201.
Wide character (U+5B58) in pattern match (m//) at /Users/hornenj/.cpan/build/Text-WideChar-Util-0.16-mevKbb/blib/lib/Text/WideChar/Util.pm line 201.
Wide character (U+4E86) in pattern match (m//) at /Users/hornenj/.cpan/build/Text-WideChar-Util-0.16-mevKbb/blib/lib/Text/WideChar/Util.pm line 201.
Wide character (U+963F) in pattern match (m//) at /Users/hornenj/.cpan/build/Text-WideChar-Util-0.16-mevKbb/blib/lib/Text/WideChar/Util.pm line 201.
Wide character (U+6839) in pattern match (m//) at /Users/hornenj/.cpan/build/Text-WideChar-Util-0.16-mevKbb/blib/lib/Text/WideChar/Util.pm line 201.
Wide character (U+5EF7) in pattern match (m//) at /Users/hornenj/.cpan/build/Text-WideChar-Util-0.16-mevKbb/blib/lib/Text/WideChar/Util.pm line 201.
Wide character (U+592E) in pattern match (m//) at /Users/hornenj/.cpan/build/Text-WideChar-Util-0.16-mevKbb/blib/lib/Text/WideChar/Util.pm line 201.
Wide character (U+884C) in pattern match (m//) at /Users/hornenj/.cpan/build/Text-WideChar-Util-0.16-mevKbb/blib/lib/Text/WideChar/Util.pm line 201.
Wide character (U+548C) in pattern match (m//) at /Users/hornenj/.cpan/build/Text-WideChar-Util-0.16-mevKbb/blib/lib/Text/WideChar/Util.pm line 201.
Wide character (U+4F01) in pattern match (m//) at /Users/hornenj/.cpan/build/Text-WideChar-Util-0.16-mevKbb/blib/lib/Text/WideChar/Util.pm line 201.
Wide character (U+4E1A) in pattern match (m//) at /Users/hornenj/.cpan/build/Text-WideChar-Util-0.16-mevKbb/blib/lib/Text/WideChar/Util.pm line 201.
Wide character (U+6863) in pattern match (m//) at /Users/hornenj/.cpan/build/Text-WideChar-Util-0.16-mevKbb/blib/lib/Text/WideChar/Util.pm line 201.
Wide character (U+6848) in pattern match (m//) at /Users/hornenj/.cpan/build/Text-WideChar-Util-0.16-mevKbb/blib/lib/Text/WideChar/Util.pm line 201.
Wide character (U+FF0C) in pattern match (m//) at /Users/hornenj/.cpan/build/Text-WideChar-Util-0.16-mevKbb/blib/lib/Text/WideChar/Util.pm line 201.
Wide character (U+56E0) in pattern match (m//) at /Users/hornenj/.cpan/build/Text-WideChar-Util-0.16-mevKbb/blib/lib/Text/WideChar/Util.pm line 201.
Wide character (U+6B64) in pattern match (m//) at /Users/hornenj/.cpan/build/Text-WideChar-Util-0.16-mevKbb/blib/lib/Text/WideChar/Util.pm line 201.
Wide character (U+635F) in pattern match (m//) at /Users/hornenj/.cpan/build/Text-WideChar-Util-0.16-mevKbb/blib/lib/Text/WideChar/Util.pm line 201.
Wide character (U+5931) in pattern match (m//) at /Users/hornenj/.cpan/build/Text-WideChar-Util-0.16-mevKbb/blib/lib/Text/WideChar/Util.pm line 201.
Wide character (U+53EF) in pattern match (m//) at /Users/hornenj/.cpan/build/Text-WideChar-Util-0.16-mevKbb/blib/lib/Text/WideChar/Util.pm line 201.
Wide character (U+80FD) in pattern match (m//) at /Users/hornenj/.cpan/build/Text-WideChar-Util-0.16-mevKbb/blib/lib/Text/WideChar/Util.pm line 201.
Wide character (U+975E) in pattern match (m//) at /Users/hornenj/.cpan/build/Text-WideChar-Util-0.16-mevKbb/blib/lib/Text/WideChar/Util.pm line 201.
Wide character (U+5E38) in pattern match (m//) at /Users/hornenj/.cpan/build/Text-WideChar-Util-0.16-mevKbb/blib/lib/Text/WideChar/Util.pm line 201.
Wide character (U+5DE8) in pattern match (m//) at /Users/hornenj/.cpan/build/Text-WideChar-Util-0.16-mevKbb/blib/lib/Text/WideChar/Util.pm line 201.
Wide character (U+5927) in pattern match (m//) at /Users/hornenj/.cpan/build/Text-WideChar-Util-0.16-mevKbb/blib/lib/Text/WideChar/Util.pm line 201.
Wide character (U+3002) in pattern match (m//) at /Users/hornenj/.cpan/build/Text-WideChar-Util-0.16-mevKbb/blib/lib/Text/WideChar/Util.pm line 201.
Wide character (U+8FD9) in pattern match (m//) at /Users/hornenj/.cpan/build/Text-WideChar-Util-0.16-mevKbb/blib/lib/Text/WideChar/Util.pm line 201.
Wide character (U+4E2A) in pattern match (m//) at /Users/hornenj/.cpan/build/Text-WideChar-Util-0.16-mevKbb/blib/lib/Text/WideChar/Util.pm line 201.
Wide character (U+6570) in pattern match (m//) at /Users/hornenj/.cpan/build/Text-WideChar-Util-0.16-mevKbb/blib/lib/Text/WideChar/Util.pm line 201.
Wide character (U+636E) in pattern match (m//) at /Users/hornenj/.cpan/build/Text-WideChar-Util-0.16-mevKbb/blib/lib/Text/WideChar/Util.pm line 201.
Wide character (U+4E2D) in pattern match (m//) at /Users/hornenj/.cpan/build/Text-WideChar-Util-0.16-mevKbb/blib/lib/Text/WideChar/Util.pm line 201.
Wide character (U+5FC3) in pattern match (m//) at /Users/hornenj/.cpan/build/Text-WideChar-Util-0.16-mevKbb/blib/lib/Text/WideChar/Util.pm line 201.
Wide character (U+914D) in pattern match (m//) at /Users/hornenj/.cpan/build/Text-WideChar-Util-0.16-mevKbb/blib/lib/Text/WideChar/Util.pm line 201.
Wide character (U+5907) in pattern match (m//) at /Users/hornenj/.cpan/build/Text-WideChar-Util-0.16-mevKbb/blib/lib/Text/WideChar/Util.pm line 201.
Wide character (U+4E86) in pattern match (m//) at /Users/hornenj/.cpan/build/Text-WideChar-Util-0.16-mevKbb/blib/lib/Text/WideChar/Util.pm line 201.
Wide character (U+79C1) in pattern match (m//) at /Users/hornenj/.cpan/build/Text-WideChar-Util-0.16-mevKbb/blib/lib/Text/WideChar/Util.pm line 201.
Wide character (U+4EBA) in pattern match (m//) at /Users/hornenj/.cpan/build/Text-WideChar-Util-0.16-mevKbb/blib/lib/Text/WideChar/Util.pm line 201.
Wide character (U+7684) in pattern match (m//) at /Users/hornenj/.cpan/build/Text-WideChar-Util-0.16-mevKbb/blib/lib/Text/WideChar/Util.pm line 201.
Wide character (U+6551) in pattern match (m//) at /Users/hornenj/.cpan/build/Text-WideChar-Util-0.16-mevKbb/blib/lib/Text/WideChar/Util.pm line 201.
Wide character (U+706B) in pattern match (m//) at /Users/hornenj/.cpan/build/Text-WideChar-Util-0.16-mevKbb/blib/lib/Text/WideChar/Util.pm line 201.
Wide character (U+961F) in pattern match (m//) at /Users/hornenj/.cpan/build/Text-WideChar-Util-0.16-mevKbb/blib/lib/Text/WideChar/Util.pm line 201.
Wide character (U+FF0C) in pattern match (m//) at /Users/hornenj/.cpan/build/Text-WideChar-Util-0.16-mevKbb/blib/lib/Text/WideChar/Util.pm line 201.
Wide character (U+81EA) in pattern match (m//) at /Users/hornenj/.cpan/build/Text-WideChar-Util-0.16-mevKbb/blib/lib/Text/WideChar/Util.pm line 201.
Wide character (U+52A8) in pattern match (m//) at /Users/hornenj/.cpan/build/Text-WideChar-Util-0.16-mevKbb/blib/lib/Text/WideChar/Util.pm line 201.
Wide character (U+55B7) in pattern match (m//) at /Users/hornenj/.cpan/build/Text-WideChar-Util-0.16-mevKbb/blib/lib/Text/WideChar/Util.pm line 201.
Wide character (U+6C34) in pattern match (m//) at /Users/hornenj/.cpan/build/Text-WideChar-Util-0.16-mevKbb/blib/lib/Text/WideChar/Util.pm line 201.
Wide character (U+706D) in pattern match (m//) at /Users/hornenj/.cpan/build/Text-WideChar-Util-0.16-mevKbb/blib/lib/Text/WideChar/Util.pm line 201.
Wide character (U+706B) in pattern match (m//) at /Users/hornenj/.cpan/build/Text-WideChar-Util-0.16-mevKbb/blib/lib/Text/WideChar/Util.pm line 201.
Wide character (U+7CFB) in pattern match (m//) at /Users/hornenj/.cpan/build/Text-WideChar-Util-0.16-mevKbb/blib/lib/Text/WideChar/Util.pm line 201.
Wide character (U+7EDF) in pattern match (m//) at /Users/hornenj/.cpan/build/Text-WideChar-Util-0.16-mevKbb/blib/lib/Text/WideChar/Util.pm line 201.
Wide character (U+FF0C) in pattern match (m//) at /Users/hornenj/.cpan/build/Text-WideChar-Util-0.16-mevKbb/blib/lib/Text/WideChar/Util.pm line 201.
Wide character (U+706B) in pattern match (m//) at /Users/hornenj/.cpan/build/Text-WideChar-Util-0.16-mevKbb/blib/lib/Text/WideChar/Util.pm line 201.
Wide character (U+707E) in pattern match (m//) at /Users/hornenj/.cpan/build/Text-WideChar-Util-0.16-mevKbb/blib/lib/Text/WideChar/Util.pm line 201.
Wide character (U+63A7) in pattern match (m//) at /Users/hornenj/.cpan/build/Text-WideChar-Util-0.16-mevKbb/blib/lib/Text/WideChar/Util.pm line 201.
Wide character (U+5236) in pattern match (m//) at /Users/hornenj/.cpan/build/Text-WideChar-Util-0.16-mevKbb/blib/lib/Text/WideChar/Util.pm line 201.
Wide character (U+7CFB) in pattern match (m//) at /Users/hornenj/.cpan/build/Text-WideChar-Util-0.16-mevKbb/blib/lib/Text/WideChar/Util.pm line 201.
Wide character (U+7EDF) in pattern match (m//) at /Users/hornenj/.cpan/build/Text-WideChar-Util-0.16-mevKbb/blib/lib/Text/WideChar/Util.pm line 201.
Wide character (U+4EE5) in pattern match (m//) at /Users/hornenj/.cpan/build/Text-WideChar-Util-0.16-mevKbb/blib/lib/Text/WideChar/Util.pm line 201.
Wide character (U+53CA) in pattern match (m//) at /Users/hornenj/.cpan/build/Text-WideChar-Util-0.16-mevKbb/blib/lib/Text/WideChar/Util.pm line 201.
Wide character (U+5176) in pattern match (m//) at /Users/hornenj/.cpan/build/Text-WideChar-Util-0.16-mevKbb/blib/lib/Text/WideChar/Util.pm line 201.
Wide character (U+5B83) in pattern match (m//) at /Users/hornenj/.cpan/build/Text-WideChar-Util-0.16-mevKbb/blib/lib/Text/WideChar/Util.pm line 201.
Wide character (U+706B) in pattern match (m//) at /Users/hornenj/.cpan/build/Text-WideChar-Util-0.16-mevKbb/blib/lib/Text/WideChar/Util.pm line 201.
Wide character (U+707E) in pattern match (m//) at /Users/hornenj/.cpan/build/Text-WideChar-Util-0.16-mevKbb/blib/lib/Text/WideChar/Util.pm line 201.
Wide character (U+9884) in pattern match (m//) at /Users/hornenj/.cpan/build/Text-WideChar-Util-0.16-mevKbb/blib/lib/Text/WideChar/Util.pm line 201.
Wide character (U+9632) in pattern match (m//) at /Users/hornenj/.cpan/build/Text-WideChar-Util-0.16-mevKbb/blib/lib/Text/WideChar/Util.pm line 201.
Wide character (U+7684) in pattern match (m//) at /Users/hornenj/.cpan/build/Text-WideChar-Util-0.16-mevKbb/blib/lib/Text/WideChar/Util.pm line 201.
Wide character (U+63AA) in pattern match (m//) at /Users/hornenj/.cpan/build/Text-WideChar-Util-0.16-mevKbb/blib/lib/Text/WideChar/Util.pm line 201.
Wide character (U+65BD) in pattern match (m//) at /Users/hornenj/.cpan/build/Text-WideChar-Util-0.16-mevKbb/blib/lib/Text/WideChar/Util.pm line 201.
Wide character (U+3002) in pattern match (m//) at /Users/hornenj/.cpan/build/Text-WideChar-Util-0.16-mevKbb/blib/lib/Text/WideChar/Util.pm line 201.
Wide character (U+4F46) in pattern match (m//) at /Users/hornenj/.cpan/build/Text-WideChar-Util-0.16-mevKbb/blib/lib/Text/WideChar/Util.pm line 201.
Wide character (U+5373) in pattern match (m//) at /Users/hornenj/.cpan/build/Text-WideChar-Util-0.16-mevKbb/blib/lib/Text/WideChar/Util.pm line 201.
Wide character (U+4FBF) in pattern match (m//) at /Users/hornenj/.cpan/build/Text-WideChar-Util-0.16-mevKbb/blib/lib/Text/WideChar/Util.pm line 201.
Wide character (U+5982) in pattern match (m//) at /Users/hornenj/.cpan/build/Text-WideChar-Util-0.16-mevKbb/blib/lib/Text/WideChar/Util.pm line 201.
Wide character (U+6B64) in pattern match (m//) at /Users/hornenj/.cpan/build/Text-WideChar-Util-0.16-mevKbb/blib/lib/Text/WideChar/Util.pm line 201.
Wide character (U+FF0C) in pattern match (m//) at /Users/hornenj/.cpan/build/Text-WideChar-Util-0.16-mevKbb/blib/lib/Text/WideChar/Util.pm line 201.
Wide character (U+4ECD) in pattern match (m//) at /Users/hornenj/.cpan/build/Text-WideChar-Util-0.16-mevKbb/blib/lib/Text/WideChar/Util.pm line 201.
Wide character (U+7136) in pattern match (m//) at /Users/hornenj/.cpan/build/Text-WideChar-Util-0.16-mevKbb/blib/lib/Text/WideChar/Util.pm line 201.
Wide character (U+6CA1) in pattern match (m//) at /Users/hornenj/.cpan/build/Text-WideChar-Util-0.16-mevKbb/blib/lib/Text/WideChar/Util.pm line 201.
Wide character (U+6709) in pattern match (m//) at /Users/hornenj/.cpan/build/Text-WideChar-Util-0.16-mevKbb/blib/lib/Text/WideChar/Util.pm line 201.
Wide character (U+9884) in pattern match (m//) at /Users/hornenj/.cpan/build/Text-WideChar-Util-0.16-mevKbb/blib/lib/Text/WideChar/Util.pm line 201.
Wide character (U+9632) in pattern match (m//) at /Users/hornenj/.cpan/build/Text-WideChar-Util-0.16-mevKbb/blib/lib/Text/WideChar/Util.pm line 201.
Wide character (U+707E) in pattern match (m//) at /Users/hornenj/.cpan/build/Text-WideChar-Util-0.16-mevKbb/blib/lib/Text/WideChar/Util.pm line 201.
Wide character (U+96BE) in pattern match (m//) at /Users/hornenj/.cpan/build/Text-WideChar-Util-0.16-mevKbb/blib/lib/Text/WideChar/Util.pm line 201.
Wide character (U+7684) in pattern match (m//) at /Users/hornenj/.cpan/build/Text-WideChar-Util-0.16-mevKbb/blib/lib/Text/WideChar/Util.pm line 201.
Wide character (U+53D1) in pattern match (m//) at /Users/hornenj/.cpan/build/Text-WideChar-Util-0.16-mevKbb/blib/lib/Text/WideChar/Util.pm line 201.
Wide character (U+751F) in pattern match (m//) at /Users/hornenj/.cpan/build/Text-WideChar-Util-0.16-mevKbb/blib/lib/Text/WideChar/Util.pm line 201.
Wide character (U+3002) in pattern match (m//) at /Users/hornenj/.cpan/build/Text-WideChar-Util-0.16-mevKbb/blib/lib/Text/WideChar/Util.pm line 201.
Wide character (U+76EE) in pattern match (m//) at /Users/hornenj/.cpan/build/Text-WideChar-Util-0.16-mevKbb/blib/lib/Text/WideChar/Util.pm line 201.
Wide character (U+524D) in pattern match (m//) at /Users/hornenj/.cpan/build/Text-WideChar-Util-0.16-mevKbb/blib/lib/Text/WideChar/Util.pm line 201.
Wide character (U+8FD8) in pattern match (m//) at /Users/hornenj/.cpan/build/Text-WideChar-Util-0.16-mevKbb/blib/lib/Text/WideChar/Util.pm line 201.
Wide character (U+4E0D) in pattern match (m//) at /Users/hornenj/.cpan/build/Text-WideChar-Util-0.16-mevKbb/blib/lib/Text/WideChar/Util.pm line 201.
Wide character (U+6E05) in pattern match (m//) at /Users/hornenj/.cpan/build/Text-WideChar-Util-0.16-mevKbb/blib/lib/Text/WideChar/Util.pm line 201.
Wide character (U+695A) in pattern match (m//) at /Users/hornenj/.cpan/build/Text-WideChar-Util-0.16-mevKbb/blib/lib/Text/WideChar/Util.pm line 201.
Wide character (U+6570) in pattern match (m//) at /Users/hornenj/.cpan/build/Text-WideChar-Util-0.16-mevKbb/blib/lib/Text/WideChar/Util.pm line 201.
Wide character (U+636E) in pattern match (m//) at /Users/hornenj/.cpan/build/Text-WideChar-Util-0.16-mevKbb/blib/lib/Text/WideChar/Util.pm line 201.
Wide character (U+4E2D) in pattern match (m//) at /Users/hornenj/.cpan/build/Text-WideChar-Util-0.16-mevKbb/blib/lib/Text/WideChar/Util.pm line 201.
Wide character (U+5FC3) in pattern match (m//) at /Users/hornenj/.cpan/build/Text-WideChar-Util-0.16-mevKbb/blib/lib/Text/WideChar/Util.pm line 201.
Wide character (U+8D77) in pattern match (m//) at /Users/hornenj/.cpan/build/Text-WideChar-Util-0.16-mevKbb/blib/lib/Text/WideChar/Util.pm line 201.
Wide character (U+706B) in pattern match (m//) at /Users/hornenj/.cpan/build/Text-WideChar-Util-0.16-mevKbb/blib/lib/Text/WideChar/Util.pm line 201.
Wide character (U+7684) in pattern match (m//) at /Users/hornenj/.cpan/build/Text-WideChar-Util-0.16-mevKbb/blib/lib/Text/WideChar/Util.pm line 201.
Wide character (U+539F) in pattern match (m//) at /Users/hornenj/.cpan/build/Text-WideChar-Util-0.16-mevKbb/blib/lib/Text/WideChar/Util.pm line 201.
Wide character (U+56E0) in pattern match (m//) at /Users/hornenj/.cpan/build/Text-WideChar-Util-0.16-mevKbb/blib/lib/Text/WideChar/Util.pm line 201.
Wide character (U+3002) in pattern match (m//) at /Users/hornenj/.cpan/build/Text-WideChar-Util-0.16-mevKbb/blib/lib/Text/WideChar/Util.pm line 201.
Wide character (U+5403) in pattern match (m//) at /Users/hornenj/.cpan/build/Text-WideChar-Util-0.16-mevKbb/blib/lib/Text/WideChar/Util.pm line 195.
Wide character (U+5403) in pattern match (m//) at /Users/hornenj/.cpan/build/Text-WideChar-Util-0.16-mevKbb/blib/lib/Text/WideChar/Util.pm line 195.
Wide character (U+5403) in pattern match (m//) at /Users/hornenj/.cpan/build/Text-WideChar-Util-0.16-mevKbb/blib/lib/Text/WideChar/Util.pm line 195.
Wide character (U+5403) in pattern match (m//) at /Users/hornenj/.cpan/build/Text-WideChar-Util-0.16-mevKbb/blib/lib/Text/WideChar/Util.pm line 195.
Wide character (U+5403) in pattern match (m//) at /Users/hornenj/.cpan/build/Text-WideChar-Util-0.16-mevKbb/blib/lib/Text/WideChar/Util.pm line 195.
Wide character (U+5403) in pattern match (m//) at /Users/hornenj/.cpan/build/Text-WideChar-Util-0.16-mevKbb/blib/lib/Text/WideChar/Util.pm line 195.
Wide character (U+5403) in pattern match (m//) at /Users/hornenj/.cpan/build/Text-WideChar-Util-0.16-mevKbb/blib/lib/Text/WideChar/Util.pm line 195.
Wide character (U+5403) in pattern match (m//) at /Users/hornenj/.cpan/build/Text-WideChar-Util-0.16-mevKbb/blib/lib/Text/WideChar/Util.pm line 195.
Wide character (U+5403) in pattern match (m//) at /Users/hornenj/.cpan/build/Text-WideChar-Util-0.16-mevKbb/blib/lib/Text/WideChar/Util.pm line 195.
Wide character (U+996D) in pattern match (m//) at /Users/hornenj/.cpan/build/Text-WideChar-Util-0.16-mevKbb/blib/lib/Text/WideChar/Util.pm line 195.
Wide character (U+996D) in pattern match (m//) at /Users/hornenj/.cpan/build/Text-WideChar-Util-0.16-mevKbb/blib/lib/Text/WideChar/Util.pm line 195.
Wide character (U+996D) in pattern match (m//) at /Users/hornenj/.cpan/build/Text-WideChar-Util-0.16-mevKbb/blib/lib/Text/WideChar/Util.pm line 195.
Wide character (U+996D) in pattern match (m//) at /Users/hornenj/.cpan/build/Text-WideChar-Util-0.16-mevKbb/blib/lib/Text/WideChar/Util.pm line 195.
Wide character (U+996D) in pattern match (m//) at /Users/hornenj/.cpan/build/Text-WideChar-Util-0.16-mevKbb/blib/lib/Text/WideChar/Util.pm line 195.
Wide character (U+996D) in pattern match (m//) at /Users/hornenj/.cpan/build/Text-WideChar-Util-0.16-mevKbb/blib/lib/Text/WideChar/Util.pm line 195.
Wide character (U+996D) in pattern match (m//) at /Users/hornenj/.cpan/build/Text-WideChar-Util-0.16-mevKbb/blib/lib/Text/WideChar/Util.pm line 195.
Wide character (U+996D) in pattern match (m//) at /Users/hornenj/.cpan/build/Text-WideChar-Util-0.16-mevKbb/blib/lib/Text/WideChar/Util.pm line 195.
Wide character (U+5403) in pattern match (m//) at /Users/hornenj/.cpan/build/Text-WideChar-Util-0.16-mevKbb/blib/lib/Text/WideChar/Util.pm line 195.
Wide character (U+5403) in pattern match (m//) at /Users/hornenj/.cpan/build/Text-WideChar-Util-0.16-mevKbb/blib/lib/Text/WideChar/Util.pm line 195.
Wide character (U+5403) in pattern match (m//) at /Users/hornenj/.cpan/build/Text-WideChar-Util-0.16-mevKbb/blib/lib/Text/WideChar/Util.pm line 195.
Wide character (U+5403) in pattern match (m//) at /Users/hornenj/.cpan/build/Text-WideChar-Util-0.16-mevKbb/blib/lib/Text/WideChar/Util.pm line 195.
Wide character (U+5403) in pattern match (m//) at /Users/hornenj/.cpan/build/Text-WideChar-Util-0.16-mevKbb/blib/lib/Text/WideChar/Util.pm line 195.
Wide character (U+5403) in pattern match (m//) at /Users/hornenj/.cpan/build/Text-WideChar-Util-0.16-mevKbb/blib/lib/Text/WideChar/Util.pm line 195.
Wide character (U+5403) in pattern match (m//) at /Users/hornenj/.cpan/build/Text-WideChar-Util-0.16-mevKbb/blib/lib/Text/WideChar/Util.pm line 195.
Wide character (U+5403) in pattern match (m//) at /Users/hornenj/.cpan/build/Text-WideChar-Util-0.16-mevKbb/blib/lib/Text/WideChar/Util.pm line 195.
Wide character (U+996D) in pattern match (m//) at /Users/hornenj/.cpan/build/Text-WideChar-Util-0.16-mevKbb/blib/lib/Text/WideChar/Util.pm line 195.
Wide character (U+996D) in pattern match (m//) at /Users/hornenj/.cpan/build/Text-WideChar-Util-0.16-mevKbb/blib/lib/Text/WideChar/Util.pm line 195.
Wide character (U+996D) in pattern match (m//) at /Users/hornenj/.cpan/build/Text-WideChar-Util-0.16-mevKbb/blib/lib/Text/WideChar/Util.pm line 195.
Wide character (U+996D) in pattern match (m//) at /Users/hornenj/.cpan/build/Text-WideChar-Util-0.16-mevKbb/blib/lib/Text/WideChar/Util.pm line 195.
Wide character (U+996D) in pattern match (m//) at /Users/hornenj/.cpan/build/Text-WideChar-Util-0.16-mevKbb/blib/lib/Text/WideChar/Util.pm line 195.
Wide character (U+996D) in pattern match (m//) at /Users/hornenj/.cpan/build/Text-WideChar-Util-0.16-mevKbb/blib/lib/Text/WideChar/Util.pm line 195.
Wide character (U+996D) in pattern match (m//) at /Users/hornenj/.cpan/build/Text-WideChar-Util-0.16-mevKbb/blib/lib/Text/WideChar/Util.pm line 195.
Wide character (U+996D) in pattern match (m//) at /Users/hornenj/.cpan/build/Text-WideChar-Util-0.16-mevKbb/blib/lib/Text/WideChar/Util.pm line 195.
Wide character (U+5403) in pattern match (m//) at /Users/hornenj/.cpan/build/Text-WideChar-Util-0.16-mevKbb/blib/lib/Text/WideChar/Util.pm line 195.
Wide character (U+5403) in pattern match (m//) at /Users/hornenj/.cpan/build/Text-WideChar-Util-0.16-mevKbb/blib/lib/Text/WideChar/Util.pm line 195.
Wide character (U+5403) in pattern match (m//) at /Users/hornenj/.cpan/build/Text-WideChar-Util-0.16-mevKbb/blib/lib/Text/WideChar/Util.pm line 195.
Wide character (U+5403) in pattern match (m//) at /Users/hornenj/.cpan/build/Text-WideChar-Util-0.16-mevKbb/blib/lib/Text/WideChar/Util.pm line 195.
Wide character (U+5403) in pattern match (m//) at /Users/hornenj/.cpan/build/Text-WideChar-Util-0.16-mevKbb/blib/lib/Text/WideChar/Util.pm line 195.
Wide character (U+5403) in pattern match (m//) at /Users/hornenj/.cpan/build/Text-WideChar-Util-0.16-mevKbb/blib/lib/Text/WideChar/Util.pm line 195.
Wide character (U+5403) in pattern match (m//) at /Users/hornenj/.cpan/build/Text-WideChar-Util-0.16-mevKbb/blib/lib/Text/WideChar/Util.pm line 195.
Wide character (U+5403) in pattern match (m//) at /Users/hornenj/.cpan/build/Text-WideChar-Util-0.16-mevKbb/blib/lib/Text/WideChar/Util.pm line 195.
Wide character (U+996D) in pattern match (m//) at /Users/hornenj/.cpan/build/Text-WideChar-Util-0.16-mevKbb/blib/lib/Text/WideChar/Util.pm line 195.
Wide character (U+996D) in pattern match (m//) at /Users/hornenj/.cpan/build/Text-WideChar-Util-0.16-mevKbb/blib/lib/Text/WideChar/Util.pm line 195.
Wide character (U+996D) in pattern match (m//) at /Users/hornenj/.cpan/build/Text-WideChar-Util-0.16-mevKbb/blib/lib/Text/WideChar/Util.pm line 195.
Wide character (U+996D) in pattern match (m//) at /Users/hornenj/.cpan/build/Text-WideChar-Util-0.16-mevKbb/blib/lib/Text/WideChar/Util.pm line 195.
Wide character (U+996D) in pattern match (m//) at /Users/hornenj/.cpan/build/Text-WideChar-Util-0.16-mevKbb/blib/lib/Text/WideChar/Util.pm line 195.
Wide character (U+996D) in pattern match (m//) at /Users/hornenj/.cpan/build/Text-WideChar-Util-0.16-mevKbb/blib/lib/Text/WideChar/Util.pm line 195.
Wide character (U+996D) in pattern match (m//) at /Users/hornenj/.cpan/build/Text-WideChar-Util-0.16-mevKbb/blib/lib/Text/WideChar/Util.pm line 195.
Wide character (U+996D) in pattern match (m//) at /Users/hornenj/.cpan/build/Text-WideChar-Util-0.16-mevKbb/blib/lib/Text/WideChar/Util.pm line 195.
Wide character (U+5403) in pattern match (m//) at /Users/hornenj/.cpan/build/Text-WideChar-Util-0.16-mevKbb/blib/lib/Text/WideChar/Util.pm line 195.
Wide character (U+5403) in pattern match (m//) at /Users/hornenj/.cpan/build/Text-WideChar-Util-0.16-mevKbb/blib/lib/Text/WideChar/Util.pm line 195.
Wide character (U+5403) in pattern match (m//) at /Users/hornenj/.cpan/build/Text-WideChar-Util-0.16-mevKbb/blib/lib/Text/WideChar/Util.pm line 195.
Wide character (U+5403) in pattern match (m//) at /Users/hornenj/.cpan/build/Text-WideChar-Util-0.16-mevKbb/blib/lib/Text/WideChar/Util.pm line 195.
Wide character (U+5403) in pattern match (m//) at /Users/hornenj/.cpan/build/Text-WideChar-Util-0.16-mevKbb/blib/lib/Text/WideChar/Util.pm line 195.
Wide character (U+5403) in pattern match (m//) at /Users/hornenj/.cpan/build/Text-WideChar-Util-0.16-mevKbb/blib/lib/Text/WideChar/Util.pm line 195.
Wide character (U+5403) in pattern match (m//) at /Users/hornenj/.cpan/build/Text-WideChar-Util-0.16-mevKbb/blib/lib/Text/WideChar/Util.pm line 195.
Wide character (U+5403) in pattern match (m//) at /Users/hornenj/.cpan/build/Text-WideChar-Util-0.16-mevKbb/blib/lib/Text/WideChar/Util.pm line 195.
Wide character (U+996D) in pattern match (m//) at /Users/hornenj/.cpan/build/Text-WideChar-Util-0.16-mevKbb/blib/lib/Text/WideChar/Util.pm line 195.
Wide character (U+996D) in pattern match (m//) at /Users/hornenj/.cpan/build/Text-WideChar-Util-0.16-mevKbb/blib/lib/Text/WideChar/Util.pm line 195.
Wide character (U+996D) in pattern match (m//) at /Users/hornenj/.cpan/build/Text-WideChar-Util-0.16-mevKbb/blib/lib/Text/WideChar/Util.pm line 195.
Wide character (U+996D) in pattern match (m//) at /Users/hornenj/.cpan/build/Text-WideChar-Util-0.16-mevKbb/blib/lib/Text/WideChar/Util.pm line 195.
Wide character (U+996D) in pattern match (m//) at /Users/hornenj/.cpan/build/Text-WideChar-Util-0.16-mevKbb/blib/lib/Text/WideChar/Util.pm line 195.
Wide character (U+996D) in pattern match (m//) at /Users/hornenj/.cpan/build/Text-WideChar-Util-0.16-mevKbb/blib/lib/Text/WideChar/Util.pm line 195.
Wide character (U+996D) in pattern match (m//) at /Users/hornenj/.cpan/build/Text-WideChar-Util-0.16-mevKbb/blib/lib/Text/WideChar/Util.pm line 195.
Wide character (U+996D) in pattern match (m//) at /Users/hornenj/.cpan/build/Text-WideChar-Util-0.16-mevKbb/blib/lib/Text/WideChar/Util.pm line 195.
t/wrap.t .................. ok
All tests successful.
Files=6, Tests=13, 1 wallclock secs ( 0.02 usr 0.01 sys + 0.15 cusr 0.04 csys = 0.22 CPU)
Result: PASS
------------------------------
PREREQUISITES
------------------------------
Prerequisite modules loaded:
requires:
Module Need Have
------------------- -------- --------
perl 5.010001 5.022001
Unicode::GCString 0 2013.10
build_requires:
Module Need Have
------------------- -------- --------
ExtUtils::MakeMaker 0 7.10
File::Spec 0 3.62
IO::Handle 0 1.35
IPC::Open3 0 1.18
Test::More 0.98 1.001014
configure_requires:
Module Need Have
------------------- -------- --------
ExtUtils::MakeMaker 0 7.10
------------------------------
ENVIRONMENT AND OTHER CONTEXT
------------------------------
Environment variables:
AUTOMATED_TESTING = 1
LANG = en_US.UTF-8
LC_ALL = POSIX
LD_LIBRARY_PATH = :/net/traces01.be-md.ncbi.nlm.nih.gov/trace_software/vdb/mac/release/x86_64/lib
NO_NETWORK_TESTING = 1
PATH = /Users/hornenj/perl5/perlbrew/bin:/Users/hornenj/perl5/perlbrew/perls/perl-5.22.1/bin:/Users/hornenj/perl5/perlbrew/bin:/Users/hornenj/bin:/sw/lib/perl5/ExtUtils:/sw/bin:/am/ncbiapdata/bin:/usr/bin:/bin:/usr/X11R6/bin:/netopt/ncbi_tools/bin:/usr/local/ncbi/blast/bin:/net/traces01.be-md.ncbi.nlm.nih.gov/trace_software/vdb/mac/release/x86_64/bin
PERL5LIB = /Users/hornenj/.cpan/build/Unicode-LineBreak-2015.12-Pls3w4/blib/arch:/Users/hornenj/.cpan/build/Unicode-LineBreak-2015.12-Pls3w4/blib/lib:/Users/hornenj/.cpan/build/MIME-Charset-1.012-kFa_SL/blib/arch:/Users/hornenj/.cpan/build/MIME-Charset-1.012-kFa_SL/blib/lib:/Users/hornenj/.cpan/build/String-ShellQuote-1.04-PcpRwy/blib/arch:/Users/hornenj/.cpan/build/String-ShellQuote-1.04-PcpRwy/blib/lib:/Users/hornenj/.cpan/build/Syntax-Feature-EachOnArray-0.04-9N5eZe/blib/arch:/Users/hornenj/.cpan/build/Syntax-Feature-EachOnArray-0.04-9N5eZe/blib/lib:/Users/hornenj/.cpan/build/syntax-0.004-DGSl8P/blib/arch:/Users/hornenj/.cpan/build/syntax-0.004-DGSl8P/blib/lib:/Users/hornenj/.cpan/build/Hash-FieldHash-0.14-gbyYi0/blib/arch:/Users/hornenj/.cpan/build/Hash-FieldHash-0.14-gbyYi0/blib/lib:/Users/hornenj/.cpan/build/String-Pad-0.01-9D6GbW/blib/arch:/Users/hornenj/.cpan/build/String-Pad-0.01-9D6GbW/blib/lib:/Users/hornenj/.cpan/build/Package-MoreUtil-0.58-TYNqKo/blib/arch:/Users/hornenj/.cpan/build/Package-MoreUtil-0.58-TYNqKo/blib/lib:/Users/hornenj/.cpan/build/Text-ANSI-Util-0.21-hLHs_L/blib/arch:/Users/hornenj/.cpan/build/Text-ANSI-Util-0.21-hLHs_L/blib/lib:/Users/hornenj/.cpan/build/Tie-Simple-1.04-43hXFY/blib/arch:/Users/hornenj/.cpan/build/Tie-Simple-1.04-43hXFY/blib/lib
PERL5OPT =
PERL5_CPANPLUS_IS_RUNNING = 46608
PERL5_CPAN_IS_RUNNING = 46608
PERL5_MINISMOKEBOX = 0.58
PERLBREW_BASHRC_VERSION = 0.74
PERLBREW_HOME = /Users/hornenj/.perlbrew
PERLBREW_LIB =
PERLBREW_MANPATH = /Users/hornenj/perl5/perlbrew/perls/perl-5.22.1/man
PERLBREW_PATH = /Users/hornenj/perl5/perlbrew/bin:/Users/hornenj/perl5/perlbrew/perls/perl-5.22.1/bin
PERLBREW_PERL = perl-5.22.1
PERLBREW_ROOT = /Users/hornenj/perl5/perlbrew
PERLBREW_VERSION = 0.74
PERL_EXTUTILS_AUTOINSTALL = --defaultdeps
PERL_LOCAL_LIB_ROOT =
PERL_MM_USE_DEFAULT = 1
SHELL = /bin/bash
TERM = xterm-256color
TMPDIR = /var/folders/pz/pd7y1qjs6s3cbk170cw50fjc000c61/T/
ac_cv_path_INTLTOOL_PERL = /usr/bin/perl
Perl special variables (and OS-specific diagnostics, for MSWin32):
$^X = /Users/hornenj/perl5/perlbrew/perls/perl-5.22.1/bin/perl5.22.1
$UID/$EUID = 12481 / 12481
$GID = 14 14 5344 37191 527 241
$EGID = 14 14 5344 37191 527 241
Perl module toolchain versions installed:
Module Have
------------------- --------
CPAN 2.11
CPAN::Meta 2.150005
Cwd 3.62
ExtUtils::CBuilder 0.280224
ExtUtils::Command 7.10
ExtUtils::Install 2.04
ExtUtils::MakeMaker 7.10
ExtUtils::Manifest 1.70
ExtUtils::ParseXS 3.30
File::Spec 3.62
JSON 2.90
JSON::PP 2.27300
Module::Build 0.4216
Module::Signature n/a
Parse::CPAN::Meta 1.4417
Test::Harness 3.36
Test::More 1.001014
YAML 1.15
YAML::Syck 1.29
version 0.9912
--
Summary of my perl5 (revision 5 version 22 subversion 1) configuration:
Platform:
osname=darwin, osvers=14.5.0, archname=darwin-thread-multi-2level
uname='darwin ncbimac2027.ncbi.nlm.nih.gov 14.5.0 darwin kernel version 14.5.0: tue sep 1 21:23:09 pdt 2015; root:xnu-2782.50.1~1release_x86_64 x86_64 '
config_args='-de -Dprefix=/Users/hornenj/perl5/perlbrew/perls/perl-5.22.1 -Duseithreads -Dusemultiplicity -Dusedevel -Accflags=-O2 -W -Wformat=2 -Wswitch -Wshadow -Wwrite-strings -Wuninitialized -Wall -pipe -mtune=native -march=native -fomit-frame-pointer -msse2 -msse -mmmx -pedantic -D_FORTIFY_SOURCE=2 -Wpointer-arith -Wstrict-prototypes -fstack-protector -Wstack-protector -Wextra -Wbad-function-cast -Wcast-align -Wcast-qual -Wdisabled-optimization -Wendif-labels -Wfloat-equal -Wformat-nonliteral -Winline -Wmissing-declarations -Wmissing-prototypes -Wnested-externs -Wpointer-arith -Wundef -Wformat-security -fassociative-math -Acc=cc -Aeval:scriptdir=/Users/hornenj/perl5/perlbrew/perls/perl-5.22.1/bin'
hint=recommended, useposix=true, d_sigaction=define
useithreads=define, usemultiplicity=define
use64bitint=define, use64bitall=define, uselongdouble=undef
usemymalloc=n, bincompat5005=undef
Compiler:
cc=' cc', ccflags ='-fno-common -DPERL_DARWIN -O2 -W -Wformat=2 -Wswitch -Wshadow -Wwrite-strings -Wuninitialized -Wall -pipe -mtune=native -march=native -fomit-frame-pointer -msse2 -msse -mmmx -pedantic -D_FORTIFY_SOURCE=2 -Wpointer-arith -Wstrict-prototypes -fstack-protector -Wstack-protector -Wextra -Wbad-function-cast -Wcast-align -Wcast-qual -Wdisabled-optimization -Wendif-labels -Wfloat-equal -Wformat-nonliteral -Winline -Wmissing-declarations -Wmissing-prototypes -Wnested-externs -Wpointer-arith -Wundef -Wformat-security -fassociative-math -fno-strict-aliasing -fstack-protector-strong -I/usr/local/include',
optimize='-O3',
cppflags='-fno-common -DPERL_DARWIN -O2 -W -Wformat=2 -Wswitch -Wshadow -Wwrite-strings -Wuninitialized -Wall -pipe -mtune=native -march=native -fomit-frame-pointer -msse2 -msse -mmmx -pedantic -D_FORTIFY_SOURCE=2 -Wpointer-arith -Wstrict-prototypes -fstack-protector -Wstack-protector -Wextra -Wbad-function-cast -Wcast-align -Wcast-qual -Wdisabled-optimization -Wendif-labels -Wfloat-equal -Wformat-nonliteral -Winline -Wmissing-declarations -Wmissing-prototypes -Wnested-externs -Wpointer-arith -Wundef -Wformat-security -fassociative-math -fno-strict-aliasing -fstack-protector-strong -I/usr/local/include'
ccversion='', gccversion='4.2.1 Compatible Apple LLVM 7.0.0 (clang-700.0.72)', gccosandvers=''
intsize=4, longsize=8, ptrsize=8, doublesize=8, byteorder=12345678, doublekind=3
d_longlong=define, longlongsize=8, d_longdbl=define, longdblsize=16, longdblkind=3
ivtype='long', ivsize=8, nvtype='double', nvsize=8, Off_t='off_t', lseeksize=8
alignbytes=8, prototype=define
Linker and Libraries:
ld='env MACOSX_DEPLOYMENT_TARGET=10.3 cc', ldflags =' -fstack-protector-strong -L/usr/local/lib'
libpth=/Applications/Xcode.app/Contents/Developer/Toolchains/XcodeDefault.xctoolchain/usr/bin/../lib/clang/7.0.0/lib /Applications/Xcode.app/Contents/Developer/Toolchains/XcodeDefault.xctoolchain/usr/lib /Applications/Xcode.app/Contents/Developer/Platforms/MacOSX.platform/Developer/SDKs/MacOSX10.11.sdk/usr/lib /usr/local/lib /usr/lib
libs=-lpthread -ldbm -ldl -lm -lutil -lc
perllibs=-lpthread -ldl -lm -lutil -lc
libc=, so=dylib, useshrplib=false, libperl=libperl.a
gnulibc_version=''
Dynamic Linking:
dlsrc=dl_dlopen.xs, dlext=bundle, d_dlsymun=undef, ccdlflags=' '
cccdlflags=' ', lddlflags=' -bundle -undefined dynamic_lookup -L/usr/local/lib -fstack-protector-strong'
Characteristics of this binary (from libperl):
Compile-time options: HAS_TIMES MULTIPLICITY PERLIO_LAYERS
PERL_DONT_CREATE_GVSV
PERL_HASH_FUNC_ONE_AT_A_TIME_HARD
PERL_IMPLICIT_CONTEXT PERL_MALLOC_WRAP
PERL_NEW_COPY_ON_WRITE PERL_PRESERVE_IVUV
PERL_USE_DEVEL USE_64_BIT_ALL USE_64_BIT_INT
USE_ITHREADS USE_LARGE_FILES USE_LOCALE
USE_LOCALE_COLLATE USE_LOCALE_CTYPE
USE_LOCALE_NUMERIC USE_LOCALE_TIME USE_PERLIO
USE_PERL_ATOF USE_REENTRANT_API
Locally applied patches:
Devel::PatchPerl 1.30
Built under darwin
Compiled at Dec 21 2015 09:57:31
%ENV:
PERL5LIB="/Users/hornenj/.cpan/build/Unicode-LineBreak-2015.12-Pls3w4/blib/arch:/Users/hornenj/.cpan/build/Unicode-LineBreak-2015.12-Pls3w4/blib/lib:/Users/hornenj/.cpan/build/MIME-Charset-1.012-kFa_SL/blib/arch:/Users/hornenj/.cpan/build/MIME-Charset-1.012-kFa_SL/blib/lib:/Users/hornenj/.cpan/build/String-ShellQuote-1.04-PcpRwy/blib/arch:/Users/hornenj/.cpan/build/String-ShellQuote-1.04-PcpRwy/blib/lib:/Users/hornenj/.cpan/build/Syntax-Feature-EachOnArray-0.04-9N5eZe/blib/arch:/Users/hornenj/.cpan/build/Syntax-Feature-EachOnArray-0.04-9N5eZe/blib/lib:/Users/hornenj/.cpan/build/syntax-0.004-DGSl8P/blib/arch:/Users/hornenj/.cpan/build/syntax-0.004-DGSl8P/blib/lib:/Users/hornenj/.cpan/build/Hash-FieldHash-0.14-gbyYi0/blib/arch:/Users/hornenj/.cpan/build/Hash-FieldHash-0.14-gbyYi0/blib/lib:/Users/hornenj/.cpan/build/String-Pad-0.01-9D6GbW/blib/arch:/Users/hornenj/.cpan/build/String-Pad-0.01-9D6GbW/blib/lib:/Users/hornenj/.cpan/build/Package-MoreUtil-0.58-TYNqKo/blib/arch:/Users/hornenj/.cpan/build/Package-MoreUtil-0.58-TYNqKo/blib/lib:/Users/hornenj/.cpan/build/Text-ANSI-Util-0.21-hLHs_L/blib/arch:/Users/hornenj/.cpan/build/Text-ANSI-Util-0.21-hLHs_L/blib/lib:/Users/hornenj/.cpan/build/Tie-Simple-1.04-43hXFY/blib/arch:/Users/hornenj/.cpan/build/Tie-Simple-1.04-43hXFY/blib/lib"
PERL5OPT=""
PERL5_CPANPLUS_IS_RUNNING="46608"
PERL5_CPAN_IS_RUNNING="46608"
PERL5_MINISMOKEBOX="0.58"
PERLBREW_BASHRC_VERSION="0.74"
PERLBREW_HOME="/Users/hornenj/.perlbrew"
PERLBREW_LIB=""
PERLBREW_MANPATH="/Users/hornenj/perl5/perlbrew/perls/perl-5.22.1/man"
PERLBREW_PATH="/Users/hornenj/perl5/perlbrew/bin:/Users/hornenj/perl5/perlbrew/perls/perl-5.22.1/bin"
PERLBREW_PERL="perl-5.22.1"
PERLBREW_ROOT="/Users/hornenj/perl5/perlbrew"
PERLBREW_VERSION="0.74"
PERL_EXTUTILS_AUTOINSTALL="--defaultdeps"
PERL_LOCAL_LIB_ROOT=""
PERL_MM_USE_DEFAULT="1"
@INC:
/Users/hornenj/.cpan/build/Unicode-LineBreak-2015.12-Pls3w4/blib/arch
/Users/hornenj/.cpan/build/Unicode-LineBreak-2015.12-Pls3w4/blib/lib
/Users/hornenj/.cpan/build/MIME-Charset-1.012-kFa_SL/blib/arch
/Users/hornenj/.cpan/build/MIME-Charset-1.012-kFa_SL/blib/lib
/Users/hornenj/.cpan/build/String-ShellQuote-1.04-PcpRwy/blib/arch
/Users/hornenj/.cpan/build/String-ShellQuote-1.04-PcpRwy/blib/lib
/Users/hornenj/.cpan/build/Syntax-Feature-EachOnArray-0.04-9N5eZe/blib/arch
/Users/hornenj/.cpan/build/Syntax-Feature-EachOnArray-0.04-9N5eZe/blib/lib
/Users/hornenj/.cpan/build/syntax-0.004-DGSl8P/blib/arch
/Users/hornenj/.cpan/build/syntax-0.004-DGSl8P/blib/lib
/Users/hornenj/.cpan/build/Hash-FieldHash-0.14-gbyYi0/blib/arch
/Users/hornenj/.cpan/build/Hash-FieldHash-0.14-gbyYi0/blib/lib
/Users/hornenj/.cpan/build/String-Pad-0.01-9D6GbW/blib/arch
/Users/hornenj/.cpan/build/String-Pad-0.01-9D6GbW/blib/lib
/Users/hornenj/.cpan/build/Package-MoreUtil-0.58-TYNqKo/blib/arch
/Users/hornenj/.cpan/build/Package-MoreUtil-0.58-TYNqKo/blib/lib
/Users/hornenj/.cpan/build/Text-ANSI-Util-0.21-hLHs_L/blib/arch
/Users/hornenj/.cpan/build/Text-ANSI-Util-0.21-hLHs_L/blib/lib
/Users/hornenj/.cpan/build/Tie-Simple-1.04-43hXFY/blib/arch
/Users/hornenj/.cpan/build/Tie-Simple-1.04-43hXFY/blib/lib
/Users/hornenj/perl5/perlbrew/perls/perl-5.22.1/lib/site_perl/5.22.1/darwin-thread-multi-2level
/Users/hornenj/perl5/perlbrew/perls/perl-5.22.1/lib/site_perl/5.22.1
/Users/hornenj/perl5/perlbrew/perls/perl-5.22.1/lib/5.22.1/darwin-thread-multi-2level
/Users/hornenj/perl5/perlbrew/perls/perl-5.22.1/lib/5.22.1
.