Report for Metabase-Backend-AWS-1.000

Back
From: metabase:user:314402c4-2aae-11df-837a-5e0a49663a4f
Subject: PASS Metabase-Backend-AWS-1.000 v5.14.4 GNU/Linux
Date: 2014-05-15T23:56:21Z

This distribution has been tested as part of the CPAN Testers
project, supporting the Perl programming language.  See
http://wiki.cpantesters.org/ for more information or email
questions to cpan-testers-discuss@perl.org


--
Dear David Golden,

This is a computer-generated report for Metabase-Backend-AWS-1.000
on perl 5.14.4, created by CPAN-Reporter-1.2011.

Thank you for uploading your work to CPAN.  Congratulations!
All tests were successful.

Sections of this report:

    * Tester comments
    * Program output
    * Prerequisites
    * Environment and other context

------------------------------
TESTER COMMENTS
------------------------------

Additional comments from tester:

none provided

------------------------------
PROGRAM OUTPUT
------------------------------

Output from '/usr/bin/make test':

PERL_DL_NONLAZY=1 /bbbike/perl-5.14.4/bin/perl5.14.4 "-MExtUtils::Command::MM" "-MTest::Harness" "-e" "undef *Test::Harness::Switches; test_harness(0, 'blib/lib', 'blib/arch')" t/*.t
Passing a list of values to enum is deprecated. Enum values should be wrapped in an arrayref. at /opt/perl-5.14.4/lib/site_perl/5.14.4/x86_64-linux/Moose/Util/TypeConstraints.pm line 440.
	Moose::Util::TypeConstraints::enum("StorageClass", "standard", "reduced_redundancy") called at /opt/perl-5.14.4/lib/site_perl/5.14.4/Net/Amazon/S3/Client/Object.pm line 21
	require Net/Amazon/S3/Client/Object.pm called at /opt/perl-5.14.4/lib/site_perl/5.14.4/Net/Amazon/S3.pm line 17
	Net::Amazon::S3::BEGIN() called at /opt/perl-5.14.4/lib/site_perl/5.14.4/Net/Amazon/S3/Client/Object.pm line 0
	eval {...} called at /opt/perl-5.14.4/lib/site_perl/5.14.4/Net/Amazon/S3/Client/Object.pm line 0
	require Net/Amazon/S3.pm called at lib/Metabase/Archive/S3.pm line 19
	Metabase::Archive::S3::BEGIN() called at /opt/perl-5.14.4/lib/site_perl/5.14.4/Net/Amazon/S3/Client/Object.pm line 0
	eval {...} called at /opt/perl-5.14.4/lib/site_perl/5.14.4/Net/Amazon/S3/Client/Object.pm line 0
	require Metabase/Archive/S3.pm called at -e line 1
t/00-compile.t .. ok
Passing a list of values to enum is deprecated. Enum values should be wrapped in an arrayref. at /opt/perl-5.14.4/lib/site_perl/5.14.4/x86_64-linux/Moose/Util/TypeConstraints.pm line 440.
	Moose::Util::TypeConstraints::enum("StorageClass", "standard", "reduced_redundancy") called at /opt/perl-5.14.4/lib/site_perl/5.14.4/Net/Amazon/S3/Client/Object.pm line 21
	require Net/Amazon/S3/Client/Object.pm called at /opt/perl-5.14.4/lib/site_perl/5.14.4/Net/Amazon/S3.pm line 17
	Net::Amazon::S3::BEGIN() called at /opt/perl-5.14.4/lib/site_perl/5.14.4/Net/Amazon/S3/Client/Object.pm line 0
	eval {...} called at /opt/perl-5.14.4/lib/site_perl/5.14.4/Net/Amazon/S3/Client/Object.pm line 0
	require Net/Amazon/S3.pm called at /tmpfs/.cpan-build/Metabase-Backend-AWS-1.000-Jk3b0G/blib/lib/Metabase/Archive/S3.pm line 19
	Metabase::Archive::S3::BEGIN() called at /opt/perl-5.14.4/lib/site_perl/5.14.4/Net/Amazon/S3/Client/Object.pm line 0
	eval {...} called at /opt/perl-5.14.4/lib/site_perl/5.14.4/Net/Amazon/S3/Client/Object.pm line 0
	require Metabase/Archive/S3.pm called at t/archive.t line 9
	main::BEGIN() called at /opt/perl-5.14.4/lib/site_perl/5.14.4/Net/Amazon/S3/Client/Object.pm line 0
	eval {...} called at /opt/perl-5.14.4/lib/site_perl/5.14.4/Net/Amazon/S3/Client/Object.pm line 0
t/archive.t ..... skipped: No $ENV{PERL_METABASE_TEST_AWS_PROFILE} provided for testing
t/index.t ....... skipped: No $ENV{PERL_METABASE_TEST_AWS_PROFILE} provided for testing
t/query.t ....... skipped: No $ENV{PERL_METABASE_TEST_AWS_PROFILE} provided for testing
All tests successful.
Files=4, Tests=3,  3 wallclock secs ( 0.03 usr  0.02 sys +  2.81 cusr  0.34 csys =  3.20 CPU)
Result: PASS

------------------------------
PREREQUISITES
------------------------------

Prerequisite modules loaded:

requires:

    Module                       Need  Have    
    ---------------------------- ----- --------
    Carp                         0     1.3301  
    Compress::Zlib               2     2.033   
    Data::Dumper                 0     2.130_02
    Data::GUID                   0     0.048   
    Data::Stream::Bulk::Callback 0     0.11    
    Data::Stream::Bulk::Filter   0.08  0.11    
    JSON                         2     2.90    
    List::AllUtils               0     0.08    
    Metabase::Archive            1     1.003   
    Metabase::Fact               0     0.024   
    Metabase::Index              1     1.003   
    Moose                        0     2.1206  
    Moose::Role                  0     2.1206  
    Moose::Util::TypeConstraints 0     2.1206  
    MooseX::Types::Path::Class   0     0.06    
    namespace::autoclean         0     0.15    
    Net::Amazon::S3              0     0.60    
    Path::Class                  0     0.33    
    SimpleDB::Client             0     1.0600  
    strict                       0     1.04    
    Try::Tiny                    0     0.22    
    warnings                     0     1.12    

build_requires:

    Module                       Need  Have    
    ---------------------------- ----- --------
    File::Find                   0     1.19    
    File::Temp                   0     0.2304  
    Metabase::Test::Archive      0     1.003   
    Metabase::Test::Index        0     1.003   
    Net::Amazon::Config          0     0.002   
    perl                         5.010 5.014004
    re                           0     0.18    
    Test::Deep                   0     0.112   
    Test::More                   0.92  1.001003
    Test::Routine                0     0.018   
    Test::Routine::Util          0     0.018   

configure_requires:

    Module                       Need  Have    
    ---------------------------- ----- --------
    ExtUtils::MakeMaker          6.30  6.98    


------------------------------
ENVIRONMENT AND OTHER CONTEXT
------------------------------

Environment variables:

    DBIC_NO_WARN_BAD_PERL = 1
    LANG = C
    PATH = /usr/local/bin:/usr/bin:/bin:/usr/local/sbin:/usr/sbin:/sbin:/home/eserte/bin/linux-gnu:/home/eserte/bin/sh:/home/eserte/bin:/usr/games:/home/eserte/devel:/home/eserte/src/srezic-misc/scripts
    PERL5LIB = 
    PERL5OPT = 
    PERL5_CPANPLUS_IS_RUNNING = 27865
    PERL5_CPAN_IS_RUNNING = 27865
    PERL5_CPAN_IS_RUNNING_IN_RECURSION = 28200,27865
    PERLDOC = -MPod::Perldoc::ToTextOverstrike
    PERL_BATCH = yes
    PERL_CPAN_REPORTER_CONFIG = /var/tmp/cpansmoker-1001/X3NcYcHzcU_config.ini
    PERL_EXTUTILS_AUTOINSTALL = --defaultdeps
    PERL_HTML_DISPLAY_CLASS = HTML::Display::Mozilla
    SHELL = /bin/zsh
    TERM = screen
    TMPDIR = /var/tmp/cpansmoker-1001

Perl special variables (and OS-specific diagnostics, for MSWin32):

    $^X = /bbbike/perl-5.14.4/bin/perl5.14.4
    $UID/$EUID = 1001 / 1001
    $GID = 1001 109 1001
    $EGID = 1001 109 1001

Perl module toolchain versions installed:

    Module              Have     
    ------------------- ---------
    CPAN                1.9600_01
    CPAN::Meta          2.141170 
    Cwd                 3.40     
    ExtUtils::CBuilder  0.280216 
    ExtUtils::Command   1.17     
    ExtUtils::Install   1.56     
    ExtUtils::MakeMaker 6.98     
    ExtUtils::Manifest  1.60     
    ExtUtils::ParseXS   3.24     
    File::Spec          3.40     
    JSON                2.90     
    JSON::PP            2.27203  
    Module::Build       0.4205   
    Module::Signature   0.73     
    Parse::CPAN::Meta   1.4414   
    Test::Harness       3.30     
    Test::More          1.001003 
    YAML                0.90     
    YAML::Syck          1.27     
    version             0.9908   


--

Summary of my perl5 (revision 5 version 14 subversion 4) configuration:
   
  Platform:
    osname=linux, osvers=3.2.0-4-amd64, archname=x86_64-linux
    uname='linux eserte 3.2.0-4-amd64 #1 smp debian 3.2.57-3 x86_64 gnulinux '
    config_args='-ds -e -Dprefix=/opt/perl-5.14.4'
    hint=recommended, useposix=true, d_sigaction=define
    useithreads=undef, usemultiplicity=undef
    useperlio=define, d_sfio=undef, uselargefiles=define, usesocks=undef
    use64bitint=define, use64bitall=define, uselongdouble=undef
    usemymalloc=n, bincompat5005=undef
  Compiler:
    cc='cc', ccflags ='-fno-strict-aliasing -pipe -fstack-protector -I/usr/local/include -D_LARGEFILE_SOURCE -D_FILE_OFFSET_BITS=64',
    optimize='-O2',
    cppflags='-fno-strict-aliasing -pipe -fstack-protector -I/usr/local/include'
    ccversion='', gccversion='4.7.2', gccosandvers=''
    intsize=4, longsize=8, ptrsize=8, doublesize=8, byteorder=12345678
    d_longlong=define, longlongsize=8, d_longdbl=define, longdblsize=16
    ivtype='long', ivsize=8, nvtype='double', nvsize=8, Off_t='off_t', lseeksize=8
    alignbytes=8, prototype=define
  Linker and Libraries:
    ld='cc', ldflags =' -fstack-protector -L/usr/local/lib'
    libpth=/usr/local/lib /lib/x86_64-linux-gnu /lib/../lib /usr/lib/x86_64-linux-gnu /usr/lib/../lib /lib /usr/lib
    libs=-lnsl -ldb -ldl -lm -lcrypt -lutil -lc
    perllibs=-lnsl -ldl -lm -lcrypt -lutil -lc
    libc=, so=so, useshrplib=false, libperl=libperl.a
    gnulibc_version='2.13'
  Dynamic Linking:
    dlsrc=dl_dlopen.xs, dlext=so, d_dlsymun=undef, ccdlflags='-Wl,-E'
    cccdlflags='-fPIC', lddlflags='-shared -O2 -L/usr/local/lib -fstack-protector'


Characteristics of this binary (from libperl): 
  Compile-time options: PERL_DONT_CREATE_GVSV PERL_MALLOC_WRAP
                        PERL_PRESERVE_IVUV USE_64_BIT_ALL USE_64_BIT_INT
                        USE_LARGE_FILES USE_PERLIO USE_PERL_ATOF
  Built under linux
  Compiled at May 15 2014 16:40:06
  %ENV:
    PERL5LIB=""
    PERL5OPT=""
    PERL5_CPANPLUS_IS_RUNNING="27865"
    PERL5_CPAN_IS_RUNNING="27865"
    PERL5_CPAN_IS_RUNNING_IN_RECURSION="28200,27865"
    PERLDOC="-MPod::Perldoc::ToTextOverstrike"
    PERL_BATCH="yes"
    PERL_CPAN_REPORTER_CONFIG="/var/tmp/cpansmoker-1001/X3NcYcHzcU_config.ini"
    PERL_EXTUTILS_AUTOINSTALL="--defaultdeps"
    PERL_HTML_DISPLAY_CLASS="HTML::Display::Mozilla"
  @INC:
    /opt/perl-5.14.4/lib/site_perl/5.14.4/x86_64-linux
    /opt/perl-5.14.4/lib/site_perl/5.14.4
    /opt/perl-5.14.4/lib/5.14.4/x86_64-linux
    /opt/perl-5.14.4/lib/5.14.4
    .