HTTP-Request-Generator v0.11 Perl 5 v5.30.3 x86_64-linux-ld

Status
Pass
From
David Cantrell (DCANTRELL)
Dist
HTTP-Request-Generator v0.11
Platform
Perl 5 v5.30.3 x86_64-linux-ld
Date
2022-07-29 13:08:18
ID
83f2e9ee-0f3f-11ed-a9bf-bd71e17dd6d6
This distribution has been tested as part of the CPAN Testers
project, supporting the Perl programming language.  See
http://wiki.cpantesters.org/ for more information or email
questions to cpan-testers-discuss@perl.org


--
Dear Max Maischein,

This is a computer-generated report for HTTP-Request-Generator-0.11
on perl 5.30.3, created by CPAN-Reporter-1.2018.

Thank you for uploading your work to CPAN.  Congratulations!
All tests were successful.

Sections of this report:

    * Tester comments
    * Program output
    * Prerequisites
    * Environment and other context

------------------------------
TESTER COMMENTS
------------------------------

Additional comments from tester:

this report is from an automated smoke testing program
and was not reviewed by a human for accuracy

------------------------------
PROGRAM OUTPUT
------------------------------

Output from '/usr/bin/make test':

PERL_DL_NONLAZY=1 "/home/david/cpantesting/perl-5.30.3-longdouble/bin/perl" "-MExtUtils::Command::MM" "-MTest::Harness" "-e" "undef *Test::Harness::Switches; test_harness(0, 'blib/lib', 'blib/arch')" t/00-load.t t/02-http-generator.t t/03-wrap-http-request.t t/03-wrap-plack.t t/03-wrap.t t/04-url-expansion.t
# Testing HTTP::Request::Generator 0.11, Perl 5.030003
# Algorithm::Loops 1.032
# Carp 1.50
# Config 5.030003
# Cwd 3.78
# Encode 3.01
# Encode::Alias 2.24
# Encode::Config 2.05
# Encode::Encoding 2.08
# Encode::MIME::Name 1.03
# Exporter 5.73
# Exporter::Heavy 5.73
# Exporter::Tiny 1.002002
# ExtUtils::Liblist 7.64
# ExtUtils::Liblist::Kid 7.64
# ExtUtils::MM 7.64
# ExtUtils::MM_Any 7.64
# ExtUtils::MM_Unix 7.64
# ExtUtils::MY 7.64
# ExtUtils::MakeMaker 7.64
# ExtUtils::MakeMaker::Config 7.64
# ExtUtils::MakeMaker::Locale 7.64
# ExtUtils::MakeMaker::version 7.64
# Fcntl 1.13
# File::Basename 2.85
# File::Glob 1.32
# File::Path 2.16
# File::Spec 3.78
# File::Spec::Unix 3.78
# Filter::Simple 0.95
# Filter::Util::Call 1.59
# Filter::signatures 0.17
# HTTP::Request::Generator 0.11
# I18N::Langinfo 0.18
# IO 1.40
# IO::Handle 1.40
# List::MoreUtils 0.430
# List::MoreUtils::PP 0.430
# List::MoreUtils::XS 0.430
# List::Util 1.62
# POSIX 1.88
# PerlIO 1.10
# Scalar::Util 1.62
# SelectSaver 1.02
# SelfLoader 1.25
# Storable 3.15
# Symbol 1.08
# Test::Builder 1.302191
# Test::Builder::Formatter 1.302191
# Test::Builder::Module 1.302191
# Test::Builder::TodoDiag 1.302191
# Test::More 1.302191
# Test2::API 1.302191
# Test2::API::Context 1.302191
# Test2::API::Instance 1.302191
# Test2::API::Stack 1.302191
# Test2::Event 1.302191
# Test2::Event::Bail 1.302191
# Test2::Event::Diag 1.302191
# Test2::Event::Exception 1.302191
# Test2::Event::Fail 1.302191
# Test2::Event::Note 1.302191
# Test2::Event::Ok 1.302191
# Test2::Event::Pass 1.302191
# Test2::Event::Plan 1.302191
# Test2::Event::Skip 1.302191
# Test2::Event::Subtest 1.302191
# Test2::Event::V2 1.302191
# Test2::Event::Waiting 1.302191
# Test2::EventFacet 1.302191
# Test2::EventFacet::About 1.302191
# Test2::EventFacet::Amnesty 1.302191
# Test2::EventFacet::Assert 1.302191
# Test2::EventFacet::Control 1.302191
# Test2::EventFacet::Error 1.302191
# Test2::EventFacet::Hub 1.302191
# Test2::EventFacet::Info 1.302191
# Test2::EventFacet::Meta 1.302191
# Test2::EventFacet::Parent 1.302191
# Test2::EventFacet::Plan 1.302191
# Test2::EventFacet::Trace 1.302191
# Test2::Formatter 1.302191
# Test2::Formatter::TAP 1.302191
# Test2::Hub 1.302191
# Test2::Hub::Interceptor 1.302191
# Test2::Hub::Interceptor::Terminator 1.302191
# Test2::Hub::Subtest 1.302191
# Test2::Util 1.302191
# Test2::Util::ExternalMeta 1.302191
# Test2::Util::Facets2Legacy 1.302191
# Test2::Util::HashBase 1.302191
# Test2::Util::Trace 1.302191
# Text::Balanced 2.03
# Tie::Hash 1.05
# Time::HiRes 1.976
# URI 5.10
# URI::Escape 5.10
# XSLoader 0.30
# base 2.27
# bytes 1.07
# constant 1.33
# feature 1.54
# mro 1.22
# overload 1.30
# overloading 0.02
# parent 0.237
# re 0.37
# strict 1.11
# vars 1.05
# version 0.9924
# version::regex 0.9924
# warnings 1.44
# warnings::register 1.04
t/00-load.t ............... ok
t/02-http-generator.t ..... ok
t/03-wrap-http-request.t .. ok
t/03-wrap-plack.t ......... skipped: Couldn't load test prerequiste modules: Can't locate Plack/Request.pm in @INC (you may need to install the Plack::Request module) (@INC contains: /home/david/cpantesting/perl-5.30.3-longdouble/.cpan/build/HTTP-Request-Generator-0.11-0/blib/lib /home/david/cpantesting/perl-5.30.3-longdouble/.cpan/build/HTTP-Request-Generator-0.11-0/blib/arch /home/david/cpantesting/perl-5.30.3-longdouble/lib/site_perl/5.30.3/x86_64-linux-ld /home/david/cpantesting/perl-5.30.3-longdouble/lib/site_perl/5.30.3 /home/david/cpantesting/perl-5.30.3-longdouble/lib/5.30.3/x86_64-linux-ld /home/david/cpantesting/perl-5.30.3-longdouble/lib/5.30.3) at t/03-wrap-plack.t line 9.
t/03-wrap.t ............... skipped: Couldn't load test prerequiste modules: Can't locate Dancer/Request.pm in @INC (you may need to install the Dancer::Request module) (@INC contains: /home/david/cpantesting/perl-5.30.3-longdouble/.cpan/build/HTTP-Request-Generator-0.11-0/blib/lib /home/david/cpantesting/perl-5.30.3-longdouble/.cpan/build/HTTP-Request-Generator-0.11-0/blib/arch /home/david/cpantesting/perl-5.30.3-longdouble/lib/site_perl/5.30.3/x86_64-linux-ld /home/david/cpantesting/perl-5.30.3-longdouble/lib/site_perl/5.30.3 /home/david/cpantesting/perl-5.30.3-longdouble/lib/5.30.3/x86_64-linux-ld /home/david/cpantesting/perl-5.30.3-longdouble/lib/5.30.3) at t/03-wrap.t line 11.
t/04-url-expansion.t ...... ok
All tests successful.
Files=6, Tests=52, 26 wallclock secs ( 0.11 usr  0.01 sys +  5.16 cusr  0.26 csys =  5.54 CPU)
Result: PASS

------------------------------
PREREQUISITES
------------------------------

Prerequisite modules loaded:

requires:

    Module              Need  Have    
    ------------------- ----- --------
    Algorithm::Loops    0     1.032   
    Carp                0     1.50    
    Exporter            5     5.73    
    Filter::signatures  0     0.17    
    List::MoreUtils     0     0.430   
    perl                5.006 5.030003
    URI                 0     5.10    
    URI::Escape         0     5.10    

build_requires:

    Module              Need  Have    
    ------------------- ----- --------
    Data::Dumper        0     2.174   
    ExtUtils::MakeMaker 0     7.64    
    File::Spec          0     3.78    
    Test::More          0     1.302191

configure_requires:

    Module              Need  Have    
    ------------------- ----- --------
    ExtUtils::MakeMaker 0     7.64    


------------------------------
ENVIRONMENT AND OTHER CONTEXT
------------------------------

Environment variables:

    AUTOMATED_TESTING = 1
    LANG = en_GB.UTF-8
    LANGUAGE = en_GB:en
    LC_TERMINAL = iTerm2
    LC_TERMINAL_VERSION = 3.4.16
    NONINTERACTIVE_TESTING = 1
    PATH = /home/david/perl5/perlbrew/bin:/home/david/perl5/perlbrew/perls/perl-5.30.2/bin:/home/david/bin:/usr/local/bin:/usr/bin:/bin:/usr/local/games:/usr/games
    PERL = 5.30.3-longdouble
    PERL5LIB = 
    PERL5OPT = 
    PERL5_CPANPLUS_IS_RUNNING = 387590
    PERL5_CPAN_IS_RUNNING = 387590
    PERLBREW_HOME = /home/david/.perlbrew
    PERLBREW_MANPATH = /home/david/perl5/perlbrew/perls/perl-5.30.2/man
    PERLBREW_PATH = /home/david/perl5/perlbrew/bin:/home/david/perl5/perlbrew/perls/perl-5.30.2/bin
    PERLBREW_PERL = perl-5.30.2
    PERLBREW_ROOT = /home/david/perl5/perlbrew
    PERLBREW_SHELLRC_VERSION = 0.89
    PERLBREW_VERSION = 0.89
    PERLVER = 5.30.3-longdouble
    PERL_INLINE_DIRECTORY = /home/david/.Inline-5.30.3-longdouble
    PERL_MM_USE_DEFAULT = 1
    PERL_USE_UNSAFE_INC = 0
    SHELL = /bin/bash
    TERM = screen

Perl special variables (and OS-specific diagnostics, for MSWin32):

    $^X = /home/david/cpantesting/perl-5.30.3-longdouble/bin/perl
    $UID/$EUID = 1000 / 1000
    $GID = 1000 24 25 27 29 30 44 46 109 1000
    $EGID = 1000 24 25 27 29 30 44 46 109 1000

Perl module toolchain versions installed:

    Module              Have    
    ------------------- --------
    CPAN                2.22    
    CPAN::Meta          2.150010
    Cwd                 3.78    
    ExtUtils::CBuilder  0.280231
    ExtUtils::Command   7.64    
    ExtUtils::Install   2.14    
    ExtUtils::MakeMaker 7.64    
    ExtUtils::Manifest  1.72    
    ExtUtils::ParseXS   3.40    
    File::Spec          3.78    
    JSON                4.07    
    JSON::PP            4.02    
    Module::Build       0.4231  
    Module::Signature   n/a     
    Parse::CPAN::Meta   2.150010
    Test::Harness       3.42    
    Test::More          1.302191
    YAML                1.30    
    YAML::Syck          n/a     
    version             0.9924  


--

Summary of my perl5 (revision 5 version 30 subversion 3) configuration:
   
  Platform:
    osname=linux
    osvers=5.10.0-11-amd64
    archname=x86_64-linux-ld
    uname='linux cpantesting-linux-utm 5.10.0-11-amd64 #1 smp debian 5.10.92-1 (2022-01-18) x86_64 gnulinux '
    config_args='-de -Duselongdouble -Dprefix=/home/david/cpantesting/perl-5.30.3-longdouble'
    hint=recommended
    useposix=true
    d_sigaction=define
    useithreads=undef
    usemultiplicity=undef
    use64bitint=define
    use64bitall=define
    uselongdouble=define
    usemymalloc=n
    default_inc_excludes_dot=define
    bincompat5005=undef
  Compiler:
    cc='cc'
    ccflags ='-fwrapv -fno-strict-aliasing -pipe -fstack-protector-strong -I/usr/local/include -D_LARGEFILE_SOURCE -D_FILE_OFFSET_BITS=64 -D_FORTIFY_SOURCE=2'
    optimize='-O2'
    cppflags='-fwrapv -fno-strict-aliasing -pipe -fstack-protector-strong -I/usr/local/include'
    ccversion=''
    gccversion='10.2.1 20210110'
    gccosandvers=''
    intsize=4
    longsize=8
    ptrsize=8
    doublesize=8
    byteorder=12345678
    doublekind=3
    d_longlong=define
    longlongsize=8
    d_longdbl=define
    longdblsize=16
    longdblkind=3
    ivtype='long'
    ivsize=8
    nvtype='long double'
    nvsize=16
    Off_t='off_t'
    lseeksize=8
    alignbytes=16
    prototype=define
  Linker and Libraries:
    ld='cc'
    ldflags =' -fstack-protector-strong -L/usr/local/lib'
    libpth=/usr/local/lib /usr/include/x86_64-linux-gnu /usr/lib /lib/x86_64-linux-gnu /lib/../lib /usr/lib/x86_64-linux-gnu /usr/lib/../lib /lib /lib64 /usr/lib64
    libs=-lpthread -lnsl -ldl -lm -lcrypt -lutil -lc
    perllibs=-lpthread -lnsl -ldl -lm -lcrypt -lutil -lc
    libc=libc-2.31.so
    so=so
    useshrplib=false
    libperl=libperl.a
    gnulibc_version='2.31'
  Dynamic Linking:
    dlsrc=dl_dlopen.xs
    dlext=so
    d_dlsymun=undef
    ccdlflags='-Wl,-E'
    cccdlflags='-fPIC'
    lddlflags='-shared -O2 -L/usr/local/lib -fstack-protector-strong'


Characteristics of this binary (from libperl): 
  Compile-time options:
    HAS_TIMES
    PERLIO_LAYERS
    PERL_COPY_ON_WRITE
    PERL_DONT_CREATE_GVSV
    PERL_MALLOC_WRAP
    PERL_OP_PARENT
    PERL_PRESERVE_IVUV
    USE_64_BIT_ALL
    USE_64_BIT_INT
    USE_LARGE_FILES
    USE_LOCALE
    USE_LOCALE_COLLATE
    USE_LOCALE_CTYPE
    USE_LOCALE_NUMERIC
    USE_LOCALE_TIME
    USE_LONG_DOUBLE
    USE_PERLIO
    USE_PERL_ATOF
  Locally applied patches:
    Devel::PatchPerl 2.08
  Built under linux
  Compiled at Feb  5 2022 21:27:05
  %ENV:
    PERL="5.30.3-longdouble"
    PERL5LIB=""
    PERL5OPT=""
    PERL5_CPANPLUS_IS_RUNNING="387590"
    PERL5_CPAN_IS_RUNNING="387590"
    PERLBREW_HOME="/home/david/.perlbrew"
    PERLBREW_MANPATH="/home/david/perl5/perlbrew/perls/perl-5.30.2/man"
    PERLBREW_PATH="/home/david/perl5/perlbrew/bin:/home/david/perl5/perlbrew/perls/perl-5.30.2/bin"
    PERLBREW_PERL="perl-5.30.2"
    PERLBREW_ROOT="/home/david/perl5/perlbrew"
    PERLBREW_SHELLRC_VERSION="0.89"
    PERLBREW_VERSION="0.89"
    PERLVER="5.30.3-longdouble"
    PERL_INLINE_DIRECTORY="/home/david/.Inline-5.30.3-longdouble"
    PERL_MM_USE_DEFAULT="1"
    PERL_USE_UNSAFE_INC="0"
  @INC:
    /home/david/cpantesting/perl-5.30.3-longdouble/lib/site_perl/5.30.3/x86_64-linux-ld
    /home/david/cpantesting/perl-5.30.3-longdouble/lib/site_perl/5.30.3
    /home/david/cpantesting/perl-5.30.3-longdouble/lib/5.30.3/x86_64-linux-ld
    /home/david/cpantesting/perl-5.30.3-longdouble/lib/5.30.3