Report for WebService-Pushover-v1.0.0

Back
From: metabase:user:314402c4-2aae-11df-837a-5e0a49663a4f
Subject: PASS WebService-Pushover-v1.0.0 v5.10.1 FreeBSD
Date: 2015-02-16T19:17:57Z

This distribution has been tested as part of the CPAN Testers
project, supporting the Perl programming language.  See
http://wiki.cpantesters.org/ for more information or email
questions to cpan-testers-discuss@perl.org


--
Dear Steve Huff,

This is a computer-generated report for WebService-Pushover-v1.0.0
on perl 5.10.1, created by CPAN-Reporter-1.2011.

Thank you for uploading your work to CPAN.  Congratulations!
All tests were successful.

Sections of this report:

    * Tester comments
    * Program output
    * Prerequisites
    * Environment and other context

------------------------------
TESTER COMMENTS
------------------------------

Additional comments from tester:

none provided

------------------------------
PROGRAM OUTPUT
------------------------------

Output from './Build test':

Writing README.mkdn
t/00-sanity.t ....... ok
t/01-messages.t ..... ok
t/02-receipts.t ..... ok
t/03-sounds.t ....... ok
t/04-users.t ........ ok
t/99-integration.t .. skipped: Integration tests disabled unless both PUSHOVER_API_TOKEN and PUSHOVER_USER_TOKEN environment variables are set
t/critic.t .......... skipped: Test::Perl::Critic required for testing Perl::Critic
t/pod-coverage.t .... ok
t/pod.t ............. ok
All tests successful.
Files=9, Tests=21,  9 wallclock secs ( 0.09 usr  0.09 sys +  5.58 cusr  0.99 csys =  6.75 CPU)
Result: PASS

------------------------------
PREREQUISITES
------------------------------

Prerequisite modules loaded:

requires:

    Module                                          Need  Have    
    ----------------------------------------------- ----- --------
    DateTime                                        0     1.18    
    DateTime::Format::Strptime                      0     1.56    
    File::Spec                                      0     3.47    
    Moo                                             0     1.007000
    Params::Validate                                0     1.17    
    perl                                            5.008 5.010001
    Readonly                                        0     2.00    
    URI                                             0     1.65    
    version                                         0     0.9912  
    WebService::Simple                              0     0.24    
    WebService::Simple::Parser::JSON                0     0       

build_requires:

    Module                                          Need  Have    
    ----------------------------------------------- ----- --------
    JSON                                            0     2.90    
    Module::Build::Pluggable::ReadmeMarkdownFromPod 0.04  0.04    
    Module::Build::Pluggable::Repository            0.10  0.10    
    Pod::Markdown                                   0     2.002   
    Test::Deep                                      0     0.115   
    Test::Fake::HTTPD                               0     0.06    
    Test::More                                      0     1.001014

configure_requires:

    Module                                          Need  Have    
    ----------------------------------------------- ----- --------
    Module::Build                                   0.38  0.4211  
    Module::Build::Pluggable::ReadmeMarkdownFromPod 0.04  0.04    
    Module::Build::Pluggable::Repository            0.10  0.10    


------------------------------
ENVIRONMENT AND OTHER CONTEXT
------------------------------

Environment variables:

    DBIC_NO_WARN_BAD_PERL = 1
    LC_ALL = de_DE.ISO8859-1
    PATH = /usr/local/bin:/usr/bin:/bin:/usr/local/sbin:/usr/sbin:/sbin:/home/cpansand/bin/freebsd9.1:/home/cpansand/bin/sh:/home/cpansand/bin:/usr/games:/home/cpansand/devel:/usr/home/eserte/src/srezic-misc/scripts
    PERL5LIB = 
    PERL5OPT =  -MDevel::Hide
    PERL5_CPANPLUS_IS_RUNNING = 59269
    PERL5_CPAN_IS_RUNNING = 59269
    PERL5_CPAN_IS_RUNNING_IN_RECURSION = 58232,59269
    PERLDOC = -MPod::Perldoc::ToTextOverstrike
    PERL_BATCH = yes
    PERL_CPAN_REPORTER_CONFIG = /var/tmp/cpansmoker-1023/nO_UpO9ATI_config.ini
    PERL_EXTUTILS_AUTOINSTALL = --defaultdeps
    PERL_HTML_DISPLAY_CLASS = HTML::Display::Mozilla
    SHELL = /usr/local/bin/zsh
    TERM = screen
    TMPDIR = /var/tmp/cpansmoker-1023

Perl special variables (and OS-specific diagnostics, for MSWin32):

    $^X = /usr/perl5.10.1/bin/perl
    $UID/$EUID = 1023 / 1023
    $GID = 1023 1023
    $EGID = 1023 1023

Perl module toolchain versions installed:

    Module              Have    
    ------------------- --------
    CPAN                2.05    
    CPAN::Meta          2.143240
    Cwd                 3.47    
    ExtUtils::CBuilder  0.280220
    ExtUtils::Command   1.20    
    ExtUtils::Install   2.04    
    ExtUtils::MakeMaker 7.04    
    ExtUtils::Manifest  1.69    
    ExtUtils::ParseXS   3.24    
    File::Spec          3.47    
    JSON                2.90    
    JSON::PP            2.27203 
    Module::Build       0.4211  
    Module::Signature   0.73    
    Parse::CPAN::Meta   1.4414  
    Test::Harness       3.34    
    Test::More          1.001014
    YAML                1.14    
    YAML::Syck          1.29    
    version             0.9912  


--

Summary of my perl5 (revision 5 version 10 subversion 1) configuration:
   
  Platform:
    osname=freebsd, osvers=9.2-release-p4, archname=amd64-freebsd
    uname='freebsd cvrsnica-freebsd-92 9.2-release-p4 freebsd 9.2-release-p4 #0: tue apr 8 18:08:22 utc 2014 root@amd64-builder.daemonology.net:usrobjusrsrcsysgeneric amd64 '
    config_args='-ds -e -Dprefix=/usr/perl5.10.1'
    hint=recommended, useposix=true, d_sigaction=define
    useithreads=undef, usemultiplicity=undef
    useperlio=define, d_sfio=undef, uselargefiles=define, usesocks=undef
    use64bitint=define, use64bitall=define, uselongdouble=undef
    usemymalloc=n, bincompat5005=undef
  Compiler:
    cc='cc', ccflags ='-DHAS_FPSETMASK -DHAS_FLOATINGPOINT_H -fno-strict-aliasing -pipe -fstack-protector -I/usr/local/include',
    optimize='-O',
    cppflags='-DHAS_FPSETMASK -DHAS_FLOATINGPOINT_H -fno-strict-aliasing -pipe -fstack-protector -I/usr/local/include'
    ccversion='', gccversion='4.2.1 20070831 patched [FreeBSD]', gccosandvers=''
    intsize=4, longsize=8, ptrsize=8, doublesize=8, byteorder=12345678
    d_longlong=define, longlongsize=8, d_longdbl=define, longdblsize=16
    ivtype='long', ivsize=8, nvtype='double', nvsize=8, Off_t='off_t', lseeksize=8
    alignbytes=8, prototype=define
  Linker and Libraries:
    ld='cc', ldflags ='-Wl,-E  -fstack-protector -L/usr/local/lib'
    libpth=/usr/lib /usr/local/lib
    libs=-lgdbm -lm -lcrypt -lutil -lc
    perllibs=-lm -lcrypt -lutil -lc
    libc=, so=so, useshrplib=false, libperl=libperl.a
    gnulibc_version=''
  Dynamic Linking:
    dlsrc=dl_dlopen.xs, dlext=so, d_dlsymun=undef, ccdlflags=' '
    cccdlflags='-DPIC -fPIC', lddlflags='-shared  -L/usr/local/lib -fstack-protector'


Characteristics of this binary (from libperl): 
  Compile-time options: PERL_DONT_CREATE_GVSV PERL_MALLOC_WRAP USE_64_BIT_ALL
                        USE_64_BIT_INT USE_LARGE_FILES USE_PERLIO
  Built under freebsd
  Compiled at May 15 2014 23:30:26
  %ENV:
    PERL5LIB=""
    PERL5OPT=" -MDevel::Hide"
    PERL5_CPANPLUS_IS_RUNNING="59269"
    PERL5_CPAN_IS_RUNNING="59269"
    PERL5_CPAN_IS_RUNNING_IN_RECURSION="58232,59269"
    PERLDOC="-MPod::Perldoc::ToTextOverstrike"
    PERL_BATCH="yes"
    PERL_CPAN_REPORTER_CONFIG="/var/tmp/cpansmoker-1023/nO_UpO9ATI_config.ini"
    PERL_EXTUTILS_AUTOINSTALL="--defaultdeps"
    PERL_HTML_DISPLAY_CLASS="HTML::Display::Mozilla"
  @INC:
    CODE(0x41415ac8)
    /usr/perl5.10.1/lib/5.10.1/amd64-freebsd
    /usr/perl5.10.1/lib/5.10.1
    /usr/perl5.10.1/lib/site_perl/5.10.1/amd64-freebsd
    /usr/perl5.10.1/lib/site_perl/5.10.1
    .