Report for autodie-2.29

Back
From: metabase:user:6970b1ae-1421-11e4-ab07-c64c76713efd
Subject: PASS autodie-2.29 v5.18.2 Mac OS X
Date: 2017-02-24T22:28:07Z

This distribution has been tested as part of the CPAN Testers
project, supporting the Perl programming language.  See
http://wiki.cpantesters.org/ for more information or email
questions to cpan-testers-discuss@perl.org


--
Dear Paul Jamieson Fenwick,

This is a computer-generated report for autodie-2.29
on perl 5.18.2, created by CPAN-Reporter-1.2015.

Thank you for uploading your work to CPAN.  Congratulations!
All tests were successful.

Sections of this report:

    * Tester comments
    * Program output
    * Prerequisites
    * Environment and other context

------------------------------
TESTER COMMENTS
------------------------------

Additional comments from tester:

this report is from an automated smoke testing program
and was not reviewed by a human for accuracy

------------------------------
PROGRAM OUTPUT
------------------------------

Output from '/usr/bin/make test':

PERL_DL_NONLAZY=1 "/usr/bin/perl" "-MExtUtils::Command::MM" "-MTest::Harness" "-e" "undef *Test::Harness::Switches; test_harness(0, 'blib/lib', 'blib/arch')" t/*.t
t/00-load.t ...................... ok
t/args.t ......................... ok
t/author-critic.t ................ skipped: these tests are for testing by the author
t/autodie.t ...................... ok
t/backcompat.t ................... ok
t/basic_exceptions.t ............. ok
t/binmode.t ...................... ok
t/blog_hints.t ................... ok
t/caller.t ....................... ok
t/chmod.t ........................ ok
t/chown.t ........................ ok
t/context.t ...................... ok
t/context_lexical.t .............. ok
t/core-trampoline-slurp.t ........ ok
t/crickey.t ...................... ok
t/critic.t ....................... skipped: Author test.  Set $ENV{AUTHOR_TESTING} to true to run.
t/dbmopen.t ...................... ok
t/eval_error.t ................... ok
t/exception_class.t .............. ok
t/exceptions.t ................... ok
t/exec.t ......................... ok
t/Fatal.t ........................ ok
t/filehandles.t .................. ok
t/fileno.t ....................... ok
t/flock.t ........................ ok
t/fork.t ......................... skipped: BSD::Resource required to test fork()
t/format-clobber.t ............... ok
# Sub::Identify is loaded
t/hints.t ........................ ok
t/hints_insist.t ................. ok
t/hints_pod_examples.t ........... ok
t/hints_provider_does.t .......... ok
t/hints_provider_easy_does_it.t .. ok
t/hints_provider_isa.t ........... ok
t/import-into.t .................. ok
t/internal-backcompat.t .......... ok
t/internal.t ..................... ok
t/kill.t ......................... skipped: Can unexpectedly signal process 1. Won't run as root.
t/kwalitee.t ..................... skipped: Author test.  Set $ENV{RELEASE_TESTING} to true to run.
t/lethal.t ....................... ok
t/lex58.t ........................ ok
t/mkdir.t ........................ ok
t/no_carp.t ...................... ok
t/open.t ......................... ok
t/pod-coverage.t ................. skipped: Author test.  Set $ENV{AUTHOR_TESTING} to true to run.
t/pod.t .......................... skipped: Author test.  Set $ENV{AUTHOR_TESTING} to true to run.
t/read.t ......................... ok
t/recv.t ......................... ok
t/release-pod-coverage.t ......... skipped: these tests are for release candidate testing
t/release-pod-syntax.t ........... skipped: these tests are for release candidate testing
t/repeat.t ....................... ok
t/rt-74246.t ..................... ok
t/scope_leak.t ................... ok
t/skip.t ......................... ok
t/socket.t ....................... skipped: Author test.  Set $ENV{AUTHOR_TESTING} to true to run.
t/string-eval-basic.t ............ ok
t/string-eval-leak.t ............. ok
t/sysopen.t ...................... ok
t/system.t ....................... ok
t/truncate.t ..................... ok
t/unlink.t ....................... ok
t/user-context.t ................. ok
t/usersub.t ...................... ok
t/utf8_open.t .................... ok
t/utime.t ........................ ok
t/version.t ...................... skipped: Release test.  Set $ENV{RELEASE_TESTING} to true to run.
t/version_tag.t .................. ok
All tests successful.
Files=66, Tests=506,  4 wallclock secs ( 0.24 usr  0.13 sys +  3.30 cusr  0.47 csys =  4.14 CPU)
Result: PASS

------------------------------
PREREQUISITES
------------------------------

Prerequisite modules loaded:

requires:

    Module                  Need     Have    
    ----------------------- -------- --------
    B                       0        1.42_02 
    Carp                    0        1.38    
    constant                0        1.33    
    Exporter                5.57     5.72    
    Fcntl                   0        1.11    
    overload                0        1.22    
    parent                  0        0.234   
    perl                    5.008004 5.018002
    POSIX                   0        1.32    
    Scalar::Util            0        1.42    
    strict                  0        1.07    
    Tie::RefHash            0        1.39    
    warnings                0        1.18    

build_requires:

    Module                  Need     Have    
    ----------------------- -------- --------
    ExtUtils::MakeMaker     0        7.10    
    File::Copy              0        2.26    
    File::Spec              0        3.62    
    File::Temp              0        0.2304  
    FindBin                 0        1.51    
    if                      0        0.0606  
    IO::Handle              0        1.34    
    lib                     0        0.63    
    Socket                  0        2.021   
    Test::More              0        1.001014

configure_requires:

    Module                  Need     Have    
    ----------------------- -------- --------
    ExtUtils::MakeMaker     0        7.10    

opt_requires:

    Module                  Need     Have    
    ----------------------- -------- --------
    IPC::System::Simple     0.12     1.25    
    perl                    5.010    5.018002
    Sub::Identify           0        0.12    

opt_build_requires:

    Module                  Need     Have    
    ----------------------- -------- --------
  ! BSD::Resource           0        n/a     
    Import::Into            1.002004 1.002005
    perl                    5.010    5.018002
  ! Pod::Coverage::TrustPod 0        n/a     
    Test::Kwalitee          0        1.22    
  ! Test::Perl::Critic      0        n/a     


------------------------------
ENVIRONMENT AND OTHER CONTEXT
------------------------------

Environment variables:

    AUTOMATED_TESTING = 1
    LANG = en_US.UTF-8
    PATH = /opt/local/bin:/opt/local/sbin:/Users/dhorner/Downloads/android-ndk-r10d:/usr/local/bin:/usr/bin:/bin:/usr/sbin:/sbin:/opt/X11/bin:/Users/dhorner/Downloads/adt-bundle-mac-x86_64-20140321/sdk/tools:/Users/dhorner/Downloads/adt-bundle-mac-x86_64-20140321/sdk/platform-tools
    PERL5LIB = 
    PERL5OPT = 
    PERL5_CPANPLUS_IS_RUNNING = 5819
    PERL5_CPAN_IS_RUNNING = 5819
    PERL5_CPAN_IS_RUNNING_IN_RECURSION = 6034,5819
    PERL_CR_SMOKER_CURRENT = autodie-2.29
    PERL_EXTUTILS_AUTOINSTALL = --defaultdeps
    PERL_MM_USE_DEFAULT = 1
    SHELL = /bin/sh
    TERM = xterm-256color
    VERSIONER_PERL_PREFER_32_BIT = no
    VERSIONER_PERL_VERSION = 5.18

Perl special variables (and OS-specific diagnostics, for MSWin32):

    $^X = /usr/bin/perl
    $UID/$EUID = 0 / 0
    $GID = 0 0 1 2 3 4 5 8 9 12 20 29 61 80 401 33 98 100 204 395 398 101
    $EGID = 0 0 1 2 3 4 5 8 9 12 20 29 61 80 401 33 98 100 204 395 398 101

Perl module toolchain versions installed:

    Module              Have    
    ------------------- --------
    CPAN                2.10    
    CPAN::Meta          2.150005
    Cwd                 3.62    
    ExtUtils::CBuilder  0.280224
    ExtUtils::Command   7.10    
    ExtUtils::Install   2.04    
    ExtUtils::MakeMaker 7.10    
    ExtUtils::Manifest  1.70    
    ExtUtils::ParseXS   3.30    
    File::Spec          3.62    
    JSON                2.90    
    JSON::PP            2.27300 
    Module::Build       0.4214  
    Module::Signature   n/a     
    Parse::CPAN::Meta   1.4417  
    Test::Harness       3.36    
    Test::More          1.001014
    YAML                1.15    
    YAML::Syck          1.29    
    version             0.9912  


--

Summary of my perl5 (revision 5 version 18 subversion 2) configuration:
   
  Platform:
    osname=darwin, osvers=16.0, archname=darwin-thread-multi-2level
    uname='darwin osx300.apple.com 16.0 darwin kernel version 15.0.0: wed apr 6 00:55:38 pdt 2016; root:xnu-3247.1.106.2.8~1development_x86_64 x86_64 '
    config_args='-ds -e -Dprefix=/usr -Dccflags=-g  -pipe  -Dldflags= -Dman3ext=3pm -Duseithreads -Duseshrplib -Dinc_version_list=none -Dcc=cc'
    hint=recommended, useposix=true, d_sigaction=define
    useithreads=define, usemultiplicity=define
    useperlio=define, d_sfio=undef, uselargefiles=define, usesocks=undef
    use64bitint=define, use64bitall=define, uselongdouble=undef
    usemymalloc=n, bincompat5005=undef
  Compiler:
    cc='cc', ccflags ='-arch x86_64 -arch i386 -g -pipe -fno-common -DPERL_DARWIN -fno-strict-aliasing -fstack-protector',
    optimize='-Os',
    cppflags='-g -pipe -fno-common -DPERL_DARWIN -fno-strict-aliasing -fstack-protector'
    ccversion='', gccversion='4.2.1 Compatible Apple LLVM 8.0.0 (clang-800.0.34)', gccosandvers=''
    intsize=4, longsize=8, ptrsize=8, doublesize=8, byteorder=12345678
    d_longlong=define, longlongsize=8, d_longdbl=define, longdblsize=16
    ivtype='long', ivsize=8, nvtype='double', nvsize=8, Off_t='off_t', lseeksize=8
    alignbytes=8, prototype=define
  Linker and Libraries:
    ld='cc -mmacosx-version-min=10.12.2', ldflags ='-arch x86_64 -arch i386 -fstack-protector'
    libpth=/usr/lib /usr/local/lib
    libs= 
    perllibs=
    libc=, so=dylib, useshrplib=true, libperl=libperl.dylib
    gnulibc_version=''
  Dynamic Linking:
    dlsrc=dl_dlopen.xs, dlext=bundle, d_dlsymun=undef, ccdlflags=' '
    cccdlflags=' ', lddlflags='-arch x86_64 -arch i386 -bundle -undefined dynamic_lookup -fstack-protector'


Characteristics of this binary (from libperl): 
  Compile-time options: HAS_TIMES MULTIPLICITY PERLIO_LAYERS
                        PERL_DONT_CREATE_GVSV
                        PERL_HASH_FUNC_ONE_AT_A_TIME_HARD
                        PERL_IMPLICIT_CONTEXT PERL_MALLOC_WRAP
                        PERL_PRESERVE_IVUV PERL_SAWAMPERSAND USE_64_BIT_ALL
                        USE_64_BIT_INT USE_ITHREADS USE_LARGE_FILES
                        USE_LOCALE USE_LOCALE_COLLATE USE_LOCALE_CTYPE
                        USE_LOCALE_NUMERIC USE_PERLIO USE_PERL_ATOF
                        USE_REENTRANT_API
  Locally applied patches:
	/Library/Perl/Updates/<version> comes before system perl directories
	installprivlib and installarchlib points to the Updates directory
  Built under darwin
  Compiled at Jul 30 2016 16:59:44
  %ENV:
    PERL5LIB=""
    PERL5OPT=""
    PERL5_CPANPLUS_IS_RUNNING="5819"
    PERL5_CPAN_IS_RUNNING="5819"
    PERL5_CPAN_IS_RUNNING_IN_RECURSION="6034,5819"
    PERL_CR_SMOKER_CURRENT="autodie-2.29"
    PERL_EXTUTILS_AUTOINSTALL="--defaultdeps"
    PERL_MM_USE_DEFAULT="1"
  @INC:
    /Library/Perl/5.18/darwin-thread-multi-2level
    /Library/Perl/5.18
    /Network/Library/Perl/5.18/darwin-thread-multi-2level
    /Network/Library/Perl/5.18
    /Library/Perl/Updates/5.18.2/darwin-thread-multi-2level
    /Library/Perl/Updates/5.18.2
    /System/Library/Perl/5.18/darwin-thread-multi-2level
    /System/Library/Perl/5.18
    /System/Library/Perl/Extras/5.18/darwin-thread-multi-2level
    /System/Library/Perl/Extras/5.18
    .