Software-License v0.104007 Perl 5 v5.24.4 darwin-2level

Status
Pass
From
Stanislaw Pusep
Dist
Software-License v0.104007
Platform
Perl 5 v5.24.4 darwin-2level
Date
2025-05-09 15:30:20
ID
8430b51e-2cea-11f0-be19-e4b9f4adc986
This distribution has been tested as part of the CPAN Testers
project, supporting the Perl programming language.  See
http://wiki.cpantesters.org/ for more information or email
questions to cpan-testers-discuss@perl.org


--
Dear LEONT,

This is a computer-generated report for Software-License-0.104007
on perl 5.24.4, created by App::cpanminus::reporter 0.22 (1.7047).

Thank you for uploading your work to CPAN.  Congratulations!
All tests were successful.

Sections of this report:

    * Tester comments
    * Program output
    * Prerequisites
    * Environment and other context

------------------------------
TESTER COMMENTS
------------------------------

Additional comments from tester:

none provided

------------------------------
PROGRAM OUTPUT
------------------------------

Output from '':

Building and testing Software-License-0.104007
cp lib/Software/License/GPL_1.pm blib/lib/Software/License/GPL_1.pm
cp lib/Software/License/Mozilla_1_1.pm blib/lib/Software/License/Mozilla_1_1.pm
cp lib/Software/License/Custom.pm blib/lib/Software/License/Custom.pm
cp lib/Software/License/Sun.pm blib/lib/Software/License/Sun.pm
cp lib/Software/License/EUPL_1_1.pm blib/lib/Software/License/EUPL_1_1.pm
cp lib/Software/License/Artistic_1_0_Perl.pm blib/lib/Software/License/Artistic_1_0_Perl.pm
cp lib/Software/License/LGPL_2_1.pm blib/lib/Software/License/LGPL_2_1.pm
cp lib/Software/License/FreeBSD.pm blib/lib/Software/License/FreeBSD.pm
cp lib/Software/License/CC0_1_0.pm blib/lib/Software/License/CC0_1_0.pm
cp lib/Software/LicenseUtils.pm blib/lib/Software/LicenseUtils.pm
cp lib/Software/License/OpenSSL.pm blib/lib/Software/License/OpenSSL.pm
cp lib/Software/License/Mozilla_1_0.pm blib/lib/Software/License/Mozilla_1_0.pm
cp lib/Software/License/ISC.pm blib/lib/Software/License/ISC.pm
cp lib/Software/License/LGPL_3_0.pm blib/lib/Software/License/LGPL_3_0.pm
cp lib/Software/License/EUPL_1_2.pm blib/lib/Software/License/EUPL_1_2.pm
cp lib/Software/License/MIT.pm blib/lib/Software/License/MIT.pm
cp lib/Software/License/Artistic_1_0.pm blib/lib/Software/License/Artistic_1_0.pm
cp lib/Software/License/Perl_5.pm blib/lib/Software/License/Perl_5.pm
cp lib/Software/License/PostgreSQL.pm blib/lib/Software/License/PostgreSQL.pm
cp lib/Software/License/GPL_3.pm blib/lib/Software/License/GPL_3.pm
cp lib/Software/License/Zlib.pm blib/lib/Software/License/Zlib.pm
cp lib/Software/License/Apache_2_0.pm blib/lib/Software/License/Apache_2_0.pm
cp lib/Software/License/AGPL_3.pm blib/lib/Software/License/AGPL_3.pm
cp lib/Software/License/GFDL_1_2.pm blib/lib/Software/License/GFDL_1_2.pm
cp lib/Software/License/Apache_1_1.pm blib/lib/Software/License/Apache_1_1.pm
cp lib/Software/License/GPL_2.pm blib/lib/Software/License/GPL_2.pm
cp lib/Software/License/GFDL_1_3.pm blib/lib/Software/License/GFDL_1_3.pm
cp lib/Software/License/QPL_1_0.pm blib/lib/Software/License/QPL_1_0.pm
cp lib/Software/License/Artistic_2_0.pm blib/lib/Software/License/Artistic_2_0.pm
cp lib/Software/License.pm blib/lib/Software/License.pm
cp lib/Software/License/None.pm blib/lib/Software/License/None.pm
cp lib/Software/License/SSLeay.pm blib/lib/Software/License/SSLeay.pm
cp lib/Software/License/Mozilla_2_0.pm blib/lib/Software/License/Mozilla_2_0.pm
cp lib/Software/License/BSD.pm blib/lib/Software/License/BSD.pm
Manifying 34 pod documents
PERL_DL_NONLAZY=1 "/Users/stan/perl5/perlbrew/perls/perl-5.24.4/bin/perl" "-MExtUtils::Command::MM" "-MTest::Harness" "-e" "undef *Test::Harness::Switches; test_harness(0, 'blib/lib', 'blib/arch')" t/*.t
# 
# Versions for all modules listed in MYMETA.json (including optional ones):
# 
# === Configure Requires ===
# 
#     Module              Want Have
#     ------------------- ---- ----
#     ExtUtils::MakeMaker 6.78 7.74
# 
# === Build Requires ===
# 
#     Module              Want Have
#     ------------------- ---- ----
#     ExtUtils::MakeMaker  any 7.74
# 
# === Test Requires ===
# 
#     Module              Want     Have
#     ------------------- ---- --------
#     ExtUtils::MakeMaker  any     7.74
#     File::Spec           any     3.75
#     Test::More          0.96 1.302211
#     Try::Tiny            any     0.32
# 
# === Test Recommends ===
# 
#     Module         Want     Have
#     ---------- -------- --------
#     CPAN::Meta 2.120900 2.150010
# 
# === Runtime Requires ===
# 
#     Module          Want     Have
#     -------------- ----- --------
#     Carp             any     1.50
#     Data::Section    any 0.200008
#     File::Spec       any     3.75
#     IO::Dir          any     1.55
#     Module::Load     any     0.36
#     Text::Template   any     1.61
#     parent           any    0.244
#     perl           5.012 5.024004
#     strict           any     1.11
#     utf8             any     1.19
#     warnings         any     1.36
# 
t/00-report-prereqs.t ....... ok
t/apache_2_0.t .............. ok
t/basic.t ................... ok
t/bsd-url.t ................. ok
t/creative_commons.t ........ skipped: requires Software::License::CCpack to test this
t/custom.t .................. ok
t/from-spdx-expression.t .... ok
t/guess_license_from_pod.t .. ok
t/guess_meta_license.t ...... ok
t/meta-names.t .............. ok
t/program.t ................. ok
t/round-trip.t .............. ok
t/short_name.t .............. ok
t/spdx-expression.t ......... ok
t/two-dots.t ................ ok
t/utils.t ................... ok
All tests successful.
Files=16, Tests=232,  2 wallclock secs ( 0.04 usr  0.02 sys +  1.04 cusr  0.18 csys =  1.28 CPU)
Result: PASS

------------------------------
PREREQUISITES
------------------------------

Prerequisite modules loaded:

runtime:

    Module              Need  Have    
    ------------------- ----- --------
    Carp                0     1.50    
    Data::Section       0     0.200008
    File::Spec          0     3.75    
    IO::Dir             0     1.55    
    Module::Load        0     0.36    
    parent              0     0.244   
    perl                5.012 5.024004
    strict              0     1.11    
    Text::Template      0     1.61    
    utf8                0     1.19    
    warnings            0     1.36    

build:

    Module              Need  Have    
    ------------------- ----- --------
    ExtUtils::MakeMaker 0     7.74    

configure:

    Module              Need  Have    
    ------------------- ----- --------
    ExtUtils::MakeMaker 6.78  7.74    


------------------------------
ENVIRONMENT AND OTHER CONTEXT
------------------------------

Environment variables:

    LANG = en_US.UTF-8
    LC_ALL = en_US.UTF-8
    LDFLAGS = -L/usr/local/opt/curl/lib
    PATH = /Users/stan/perl5/perlbrew/bin:/Users/stan/perl5/perlbrew/perls/perl-5.24.4/bin:/Users/stan/perl5/perlbrew/bin:/Users/stan/perl5/perlbrew/perls/perl-5.40.2/bin:/usr/local/opt/mysql-client/bin:/usr/local/opt/curl/bin:/usr/local/bin:/usr/local/sbin:/usr/local/bin:/System/Cryptexes/App/usr/bin:/usr/bin:/bin:/usr/sbin:/sbin:/Applications/Little Snitch.app/Contents/Components:/opt/X11/bin:/Applications/Wireshark.app/Contents/MacOS:/var/run/com.apple.security.cryptexd/codex.system/bootstrap/usr/local/bin:/var/run/com.apple.security.cryptexd/codex.system/bootstrap/usr/bin:/var/run/com.apple.security.cryptexd/codex.system/bootstrap/usr/appleinternal/bin:/Users/stan/.vim/bin:/Users/stan/bin:/Users/stan/.local/bin:/Users/stan/node_modules/.bin:/usr/local/sbin:/usr/local/opt/mysql-client/bin:/usr/local/opt/curl/bin
    PERL5LIB = 
    PERLBREW_HOME = /Users/stan/.perlbrew
    PERLBREW_LIB = 
    PERLBREW_MANPATH = /Users/stan/perl5/perlbrew/perls/perl-5.24.4/man
    PERLBREW_PATH = /Users/stan/perl5/perlbrew/bin:/Users/stan/perl5/perlbrew/perls/perl-5.24.4/bin
    PERLBREW_PERL = perl-5.24.4
    PERLBREW_ROOT = /Users/stan/perl5/perlbrew
    PERLBREW_SHELLRC_VERSION = 0.99
    PERLBREW_VERSION = 0.99
    PERL_LOCAL_LIB_ROOT = 
    PERL_MM_USE_DEFAULT = 1
    SHELL = /usr/local/bin/zsh
    TERM = screen-256color
    TMPDIR = /var/folders/tk/hx6fvpsj3yzbyd1k1br945mc0000gn/T/

Perl special variables (and OS-specific diagnostics, for MSWin32):

    EGID = 20 20 103 12 61 79 80 81 98 701 33 100 204 250 395 398 101
    EUID = 501
    EXECUTABLE_NAME = /Users/stan/perl5/perlbrew/perls/perl-5.24.4/bin/perl
    GID = 20 20 103 12 61 79 80 81 98 701 33 100 204 250 395 398 101
    UID = 501

Perl module toolchain versions installed:

    Module              Have    
    ------------------- --------
    CPAN                2.38    
    CPAN::Meta          2.150010
    Cwd                 3.75    
    ExtUtils::CBuilder  0.280236
    ExtUtils::Command   7.74    
    ExtUtils::Install   2.22    
    ExtUtils::MakeMaker 7.74    
    ExtUtils::Manifest  1.75    
    ExtUtils::ParseXS   3.57    
    File::Spec          3.75    
    JSON                4.10    
    JSON::PP            4.16    
    Module::Build       0.4234  
    Module::Signature   n/a     
    Parse::CPAN::Meta   2.150010
    Test::Harness       3.52    
    Test::More          1.302211
    YAML                1.31    
    YAML::Syck          n/a     
    version             0.9933  


--

Summary of my perl5 (revision 5 version 24 subversion 4) configuration:
   
  Platform:
    osname=darwin, osvers=21.3.0, archname=darwin-2level
    uname='darwin imac.fritz.box 21.3.0 darwin kernel version 21.3.0: wed jan 5 21:37:58 pst 2022; root:xnu-8019.80.24~20release_x86_64 x86_64 '
    config_args='-de -Dprefix=/Users/stan/perl5/perlbrew/perls/perl-5.24.4 -Aeval:scriptdir=/Users/stan/perl5/perlbrew/perls/perl-5.24.4/bin'
    hint=recommended, useposix=true, d_sigaction=define
    useithreads=undef, usemultiplicity=undef
    use64bitint=define, use64bitall=define, uselongdouble=undef
    usemymalloc=n, bincompat5005=undef
  Compiler:
    cc='cc', ccflags ='-fno-common -DPERL_DARWIN -mmacosx-version-min=12.2 -fno-strict-aliasing -pipe -fstack-protector-strong -I/usr/local/include -DPERL_USE_SAFE_PUTENV',
    optimize='-O3',
    cppflags='-fno-common -DPERL_DARWIN -mmacosx-version-min=12.2 -fno-strict-aliasing -pipe -fstack-protector-strong -I/usr/local/include'
    ccversion='', gccversion='Apple LLVM 13.0.0 (clang-1300.0.29.30)', gccosandvers=''
    intsize=4, longsize=8, ptrsize=8, doublesize=8, byteorder=12345678, doublekind=3
    d_longlong=define, longlongsize=8, d_longdbl=define, longdblsize=16, longdblkind=3
    ivtype='long', ivsize=8, nvtype='double', nvsize=8, Off_t='off_t', lseeksize=8
    alignbytes=8, prototype=define
  Linker and Libraries:
    ld='cc', ldflags =' -mmacosx-version-min=12.2 -fstack-protector-strong -L/usr/local/lib'
    libpth=/usr/local/lib /Library/Developer/CommandLineTools/usr/lib/clang/13.0.0/lib /Library/Developer/CommandLineTools/SDKs/MacOSX.sdk/usr/lib /Library/Developer/CommandLineTools/usr/lib /usr/lib
    libs=-lgdbm -ldb
    perllibs=
    libc=, so=dylib, useshrplib=false, libperl=libperl.a
    gnulibc_version=''
  Dynamic Linking:
    dlsrc=dl_dlopen.xs, dlext=bundle, d_dlsymun=undef, ccdlflags=' '
    cccdlflags=' ', lddlflags=' -mmacosx-version-min=12.2 -bundle -undefined dynamic_lookup -L/usr/local/lib -fstack-protector-strong'


Characteristics of this binary (from libperl): 
  Compile-time options: HAS_TIMES PERLIO_LAYERS PERL_COPY_ON_WRITE
                        PERL_DONT_CREATE_GVSV
                        PERL_HASH_FUNC_ONE_AT_A_TIME_HARD PERL_MALLOC_WRAP
                        PERL_PRESERVE_IVUV PERL_USE_SAFE_PUTENV
                        USE_64_BIT_ALL USE_64_BIT_INT USE_LARGE_FILES
                        USE_LOCALE USE_LOCALE_COLLATE USE_LOCALE_CTYPE
                        USE_LOCALE_NUMERIC USE_LOCALE_TIME USE_PERLIO
                        USE_PERL_ATOF
  Locally applied patches:
	Devel::PatchPerl 2.08
  Built under darwin
  Compiled at Feb 10 2022 22:43:40
  %ENV:
    PERL5LIB=""
    PERLBREW_HOME="/Users/stan/.perlbrew"
    PERLBREW_LIB=""
    PERLBREW_MANPATH="/Users/stan/perl5/perlbrew/perls/perl-5.24.4/man"
    PERLBREW_PATH="/Users/stan/perl5/perlbrew/bin:/Users/stan/perl5/perlbrew/perls/perl-5.24.4/bin"
    PERLBREW_PERL="perl-5.24.4"
    PERLBREW_ROOT="/Users/stan/perl5/perlbrew"
    PERLBREW_SHELLRC_VERSION="0.99"
    PERLBREW_VERSION="0.99"
    PERL_LOCAL_LIB_ROOT=""
    PERL_MM_USE_DEFAULT="1"
  @INC:
    /Users/stan/perl5/perlbrew/perls/perl-5.24.4/lib/site_perl/5.24.4/darwin-2level
    /Users/stan/perl5/perlbrew/perls/perl-5.24.4/lib/site_perl/5.24.4
    /Users/stan/perl5/perlbrew/perls/perl-5.24.4/lib/5.24.4/darwin-2level
    /Users/stan/perl5/perlbrew/perls/perl-5.24.4/lib/5.24.4
    .