Project-Euler v0.20 Perl 5 v5.10.1 i86pc-solaris-64int
- Status
- Pass
- From
- Jost Krieger
- Dist
-
Project-Euler v0.20
- Platform
- Perl 5 v5.10.1 i86pc-solaris-64int
- Date
- 2010-08-31 15:14:58
- ID
- 849bdc46-b512-11df-b381-ce803c0b7757
This distribution has been tested as part of the CPAN Testers
project, supporting the Perl programming language. See
http://wiki.cpantesters.org/ for more information or email
questions to cpan-testers-discuss@perl.org
--
Dear Adam Lesperance,
This is a computer-generated report for Project-Euler-0.20
on perl 5.10.1, created by CPAN-Reporter-1.18.
Thank you for uploading your work to CPAN. Congratulations!
All tests were successful.
Sections of this report:
* Tester comments
* Program output
* Prerequisites
* Environment and other context
------------------------------
TESTER COMMENTS
------------------------------
Additional comments from tester:
this report is from an automated smoke testing program
and was not reviewed by a human for accuracy
------------------------------
PROGRAM OUTPUT
------------------------------
Output from './Build test':
# Testing Project::Euler, Perl 5.010001, /export/home/cpantest/perl5/bin/perl
t/00-Base/00-load.t ........................... ok
t/00-Base/01-base.t ........................... ok
t/00-compile.t ................................ ok
t/10-Lib/000-Types.t .......................... ok
t/10-Lib/100-Utils_List.t ..................... ok
t/10-Lib/101-Utils_Fibs.t ..................... ok
t/20-Problems/000-Correct_Defaults.t .......... ok
t/20-Problems/001-Sum_Filtered_Lists.t ........ ok
t/20-Problems/002-Sum_Filtered_Fib_Numbers.t .. ok
t/author-99-template.t ........................ skipped: these tests are for testing by the author
t/author-critic.t ............................. skipped: these tests are for testing by the author
t/release-check-changes.t ..................... skipped: these tests are for release candidate testing
t/release-distmeta.t .......................... skipped: these tests are for release candidate testing
t/release-has-version.t ....................... skipped: these tests are for release candidate testing
t/release-kwalitee.t .......................... skipped: these tests are for release candidate testing
t/release-minimum-version.t ................... skipped: these tests are for release candidate testing
t/release-pod-coverage.t ...................... skipped: these tests are for release candidate testing
t/release-pod-syntax.t ........................ skipped: these tests are for release candidate testing
t/release-portability.t ....................... skipped: these tests are for release candidate testing
t/release-synopsis.t .......................... skipped: these tests are for release candidate testing
t/release-unused-vars.t ....................... skipped: these tests are for release candidate testing
All tests successful.
Files=21, Tests=338, 8 wallclock secs ( 0.12 usr 0.08 sys + 5.68 cusr 1.42 csys = 7.30 CPU)
Result: PASS
------------------------------
PREREQUISITES
------------------------------
Prerequisite modules loaded:
requires:
Module Need Have
--------------------------- ------ --------
Carp 0 1.11
DateTime 0 0.61
DateTime::Format::DateParse 0 0.05
Exporter::Easy 0 0.16
List::MoreUtils 0 0.24
List::Util 0 1.23
Math::Big::Factors 0 1.02
Math::BigInt 0 1.89
Modern::Perl 0 1.03
Moose 0 1.12
Moose::Role 0 1.12
MooseX::Types 0 0.23
MooseX::Types::Moose 0 0.23
namespace::autoclean 0 0.11
perl 5.010 5.010001
Readonly 0 1.03
String::Palindrome 0 1.02
build_requires:
Module Need Have
--------------------------- ------ --------
autodie 0 2.10
constant 0 1.19
English 0 1.04
File::Find 0 1.14
File::Spec 0 3.31
File::Temp 0 0.22
Module::Build 0.3601 0.3607
Test::Exception 0 0.29
Test::More 0 0.96
Test::Most 0 0.22
configure_requires:
Module Need Have
--------------------------- ------ --------
Module::Build 0.3601 0.3607
------------------------------
ENVIRONMENT AND OTHER CONTEXT
------------------------------
Environment variables:
AUTOMATED_TESTING = 1
LANG = en_US.UTF-8
PATH = /export/home/cpantest/perl5/bin:/usr/bin
PERL5LIB = /export/home/cpantest/.cpan/build/Math-Big-1.12-eVSHNU/blib/arch:/export/home/cpantest/.cpan/build/Math-Big-1.12-eVSHNU/blib/lib:/export/home/cpantest/.cpan/build/String-Palindrome-1.02-cELYe8/blib/arch:/export/home/cpantest/.cpan/build/String-Palindrome-1.02-cELYe8/blib/lib:/export/home/cpantest/.cpan/build/Exporter-Easy-0.16-avzggi/blib/arch:/export/home/cpantest/.cpan/build/Exporter-Easy-0.16-avzggi/blib/lib:/export/home/cpantest/.cpan/build/Modern-Perl-1.03-lziI1y/blib/arch:/export/home/cpantest/.cpan/build/Modern-Perl-1.03-lziI1y/blib/lib
PERL5OPT =
PERL5_CPANPLUS_IS_RUNNING = 5583
PERL5_CPAN_IS_RUNNING = 5583
PERL5_CPAN_IS_RUNNING_IN_RECURSION = 17456,5583
PERL_CR_SMOKER_CURRENT = Project-Euler-0.20
PERL_CR_SMOKER_RUNONCE = 1
PERL_EXTUTILS_AUTOINSTALL = --defaultdeps
PERL_MM_USE_DEFAULT = 1
SHELL = /bin/bash
TERM = xterm
Perl special variables (and OS-specific diagnostics, for MSWin32):
$^X = /export/home/cpantest/perl5/bin/perl
$UID/$EUID = 100 / 100
$GID = 1 1
$EGID = 1 1
Perl module toolchain versions installed:
Module Have
------------------- ------
CPAN 1.9402
Cwd 3.31
ExtUtils::CBuilder 0.2703
ExtUtils::Command 1.16
ExtUtils::Install 1.54
ExtUtils::MakeMaker 6.56
ExtUtils::Manifest 1.58
ExtUtils::ParseXS 2.2206
File::Spec 3.31
Module::Build 0.3607
Module::Signature n/a
Test::Harness 3.22
Test::More 0.96
YAML 0.71
YAML::Syck 1.14
version 0.82
--
Summary of my perl5 (revision 5 version 10 subversion 1) configuration:
Platform:
osname=solaris, osvers=2.11, archname=i86pc-solaris-64int
uname='sunos open-solaris-noc 5.11 snv_95 i86pc i386 i86pc '
config_args='-Dcc=gcc -Dprefix=~/perl5 -Duse64bitint -d'
hint=recommended, useposix=true, d_sigaction=define
useithreads=undef, usemultiplicity=undef
useperlio=define, d_sfio=undef, uselargefiles=define, usesocks=undef
use64bitint=define, use64bitall=undef, uselongdouble=undef
usemymalloc=n, bincompat5005=undef
Compiler:
cc='gcc', ccflags ='-DPTR_IS_LONG -fno-strict-aliasing -pipe -D_LARGEFILE_SOURCE -D_FILE_OFFSET_BITS=64 -DPERL_USE_SAFE_PUTENV',
optimize='-O',
cppflags='-DPTR_IS_LONG -fno-strict-aliasing -pipe'
ccversion='', gccversion='3.4.3 (csl-sol210-3_4-20050802)', gccosandvers='solaris2.11'
intsize=4, longsize=4, ptrsize=4, doublesize=8, byteorder=12345678
d_longlong=define, longlongsize=8, d_longdbl=define, longdblsize=12
ivtype='long long', ivsize=8, nvtype='double', nvsize=8, Off_t='off_t', lseeksize=8
alignbytes=4, prototype=define
Linker and Libraries:
ld='gcc', ldflags =' '
libpth=/usr/lib /usr/ccs/lib
libs=-lsocket -lnsl -ldl -lm -lc
perllibs=-lsocket -lnsl -ldl -lm -lc
libc=/lib/libc.so, so=so, useshrplib=false, libperl=libperl.a
gnulibc_version=''
Dynamic Linking:
dlsrc=dl_dlopen.xs, dlext=so, d_dlsymun=undef, ccdlflags=' '
cccdlflags='-fPIC', lddlflags='-G'
Characteristics of this binary (from libperl):
Compile-time options: PERL_DONT_CREATE_GVSV PERL_MALLOC_WRAP
PERL_USE_SAFE_PUTENV USE_64_BIT_INT USE_LARGE_FILES
USE_PERLIO
Built under solaris
Compiled at Aug 26 2009 15:53:47
%ENV:
PERL5LIB="/export/home/cpantest/.cpan/build/Math-Big-1.12-eVSHNU/blib/arch:/export/home/cpantest/.cpan/build/Math-Big-1.12-eVSHNU/blib/lib:/export/home/cpantest/.cpan/build/String-Palindrome-1.02-cELYe8/blib/arch:/export/home/cpantest/.cpan/build/String-Palindrome-1.02-cELYe8/blib/lib:/export/home/cpantest/.cpan/build/Exporter-Easy-0.16-avzggi/blib/arch:/export/home/cpantest/.cpan/build/Exporter-Easy-0.16-avzggi/blib/lib:/export/home/cpantest/.cpan/build/Modern-Perl-1.03-lziI1y/blib/arch:/export/home/cpantest/.cpan/build/Modern-Perl-1.03-lziI1y/blib/lib"
PERL5OPT=""
PERL5_CPANPLUS_IS_RUNNING="5583"
PERL5_CPAN_IS_RUNNING="5583"
PERL5_CPAN_IS_RUNNING_IN_RECURSION="17456,5583"
PERL_CR_SMOKER_CURRENT="Project-Euler-0.20"
PERL_CR_SMOKER_RUNONCE="1"
PERL_EXTUTILS_AUTOINSTALL="--defaultdeps"
PERL_MM_USE_DEFAULT="1"
@INC:
/export/home/cpantest/.cpan/build/Math-Big-1.12-eVSHNU/blib/arch
/export/home/cpantest/.cpan/build/Math-Big-1.12-eVSHNU/blib/lib
/export/home/cpantest/.cpan/build/String-Palindrome-1.02-cELYe8/blib/arch
/export/home/cpantest/.cpan/build/String-Palindrome-1.02-cELYe8/blib/lib
/export/home/cpantest/.cpan/build/Exporter-Easy-0.16-avzggi/blib/arch
/export/home/cpantest/.cpan/build/Exporter-Easy-0.16-avzggi/blib/lib
/export/home/cpantest/.cpan/build/Modern-Perl-1.03-lziI1y/blib/arch
/export/home/cpantest/.cpan/build/Modern-Perl-1.03-lziI1y/blib/lib
/export/home/cpantest/perl5/lib/5.10.1/i86pc-solaris-64int
/export/home/cpantest/perl5/lib/5.10.1
/export/home/cpantest/perl5/lib/site_perl/5.10.1/i86pc-solaris-64int
/export/home/cpantest/perl5/lib/site_perl/5.10.1
/export/home/cpantest/perl5/lib/site_perl/5.10.0/i86pc-solaris-64int
/export/home/cpantest/perl5/lib/site_perl/5.10.0
/export/home/cpantest/perl5/lib/site_perl
.