Report for PurpleWiki-0.94

Back
From: metabase:user:e3434da8-b236-11df-85ca-0247c6d74bde
Subject: PASS PurpleWiki-0.94 v5.14.0 GNU/Linux
Date: 2011-06-02T08:51:34Z

This distribution has been tested as part of the CPAN Testers
project, supporting the Perl programming language.  See
http://wiki.cpantesters.org/ for more information or email
questions to cpan-testers-discuss@perl.org


--
Dear Chris Dent,

This is a computer-generated report for PurpleWiki-0.94
on perl 5.14.0, created by CPAN-Reporter-1.1902.

Thank you for uploading your work to CPAN.  Congratulations!
All tests were successful.

Sections of this report:

    * Tester comments
    * Program output
    * Prerequisites
    * Environment and other context

------------------------------
TESTER COMMENTS
------------------------------

Additional comments from tester:

this report is from an automated smoke testing program
and was not reviewed by a human for accuracy

------------------------------
PROGRAM OUTPUT
------------------------------

Output from '/usr/bin/make test':

PERL_DL_NONLAZY=1 /home/perl514/testing/bin/perl5.14.0 "-MExtUtils::Command::MM" "-e" "test_harness(0, 'blib/lib', 'blib/arch')" t/*.t
t/config.t ............. ok
t/database.t ........... ok
t/inline_node.t ........ ok
t/page.t ............... ok
t/parser01.t ........... ok
t/parser02.t ........... ok
t/parser03.t ........... ok
t/parser04.t ........... ok
t/parser05.t ........... ok
t/parser07.t ........... ok
t/parser08.t ........... ok
t/parser_freelinks.t ... ok
t/parser_hr.t .......... ok
t/parser_interlinks.t .. ok
t/parser_lists.t ....... ok
t/parser_mixedlists.t .. ok
t/parser_pre.t ......... ok
t/sequence.t ........... ok
t/structural_node.t .... ok
t/tree.t ............... ok
t/userdb.t ............. ok
t/wikihtml.t ........... ok
t/wikitext.t ........... ok
All tests successful.
Files=23, Tests=800,  7 wallclock secs ( 0.16 usr  0.05 sys +  3.06 cusr  0.59 csys =  3.86 CPU)
Result: PASS

------------------------------
PREREQUISITES
------------------------------

Prerequisite modules loaded:

requires:

    Module              Need Have     
    ------------------- ---- ---------
    AppConfig           1.55 1.66     
    CGI                 0    3.52     
    CGI::Carp           0    3.51     
  ! CGI::Session        0    n/a      
    Date::Manip         0    6.23     
    DB_File             0    1.821    
    IO::File            0    1.15     
    LWP::UserAgent      0    6.02     
    Template            0    2.22     
    Text::Diff          0    1.41     
    Text::Wrap          0    2009.0305
  ! XML::RSS            0    broken   

build_requires:

    Module              Need Have     
    ------------------- ---- ---------
    ExtUtils::MakeMaker 0    6.57_05  


------------------------------
ENVIRONMENT AND OTHER CONTEXT
------------------------------

Environment variables:

    AUTOMATED_TESTING = 1
    LANG = en_US.UTF-8
    LC_COLLATE = C
    LC_MONETARY = nl_NL.utf8
    PATH = /usr/lib64/qt-3.3/bin:/usr/lib64/ccache:/usr/local/bin:/bin:/usr/bin:/usr/local/sbin:/usr/sbin:/sbin:/home/perl514/bin
    PERL5LIB = /home/perl514/.cpan/build/Date-Manip-6.23-FNkIwZ/blib/arch:/home/perl514/.cpan/build/Date-Manip-6.23-FNkIwZ/blib/lib:/home/perl514/.cpan/build/Test-Inter-1.01-9fQyAg/blib/arch:/home/perl514/.cpan/build/Test-Inter-1.01-9fQyAg/blib/lib:/home/perl514/.cpan/build/Template-Toolkit-2.22-3ADFKS/blib/arch:/home/perl514/.cpan/build/Template-Toolkit-2.22-3ADFKS/blib/lib:/home/perl514/.cpan/build/AppConfig-1.66-WmutCi/blib/arch:/home/perl514/.cpan/build/AppConfig-1.66-WmutCi/blib/lib
    PERL5OPT = 
    PERL5_CPANPLUS_IS_RUNNING = 27879
    PERL5_CPAN_IS_RUNNING = 27879
    PERL5_CPAN_IS_RUNNING_IN_RECURSION = 1874,27879
    PERL_CR_SMOKER_CURRENT = PurpleWiki-0.94
    PERL_EXTUTILS_AUTOINSTALL = --defaultdeps
    PERL_MM_USE_DEFAULT = 1
    SHELL = /bin/bash
    TERM = screen

Perl special variables (and OS-specific diagnostics, for MSWin32):

    $^X = /home/perl514/testing/bin/perl5.14.0
    $UID/$EUID = 503 / 503
    $GID = 503 503
    $EGID = 503 503

Perl module toolchain versions installed:

    Module              Have    
    ------------------- --------
    CPAN                1.9600  
    Cwd                 3.36    
    ExtUtils::CBuilder  0.280203
    ExtUtils::Command   1.17    
    ExtUtils::Install   1.56    
    ExtUtils::MakeMaker 6.57_05 
    ExtUtils::Manifest  1.58    
    ExtUtils::ParseXS   2.2210  
    File::Spec          3.33    
    Module::Build       0.3800  
    Module::Signature   n/a     
    Test::Harness       3.23    
    Test::More          0.98    
    YAML                n/a     
    YAML::Syck          1.17    
    version             0.88    


--

Summary of my perl5 (revision 5 version 14 subversion 0) configuration:
   
  Platform:
    osname=linux, osvers=2.6.35.11-83.fc14.x86_64, archname=x86_64-linux-thread-multi
    uname='linux firenze.fritz.box 2.6.35.11-83.fc14.x86_64 #1 smp mon feb 7 07:06:44 utc 2011 x86_64 x86_64 x86_64 gnulinux '
    config_args='-Dprefix=/home/perl514/testing -Dusethreads -Dusedevel -des'
    hint=recommended, useposix=true, d_sigaction=define
    useithreads=define, usemultiplicity=define
    useperlio=define, d_sfio=undef, uselargefiles=define, usesocks=undef
    use64bitint=define, use64bitall=define, uselongdouble=undef
    usemymalloc=n, bincompat5005=undef
  Compiler:
    cc='cc', ccflags ='-D_REENTRANT -D_GNU_SOURCE -fno-strict-aliasing -pipe -fstack-protector -I/usr/local/include -D_LARGEFILE_SOURCE -D_FILE_OFFSET_BITS=64',
    optimize='-O2',
    cppflags='-D_REENTRANT -D_GNU_SOURCE -fno-strict-aliasing -pipe -fstack-protector -I/usr/local/include'
    ccversion='', gccversion='4.5.1 20100924 (Red Hat 4.5.1-4)', gccosandvers=''
    intsize=4, longsize=8, ptrsize=8, doublesize=8, byteorder=12345678
    d_longlong=define, longlongsize=8, d_longdbl=define, longdblsize=16
    ivtype='long', ivsize=8, nvtype='double', nvsize=8, Off_t='off_t', lseeksize=8
    alignbytes=8, prototype=define
  Linker and Libraries:
    ld='cc', ldflags =' -fstack-protector -L/usr/local/lib'
    libpth=/usr/local/lib /lib/../lib64 /usr/lib/../lib64 /lib /usr/lib /lib64 /usr/lib64 /usr/local/lib64
    libs=-lnsl -lgdbm -ldb -ldl -lm -lcrypt -lutil -lpthread -lc -lgdbm_compat
    perllibs=-lnsl -ldl -lm -lcrypt -lutil -lpthread -lc
    libc=, so=so, useshrplib=false, libperl=libperl.a
    gnulibc_version='2.13'
  Dynamic Linking:
    dlsrc=dl_dlopen.xs, dlext=so, d_dlsymun=undef, ccdlflags='-Wl,-E'
    cccdlflags='-fPIC', lddlflags='-shared -O2 -L/usr/local/lib -fstack-protector'


Characteristics of this binary (from libperl): 
  Compile-time options: MULTIPLICITY PERL_DONT_CREATE_GVSV
                        PERL_IMPLICIT_CONTEXT PERL_MALLOC_WRAP
                        PERL_PRESERVE_IVUV PERL_USE_DEVEL USE_64_BIT_ALL
                        USE_64_BIT_INT USE_ITHREADS USE_LARGE_FILES
                        USE_PERLIO USE_PERL_ATOF USE_REENTRANT_API
  Built under linux
  Compiled at May 16 2011 08:58:34
  %ENV:
    PERL5LIB="/home/perl514/.cpan/build/Date-Manip-6.23-FNkIwZ/blib/arch:/home/perl514/.cpan/build/Date-Manip-6.23-FNkIwZ/blib/lib:/home/perl514/.cpan/build/Test-Inter-1.01-9fQyAg/blib/arch:/home/perl514/.cpan/build/Test-Inter-1.01-9fQyAg/blib/lib:/home/perl514/.cpan/build/Template-Toolkit-2.22-3ADFKS/blib/arch:/home/perl514/.cpan/build/Template-Toolkit-2.22-3ADFKS/blib/lib:/home/perl514/.cpan/build/AppConfig-1.66-WmutCi/blib/arch:/home/perl514/.cpan/build/AppConfig-1.66-WmutCi/blib/lib"
    PERL5OPT=""
    PERL5_CPANPLUS_IS_RUNNING="27879"
    PERL5_CPAN_IS_RUNNING="27879"
    PERL5_CPAN_IS_RUNNING_IN_RECURSION="1874,27879"
    PERL_CR_SMOKER_CURRENT="PurpleWiki-0.94"
    PERL_EXTUTILS_AUTOINSTALL="--defaultdeps"
    PERL_MM_USE_DEFAULT="1"
  @INC:
    /home/perl514/.cpan/build/Date-Manip-6.23-FNkIwZ/blib/arch
    /home/perl514/.cpan/build/Date-Manip-6.23-FNkIwZ/blib/lib
    /home/perl514/.cpan/build/Test-Inter-1.01-9fQyAg/blib/arch
    /home/perl514/.cpan/build/Test-Inter-1.01-9fQyAg/blib/lib
    /home/perl514/.cpan/build/Template-Toolkit-2.22-3ADFKS/blib/arch
    /home/perl514/.cpan/build/Template-Toolkit-2.22-3ADFKS/blib/lib
    /home/perl514/.cpan/build/AppConfig-1.66-WmutCi/blib/arch
    /home/perl514/.cpan/build/AppConfig-1.66-WmutCi/blib/lib
    /home/perl514/testing/lib/site_perl/5.14.0/x86_64-linux-thread-multi
    /home/perl514/testing/lib/site_perl/5.14.0
    /home/perl514/testing/lib/5.14.0/x86_64-linux-thread-multi
    /home/perl514/testing/lib/5.14.0
    .