Device-Firewall-PaloAlto v0.1.9 Perl 5 v5.39.4 x86_64-linux-ld

Status
Pass
From
Andreas J. König (ANDK)
Dist
Device-Firewall-PaloAlto v0.1.9
Platform
Perl 5 v5.39.4 x86_64-linux-ld
Date
2023-11-13 23:08:12
ID
84d85822-8279-11ee-9694-90b6044b0a78
This distribution has been tested as part of the CPAN Testers
project, supporting the Perl programming language.  See
http://wiki.cpantesters.org/ for more information or email
questions to cpan-testers-discuss@perl.org


--
Dear Greg Foletta,

This is a computer-generated report for Device-Firewall-PaloAlto-0.1.9
on perl 5.39.4, created by CPAN-Reporter-1.2019.

Thank you for uploading your work to CPAN.  Congratulations!
All tests were successful.

Sections of this report:

    * Tester comments
    * Program output
    * Prerequisites
    * Environment and other context

------------------------------
TESTER COMMENTS
------------------------------

Additional comments from tester:

this report is from an automated smoke testing program
and was not reviewed by a human for accuracy

------------------------------
PROGRAM OUTPUT
------------------------------

Output from '/usr/bin/make test':

PERL_DL_NONLAZY=1 "/tmp/basesmoker-reloperl-ZD38/bin/perl" "-MExtUtils::Command::MM" "-MTest::Harness" "-e" "undef *Test::Harness::Switches; test_harness(0, 'blib/lib', 'blib/arch')" t/*.t
t/00-load.t ..................... ok
t/00-new.t ...................... ok
t/01-op_cmd.t ................... ok
t/02-interfaces.t ............... ok
t/03-arp.t ...................... ok
t/04-virtual_router.t ........... ok
t/05-system_info.t .............. ok
t/06-tunnels.t .................. ok
t/08-user_id.t .................. ok
t/09-ha.t ....................... ok
t/10-ntp.t ...................... ok
t/11-rulebase.t ................. ok
t/12-natpolicy.t ................ ok
t/13-logging_status.t ........... ok
t/14-interface_stats.t .......... ok
t/release-00-integration.t ...... skipped: these tests are for release candidate testing
t/release-01-interfaces.t ....... skipped: these tests are for release candidate testing
t/release-02-arp.t .............. skipped: these tests are for release candidate testing
t/release-03-virtual_router.t ... skipped: these tests are for release candidate testing
t/release-04-system_info.t ...... skipped: these tests are for release candidate testing
t/release-05-tunnels.t .......... skipped: these tests are for release candidate testing
t/release-06-global_counters.t .. skipped: these tests are for release candidate testing
t/release-07-user_id.t .......... skipped: these tests are for release candidate testing
t/release-08-ha.t ............... skipped: these tests are for release candidate testing
t/release-09-sec_rulebase.t ..... skipped: these tests are for release candidate testing
t/release-10-nat_rulebase.t ..... skipped: these tests are for release candidate testing
t/release-11-logging_status.t ... skipped: these tests are for release candidate testing
t/release-12-fib_lookup.t ....... skipped: these tests are for release candidate testing
All tests successful.
Files=28, Tests=165,  5 wallclock secs ( 0.08 usr  0.02 sys +  4.07 cusr  0.46 csys =  4.63 CPU)
Result: PASS

------------------------------
PREREQUISITES
------------------------------

Prerequisite modules loaded:

requires:

    Module                     Need  Have      
    -------------------------- ----- ----------
    Carp                       0     1.54      
    Class::Error               0     2.41      
    Data::Dumper               0     2.189     
    Data::Structure::Util      0     0.16      
    DateTime                   0     1.65      
    DateTime::Format::Strptime 0     1.79      
    Exporter                   0     5.77      
    Hook::LexWrap              0     0.26      
    HTTP::Request::Common      0     6.45      
    JSON                       0     4.10      
    List::Util                 0     1.63      
    LWP::UserAgent             0     6.72      
    overload                   0     1.37      
    parent                     0     0.241     
    perl                       5.010 5.039004  
    Regexp::Common             0     2017060201
    strict                     0     1.13      
    URI                        0     5.21      
    URI::Encode                0     1.1.1     
    warnings                   0     1.67      
    XML::LibXML                0     2.0209    
    XML::Twig                  0     3.52      

build_requires:

    Module                     Need  Have      
    -------------------------- ----- ----------
    ExtUtils::MakeMaker        0     7.70      
    lib                        0     0.65      
    Test::More                 0     1.302195  
    Test::UseAllModules        0     0.17      
    Test::Warn                 0     0.37      

configure_requires:

    Module                     Need  Have      
    -------------------------- ----- ----------
    ExtUtils::MakeMaker        0     7.70      


------------------------------
ENVIRONMENT AND OTHER CONTEXT
------------------------------

Environment variables:

    AUTOMATED_TESTING = 1
    LANG = en_US.UTF-8
    PATH = /home/sand/bin:/usr/local/bin:/usr/local/sbin:/usr/sbin:/usr/bin:/sbin:/bin:/usr/games:/usr/local/games:/snap/bin:/usr/local/perl/bin:/usr/X11/bin
    PERL = /tmp/basesmoker-reloperl-ZD38/bin/perl
    PERL5LIB = /tmp/loop_over_bdir-2443-qcWbpy/dta-tokwrap-0.98-0/blib/arch:/tmp/loop_over_bdir-2443-qcWbpy/dta-tokwrap-0.98-0/blib/lib:/tmp/loop_over_bdir-2443-qcWbpy/Debian-Packages-0.03-0/blib/arch:/tmp/loop_over_bdir-2443-qcWbpy/Debian-Packages-0.03-0/blib/lib:/tmp/loop_over_bdir-2443-qcWbpy/EJBCA-CrlPublish-0.60-0/blib/arch:/tmp/loop_over_bdir-2443-qcWbpy/EJBCA-CrlPublish-0.60-0/blib/lib
    PERL5OPT = 
    PERL5_CPANPLUS_IS_RUNNING = 2451
    PERL5_CPAN_IS_RUNNING = 2451
    PERL_CANARY_STABILITY_NOPROMPT = 1
    PERL_MM_USE_DEFAULT = 1
    PERL_USE_UNSAFE_INC = 1
    SHELL = /usr/bin/zsh
    TERM = screen

Perl special variables (and OS-specific diagnostics, for MSWin32):

    $^X = /tmp/basesmoker-reloperl-ZD38/bin/perl
    $UID/$EUID = 1005 / 1005
    $GID = 1005 1005
    $EGID = 1005 1005

Perl module toolchain versions installed:

    Module              Have    
    ------------------- --------
    CPAN                2.36    
    CPAN::Meta          2.150010
    Cwd                 3.90    
    ExtUtils::CBuilder  0.280240
    ExtUtils::Command   7.70    
    ExtUtils::Install   2.22    
    ExtUtils::MakeMaker 7.70    
    ExtUtils::Manifest  1.75    
    ExtUtils::ParseXS   3.51    
    File::Spec          3.90    
    JSON                4.10    
    JSON::PP            4.16    
    Module::Build       0.4234  
    Module::Signature   0.88    
    Parse::CPAN::Meta   2.150010
    Test2               1.302195
    Test::Harness       3.48    
    Test::More          1.302195
    YAML                1.30    
    YAML::Syck          1.34    
    version             0.9930  


--

Summary of my perl5 (revision 5 version 39 subversion 4) configuration:
  Commit id: 56211f03a701e3979a0d01069f8515db1c1fc2f0
  Platform:
    osname=linux
    osvers=5.4.0-164-generic
    archname=x86_64-linux-ld
    uname='linux k93focal 5.4.0-164-generic #181-ubuntu smp fri sep 1 13:41:22 utc 2023 x86_64 x86_64 x86_64 gnulinux '
    config_args='-Dprefix=/home/sand/src/perl/repoperls/installed-perls/host/k93focal/v5.39.4/d3e4 -Dmyhostname=k93focal -Dinstallusrbinperl=n -Uversiononly -Dusedevel -des -Ui_db -Dlibswanted=cl pthread socket inet nsl gdbm dbm malloc dl ld sun m crypt sec util c cposix posix ucb BSD gdbm_compat -Uuseithreads -Duselongdouble -DEBUGGING=both'
    hint=recommended
    useposix=true
    d_sigaction=define
    useithreads=undef
    usemultiplicity=undef
    use64bitint=define
    use64bitall=define
    uselongdouble=define
    usemymalloc=n
    default_inc_excludes_dot=define
  Compiler:
    cc='cc'
    ccflags ='-fwrapv -DDEBUGGING -fno-strict-aliasing -pipe -fstack-protector-strong -I/usr/local/include -D_LARGEFILE_SOURCE -D_FILE_OFFSET_BITS=64'
    optimize='-O2 -g'
    cppflags='-fwrapv -DDEBUGGING -fno-strict-aliasing -pipe -fstack-protector-strong -I/usr/local/include'
    ccversion=''
    gccversion='9.4.0'
    gccosandvers=''
    intsize=4
    longsize=8
    ptrsize=8
    doublesize=8
    byteorder=12345678
    doublekind=3
    d_longlong=define
    longlongsize=8
    d_longdbl=define
    longdblsize=16
    longdblkind=3
    ivtype='long'
    ivsize=8
    nvtype='long double'
    nvsize=16
    Off_t='off_t'
    lseeksize=8
    alignbytes=16
    prototype=define
  Linker and Libraries:
    ld='cc'
    ldflags =' -fstack-protector-strong -L/usr/local/lib'
    libpth=/usr/local/lib /usr/lib/x86_64-linux-gnu /usr/lib /usr/lib64
    libs=-lpthread -lnsl -ldl -lm -lcrypt -lutil -lc
    perllibs=-lpthread -lnsl -ldl -lm -lcrypt -lutil -lc
    libc=libc-2.31.so
    so=so
    useshrplib=false
    libperl=libperl.a
    gnulibc_version='2.31'
  Dynamic Linking:
    dlsrc=dl_dlopen.xs
    dlext=so
    d_dlsymun=undef
    ccdlflags='-Wl,-E'
    cccdlflags='-fPIC'
    lddlflags='-shared -O2 -g -L/usr/local/lib -fstack-protector-strong'


Characteristics of this binary (from libperl): 
  Compile-time options:
    DEBUGGING
    HAS_LONG_DOUBLE
    HAS_STRTOLD
    HAS_TIMES
    PERLIO_LAYERS
    PERL_COPY_ON_WRITE
    PERL_DONT_CREATE_GVSV
    PERL_HASH_FUNC_SIPHASH13
    PERL_HASH_USE_SBOX32
    PERL_MALLOC_WRAP
    PERL_OP_PARENT
    PERL_PRESERVE_IVUV
    PERL_USE_DEVEL
    PERL_USE_SAFE_PUTENV
    USE_64_BIT_ALL
    USE_64_BIT_INT
    USE_LARGE_FILES
    USE_LOCALE
    USE_LOCALE_COLLATE
    USE_LOCALE_CTYPE
    USE_LOCALE_NUMERIC
    USE_LOCALE_TIME
    USE_LONG_DOUBLE
    USE_PERLIO
    USE_PERL_ATOF
  Built under linux
  Compiled at Oct 25 2023 22:47:54
  %ENV:
    PERL="/tmp/basesmoker-reloperl-ZD38/bin/perl"
    PERL5LIB="/tmp/loop_over_bdir-2443-qcWbpy/dta-tokwrap-0.98-0/blib/arch:/tmp/loop_over_bdir-2443-qcWbpy/dta-tokwrap-0.98-0/blib/lib:/tmp/loop_over_bdir-2443-qcWbpy/Debian-Packages-0.03-0/blib/arch:/tmp/loop_over_bdir-2443-qcWbpy/Debian-Packages-0.03-0/blib/lib:/tmp/loop_over_bdir-2443-qcWbpy/EJBCA-CrlPublish-0.60-0/blib/arch:/tmp/loop_over_bdir-2443-qcWbpy/EJBCA-CrlPublish-0.60-0/blib/lib"
    PERL5OPT=""
    PERL5_CPANPLUS_IS_RUNNING="2451"
    PERL5_CPAN_IS_RUNNING="2451"
    PERL_CANARY_STABILITY_NOPROMPT="1"
    PERL_MM_USE_DEFAULT="1"
    PERL_USE_UNSAFE_INC="1"
  @INC:
    /tmp/loop_over_bdir-2443-qcWbpy/dta-tokwrap-0.98-0/blib/arch
    /tmp/loop_over_bdir-2443-qcWbpy/dta-tokwrap-0.98-0/blib/lib
    /tmp/loop_over_bdir-2443-qcWbpy/Debian-Packages-0.03-0/blib/arch
    /tmp/loop_over_bdir-2443-qcWbpy/Debian-Packages-0.03-0/blib/lib
    /tmp/loop_over_bdir-2443-qcWbpy/EJBCA-CrlPublish-0.60-0/blib/arch
    /tmp/loop_over_bdir-2443-qcWbpy/EJBCA-CrlPublish-0.60-0/blib/lib
    /home/sand/src/perl/repoperls/installed-perls/host/k93focal/v5.39.4/d3e4/lib/site_perl/5.39.4/x86_64-linux-ld
    /home/sand/src/perl/repoperls/installed-perls/host/k93focal/v5.39.4/d3e4/lib/site_perl/5.39.4
    /home/sand/src/perl/repoperls/installed-perls/host/k93focal/v5.39.4/d3e4/lib/5.39.4/x86_64-linux-ld
    /home/sand/src/perl/repoperls/installed-perls/host/k93focal/v5.39.4/d3e4/lib/5.39.4
    .