Unicode-Stringprep v1.105 Perl 5 v5.8.4 x86_64-linux-thread-multi
- Status
- Pass
- From
- Nigel Horne
- Dist
-
Unicode-Stringprep v1.105
- Platform
- Perl 5 v5.8.4 x86_64-linux-thread-multi
- Date
- 2017-10-18 07:11:10
- ID
- 84e12d06-b3d3-11e7-9be1-bbe64cf6c7cd
This distribution has been tested as part of the CPAN Testers
project, supporting the Perl programming language. See
http://wiki.cpantesters.org/ for more information or email
questions to cpan-testers-discuss@perl.org
--
Dear Claus Faerber,
This is a computer-generated report for Unicode-Stringprep-1.105
on perl 5.8.4, created by CPAN-Reporter-1.2018.
Thank you for uploading your work to CPAN. Congratulations!
All tests were successful.
Sections of this report:
* Tester comments
* Program output
* Prerequisites
* Environment and other context
------------------------------
TESTER COMMENTS
------------------------------
Additional comments from tester:
this report is from an automated smoke testing program
and was not reviewed by a human for accuracy
------------------------------
PROGRAM OUTPUT
------------------------------
Output from './Build test':
t/00_use.t .......................... ok
t/01_references.t ................... ok
t/10_pod_check.t .................... ok
t/11_pod_coverage.t ................. ok
t/30_mappings.t ..................... ok
t/31_prohibited_characters.t ........ ok
t/31_prohibited_characters_extra.t .. ok
t/32_nfkc_3_2.t ..................... ok
t/99_perl-5.11.3.t .................. ok
t/nameprep.t ........................ ok
t/nameprep_bytes.t .................. ok
t/nameprep_stored.t ................. ok
t/saslprep.t ........................ ok
t/saslprep_bytes.t .................. ok
All tests successful.
Files=14, Tests=200, 1 wallclock secs ( 0.05 usr 0.02 sys + 0.72 cusr 0.11 csys = 0.90 CPU)
Result: PASS
------------------------------
PREREQUISITES
------------------------------
Prerequisite modules loaded:
requires:
Module Need Have
------------------ -------- --------
perl 5.008003 5.008004
Unicode::Normalize 1 1.16
build_requires:
Module Need Have
------------------ -------- --------
Test::More 0 1.302086
Test::NoWarnings 0 1.04
configure_requires:
Module Need Have
------------------ -------- --------
Module::Build 0.42 0.4214
------------------------------
ENVIRONMENT AND OTHER CONTEXT
------------------------------
Environment variables:
AUTOMATED_TESTING = 1
LANG = en_GB.UTF-8
LANGUAGE = en_GB:en
PATH = /home/njh/perl5/perlbrew/bin:/home/njh/perl5/perlbrew/perls/perl-5.8.4/bin:/home/njh/perl5/perlbrew/bin:/usr/bin:/bin
PERL5LIB = /home/njh/.cpan/build/Mock-Quick-1.111-35/blib/arch:/home/njh/.cpan/build/Mock-Quick-1.111-35/blib/lib:/home/njh/.cpan/build/Exporter-Declare-0.114-38/blib/arch:/home/njh/.cpan/build/Exporter-Declare-0.114-38/blib/lib:/home/njh/.cpan/build/aliased-0.34-34/blib/arch:/home/njh/.cpan/build/aliased-0.34-34/blib/lib:/home/njh/.cpan/build/Meta-Builder-0.003-38/blib/arch:/home/njh/.cpan/build/Meta-Builder-0.003-38/blib/lib:/home/njh/.cpan/build/Fennec-Lite-0.004-38/blib/arch:/home/njh/.cpan/build/Fennec-Lite-0.004-38/blib/lib
PERL5OPT =
PERL5_CPANPLUS_IS_RUNNING = 14432
PERL5_CPAN_IS_RUNNING = 14432
PERL5_MINISMOKEBOX = 0.58
PERLBREW_BASHRC_VERSION = 0.80
PERLBREW_LIB =
PERLBREW_MANPATH = /home/njh/perl5/perlbrew/perls/perl-5.8.4/man
PERLBREW_PATH = /home/njh/perl5/perlbrew/bin:/home/njh/perl5/perlbrew/perls/perl-5.8.4/bin
PERLBREW_PERL = perl-5.8.4
PERLBREW_ROOT = /home/njh/perl5/perlbrew
PERLBREW_VERSION = 0.80
PERL_EXTUTILS_AUTOINSTALL = --defaultdeps
PERL_LOCAL_LIB_ROOT =
PERL_MM_USE_DEFAULT = 1
SHELL = /bin/sh
Perl special variables (and OS-specific diagnostics, for MSWin32):
$^X = /home/njh/perl5/perlbrew/perls/perl-5.8.4/bin/perl
$UID/$EUID = 1000 / 1000
$GID = 1000 1000 112 108 46 44 30 29 25 24 4
$EGID = 1000 1000 112 108 46 44 30 29 25 24 4
Perl module toolchain versions installed:
Module Have
------------------- --------
CPAN 2.16
CPAN::Meta 2.150005
Cwd 3.40
ExtUtils::CBuilder 0.280216
ExtUtils::Command 7.24
ExtUtils::Install 1.54
ExtUtils::MakeMaker 7.24
ExtUtils::Manifest 1.70
ExtUtils::ParseXS 3.30
File::Spec 3.40
JSON 2.93
JSON::PP 2.27400
Module::Build 0.4214
Module::Signature 0.70
Parse::CPAN::Meta 1.4422
Test::Harness 3.36
Test::More 1.302086
YAML 0.84
YAML::Syck 1.30
version 0.9902
--
Summary of my perl5 (revision 5 version 8 subversion 4) configuration:
Platform:
osname=linux, osvers=3.2.0-4-amd64, archname=x86_64-linux-thread-multi
uname='linux nigelhorne.force9.co.uk 3.2.0-4-amd64 #1 smp debian 3.2.32-1 x86_64 gnulinux '
config_args='-de -Dprefix=/home/njh/perl5/perlbrew/perls/perl-5.8.4 -Duseithreads -Dusemultiplicity -Accflags=-O2 -W -Wformat=2 -Wswitch -Wshadow -Wwrite-strings -Wuninitialized -Wall -pipe -mtune=native -march=native -fomit-frame-pointer -mfpmath=sse -pedantic -D_FORTIFY_SOURCE=2 -Wpointer-arith -Wstrict-prototypes -fstack-protector -Wstack-protector -Wextra -Wbad-function-cast -Wcast-align -Wcast-qual -Wdisabled-optimization -Wendif-labels -Wfloat-equal -Wformat-nonliteral -Winline -Wmissing-declarations -Wmissing-prototypes -Wnested-externs -Wpointer-arith -Wundef -Wformat-security -Aeval:scriptdir=/home/njh/perl5/perlbrew/perls/perl-5.8.4/bin'
hint=recommended, useposix=true, d_sigaction=define
usethreads=define use5005threads=undef useithreads=define usemultiplicity=define
useperlio=define d_sfio=undef uselargefiles=define usesocks=undef
use64bitint=define use64bitall=define uselongdouble=undef
usemymalloc=n, bincompat5005=undef
Compiler:
cc='cc', ccflags ='-D_REENTRANT -D_GNU_SOURCE -O2 -W -Wformat=2 -Wswitch -Wshadow -Wwrite-strings -Wuninitialized -Wall -pipe -mtune=native -march=native -fomit-frame-pointer -mfpmath=sse -pedantic -D_FORTIFY_SOURCE=2 -Wpointer-arith -Wstrict-prototypes -fstack-protector -Wstack-protector -Wextra -Wbad-function-cast -Wcast-align -Wcast-qual -Wdisabled-optimization -Wendif-labels -Wfloat-equal -Wformat-nonliteral -Winline -Wmissing-declarations -Wmissing-prototypes -Wnested-externs -Wpointer-arith -Wundef -Wformat-security -fno-strict-aliasing -I/usr/local/include -D_LARGEFILE_SOURCE -D_FILE_OFFSET_BITS=64',
optimize='-O2',
cppflags='-D_REENTRANT -D_GNU_SOURCE -O2 -W -Wformat=2 -Wswitch -Wshadow -Wwrite-strings -Wuninitialized -Wall -pipe -mtune=native -march=native -fomit-frame-pointer -mfpmath=sse -pedantic -D_FORTIFY_SOURCE=2 -Wpointer-arith -Wstrict-prototypes -fstack-protector -Wstack-protector -Wextra -Wbad-function-cast -Wcast-align -Wcast-qual -Wdisabled-optimization -Wendif-labels -Wfloat-equal -Wformat-nonliteral -Winline -Wmissing-declarations -Wmissing-prototypes -Wnested-externs -Wpointer-arith -Wundef -Wformat-security -fno-strict-aliasing -I/usr/local/include'
ccversion='', gccversion='4.7.2', gccosandvers=''
intsize=4, longsize=8, ptrsize=8, doublesize=8, byteorder=12345678
d_longlong=define, longlongsize=8, d_longdbl=define, longdblsize=16
ivtype='long', ivsize=8, nvtype='double', nvsize=8, Off_t='off_t', lseeksize=8
alignbytes=8, prototype=define
Linker and Libraries:
ld='cc', ldflags =' -L/usr/local/lib'
libpth=/usr/local/lib /lib/x86_64-linux-gnu /lib/../lib /usr/lib/x86_64-linux-gnu /usr/lib/../lib /lib /usr/lib
libs=-lnsl -lgdbm -ldb -ldl -lm -lcrypt -lutil -lpthread -lc -lgdbm_compat
perllibs=-lnsl -ldl -lm -lcrypt -lutil -lpthread -lc -lgdbm_compat
libc=, so=so, useshrplib=false, libperl=libperl.a
gnulibc_version='2.13'
Dynamic Linking:
dlsrc=dl_dlopen.xs, dlext=so, d_dlsymun=undef, ccdlflags='-Wl,-E'
cccdlflags='-fpic', lddlflags='-shared -L/usr/local/lib'
Characteristics of this binary (from libperl):
Compile-time options: MULTIPLICITY USE_ITHREADS USE_64_BIT_INT USE_64_BIT_ALL USE_LARGE_FILES PERL_IMPLICIT_CONTEXT
Built under linux
Compiled at Mar 5 2013 00:53:42
%ENV:
PERL5LIB="/home/njh/.cpan/build/Mock-Quick-1.111-35/blib/arch:/home/njh/.cpan/build/Mock-Quick-1.111-35/blib/lib:/home/njh/.cpan/build/Exporter-Declare-0.114-38/blib/arch:/home/njh/.cpan/build/Exporter-Declare-0.114-38/blib/lib:/home/njh/.cpan/build/aliased-0.34-34/blib/arch:/home/njh/.cpan/build/aliased-0.34-34/blib/lib:/home/njh/.cpan/build/Meta-Builder-0.003-38/blib/arch:/home/njh/.cpan/build/Meta-Builder-0.003-38/blib/lib:/home/njh/.cpan/build/Fennec-Lite-0.004-38/blib/arch:/home/njh/.cpan/build/Fennec-Lite-0.004-38/blib/lib"
PERL5OPT=""
PERL5_CPANPLUS_IS_RUNNING="14432"
PERL5_CPAN_IS_RUNNING="14432"
PERL5_MINISMOKEBOX="0.58"
PERLBREW_BASHRC_VERSION="0.80"
PERLBREW_LIB=""
PERLBREW_MANPATH="/home/njh/perl5/perlbrew/perls/perl-5.8.4/man"
PERLBREW_PATH="/home/njh/perl5/perlbrew/bin:/home/njh/perl5/perlbrew/perls/perl-5.8.4/bin"
PERLBREW_PERL="perl-5.8.4"
PERLBREW_ROOT="/home/njh/perl5/perlbrew"
PERLBREW_VERSION="0.80"
PERL_EXTUTILS_AUTOINSTALL="--defaultdeps"
PERL_LOCAL_LIB_ROOT=""
PERL_MM_USE_DEFAULT="1"
@INC:
/home/njh/.cpan/build/Mock-Quick-1.111-35/blib/arch
/home/njh/.cpan/build/Mock-Quick-1.111-35/blib/lib
/home/njh/.cpan/build/Exporter-Declare-0.114-38/blib/arch
/home/njh/.cpan/build/Exporter-Declare-0.114-38/blib/lib
/home/njh/.cpan/build/aliased-0.34-34/blib/arch
/home/njh/.cpan/build/aliased-0.34-34/blib/lib
/home/njh/.cpan/build/Meta-Builder-0.003-38/blib/arch
/home/njh/.cpan/build/Meta-Builder-0.003-38/blib/lib
/home/njh/.cpan/build/Fennec-Lite-0.004-38/blib/arch
/home/njh/.cpan/build/Fennec-Lite-0.004-38/blib/lib
/home/njh/perl5/perlbrew/perls/perl-5.8.4/lib/5.8.4/x86_64-linux-thread-multi
/home/njh/perl5/perlbrew/perls/perl-5.8.4/lib/5.8.4
/home/njh/perl5/perlbrew/perls/perl-5.8.4/lib/site_perl/5.8.4/x86_64-linux-thread-multi
/home/njh/perl5/perlbrew/perls/perl-5.8.4/lib/site_perl/5.8.4
/home/njh/perl5/perlbrew/perls/perl-5.8.4/lib/site_perl
.