Report for Dist-Zilla-Plugin-CheckChangesHasContent-0.008

Back
From: metabase:user:fb19509c-17e3-11e3-a14d-fdb79081a995
Subject: PASS Dist-Zilla-Plugin-CheckChangesHasContent-0.008 v5.8.9 Mac OS X
Date: 2015-03-25T03:53:38Z

This distribution has been tested as part of the CPAN Testers
project, supporting the Perl programming language.  See
http://wiki.cpantesters.org/ for more information or email
questions to cpan-testers-discuss@perl.org


--
Dear DAGOLDEN,

This is a computer-generated report for Dist-Zilla-Plugin-CheckChangesHasContent-0.008
on perl 5.8.9, created by App::cpanminus::reporter 0.12 (1.7027).

Thank you for uploading your work to CPAN.  Congratulations!
All tests were successful.

Sections of this report:

    * Tester comments
    * Program output
    * Prerequisites
    * Environment and other context

------------------------------
TESTER COMMENTS
------------------------------

Additional comments from tester:

none provided

------------------------------
PROGRAM OUTPUT
------------------------------

Output from '':

Building and testing Dist-Zilla-Plugin-CheckChangesHasContent-0.008
Manifying 2 pod documents
PERL_DL_NONLAZY=1 "/Users/ether/perl5/perlbrew/perls/8.9/bin/perl" "-MExtUtils::Command::MM" "-MTest::Harness" "-e" "undef *Test::Harness::Switches; test_harness(0, 'blib/lib', 'blib/arch')" t/*.t

# Versions for all modules listed in MYMETA.json (including optional ones):
# 
# === Configure Requires ===
# 
#     Module              Want    Have
#     ------------------- ---- -------
#     ExtUtils::MakeMaker 6.17 7.05_17
# 
# === Build Requires ===
# 
#     Module              Want    Have
#     ------------------- ---- -------
#     ExtUtils::MakeMaker  any 7.05_17
# 
# === Test Requires ===
# 
#     Module              Want         Have
#     ------------------- ---- ------------
#     Capture::Tiny        any         0.28
#     Cwd                  any         3.47
#     Dist::Zilla::Tester  any        5.034
#     ExtUtils::MakeMaker  any      7.05_17
#     File::Spec           any         3.47
#     Path::Tiny           any        0.068
#     Test::Harness        any         3.35
#     Test::More          0.88 1.301001_097
#     Try::Tiny            any         0.22
# 
# === Test Recommends ===
# 
#     Module         Want     Have
#     ---------- -------- --------
#     CPAN::Meta 2.120900 2.150001
# 
# === Runtime Requires ===
# 
#     Module                               Want     Have
#     -------------------------------- -------- --------
#     Data::Section                    0.200002 0.200006
#     Dist::Zilla                      2.100950    5.034
#     Dist::Zilla::File::InMemory           any    5.034
#     Dist::Zilla::Role::BeforeRelease      any    5.034
#     Dist::Zilla::Role::FileGatherer       any    5.034
#     Dist::Zilla::Role::FileMunger         any    5.034
#     Dist::Zilla::Role::TextTemplate       any    5.034
#     File::pushd                           any    1.009
#     Moose                                0.99   2.1403
#     Moose::Util::TypeConstraints          any   2.1403
#     Sub::Exporter::ForMethods             any 0.100051
#     autodie                              2.00     2.26
#     namespace::autoclean                 0.09     0.23
#     strict                                any     1.03
#     warnings                              any  1.05_01
# 
t/00-report-prereqs.t ....... ok
t/checkhascontent.t ......... ok
t/test_changeshascontent.t .. ok
All tests successful.
Files=3, Tests=40,  2 wallclock secs ( 0.03 usr  0.02 sys +  3.59 cusr  0.39 csys =  4.03 CPU)
Result: PASS

------------------------------
PREREQUISITES
------------------------------

Prerequisite modules loaded:

    No requirements found

------------------------------
ENVIRONMENT AND OTHER CONTEXT
------------------------------

Environment variables:

    LANG = en_CA.UTF-8
    PATH = /Users/ether/.perlbrew/libs/8.9@std/bin:/Users/ether/perl5/perlbrew/bin:/Users/ether/perl5/perlbrew/perls/8.9/bin:/Users/ether/bin:/Users/ether/git/misc/install/bourbon/bin:/Users/ether/git/misc/install/generic/bin:/opt/local/bin:/opt/local/sbin:/Users/ether/git/git-hub/lib:/Users/ether/src/CE/devtools:/Users/ether/git/CE/devtools:/Users/ether/src/CE/bin:/Users/ether/git/CE/bin:/usr/bin:/bin:/usr/sbin:/sbin:/usr/local/bin:/opt/local/share/git-core/contrib/workdir
    PERL5LIB = /Users/ether/.perlbrew/libs/8.9@std/lib/perl5
    PERLBREW_BASHRC_VERSION = 0.73
    PERLBREW_HOME = /Users/ether/.perlbrew
    PERLBREW_LIB = std
    PERLBREW_MANPATH = /Users/ether/.perlbrew/libs/8.9@std/man:/Users/ether/perl5/perlbrew/perls/8.9/man
    PERLBREW_PATH = /Users/ether/.perlbrew/libs/8.9@std/bin:/Users/ether/perl5/perlbrew/bin:/Users/ether/perl5/perlbrew/perls/8.9/bin
    PERLBREW_PERL = 8.9
    PERLBREW_ROOT = /Users/ether/perl5/perlbrew
    PERLBREW_VERSION = 0.73
    PERLDOC_PAGER = less -sicMr
    PERL_AUTOINSTALL_PREFER_CPAN = 1
    PERL_INSTALL_QUIET = 1
    PERL_LOCAL_LIB_ROOT = /Users/ether/.perlbrew/libs/8.9@std
    PERL_MB_OPT = --install_base /Users/ether/.perlbrew/libs/8.9@std
    PERL_MM_OPT = INSTALL_BASE=/Users/ether/.perlbrew/libs/8.9@std
    SHELL = /bin/bash
    TERM = xterm-color
    TMPDIR = /var/folders/kx/9dgyhhpn2yb7v2mggnr385fr0000gn/T/

Perl special variables (and OS-specific diagnostics, for MSWin32):

    EGID = 20 20 402 12 61 79 80 81 98
    EUID = 501
    EXECUTABLE_NAME = /Users/ether/perl5/perlbrew/perls/8.9/bin/perl
    GID = 20 20 402 12 61 79 80 81 98
    UID = 501

Perl module toolchain versions installed:

    Module              Have        
    ------------------- ------------
    CPAN                1.9301      
    CPAN::Meta          2.150001    
    Cwd                 3.47        
    ExtUtils::CBuilder  0.280220    
    ExtUtils::Command   7.05_17     
    ExtUtils::Install   2.04        
    ExtUtils::MakeMaker 7.05_17     
    ExtUtils::Manifest  1.70        
    ExtUtils::ParseXS   3.24        
    File::Spec          3.47        
    JSON                2.90        
    JSON::PP            2.27300     
    Module::Build       0.4211      
    Module::Signature   n/a         
    Parse::CPAN::Meta   1.4414      
    Test::Harness       3.35        
    Test::More          1.301001_097
    YAML                1.14        
    YAML::Syck          1.27        
    version             0.9912      


--

Summary of my perl5 (revision 5 version 8 subversion 9) configuration:
  Platform:
    osname=darwin, osvers=12.5.0, archname=darwin-2level
    uname='darwin bourbon 12.5.0 darwin kernel version 12.5.0: sun sep 29 13:33:47 pdt 2013; root:xnu-2050.48.12~1release_x86_64 x86_64 '
    config_args='-de -Dprefix=/Users/ether/perl5/perlbrew/perls/8.9 -Dman1dir=none -Dman3dir=none -Aeval:scriptdir=/Users/ether/perl5/perlbrew/perls/8.9/bin'
    hint=recommended, useposix=true, d_sigaction=define
    usethreads=undef use5005threads=undef useithreads=undef usemultiplicity=undef
    useperlio=define d_sfio=undef uselargefiles=define usesocks=undef
    use64bitint=define use64bitall=define uselongdouble=undef
    usemymalloc=n, bincompat5005=undef
  Compiler:
    cc='cc', ccflags ='-fno-common -DPERL_DARWIN -fno-strict-aliasing -pipe -I/opt/local/include',
    optimize='-O3',
    cppflags='-fno-common -DPERL_DARWIN -fno-strict-aliasing -pipe -I/opt/local/include'
    ccversion='', gccversion='4.2.1 Compatible Apple LLVM 4.2 (clang-425.0.28)', gccosandvers=''
    intsize=4, longsize=8, ptrsize=8, doublesize=8, byteorder=12345678
    d_longlong=define, longlongsize=8, d_longdbl=define, longdblsize=16
    ivtype='long', ivsize=8, nvtype='double', nvsize=8, Off_t='off_t', lseeksize=8
    alignbytes=8, prototype=define
  Linker and Libraries:
    ld='env MACOSX_DEPLOYMENT_TARGET=10.3 cc', ldflags =' -L/opt/local/lib'
    libpth=/opt/local/lib /usr/lib
    libs=-lgdbm -ldbm -ldl -lm -lutil -lc
    perllibs=-ldl -lm -lutil -lc
    libc=, so=dylib, useshrplib=false, libperl=libperl.a
    gnulibc_version=''
  Dynamic Linking:
    dlsrc=dl_dlopen.xs, dlext=bundle, d_dlsymun=undef, ccdlflags=' '
    cccdlflags=' ', lddlflags=' -bundle -undefined dynamic_lookup -L/opt/local/lib'


Characteristics of this binary (from libperl): 
  Compile-time options: PERL_MALLOC_WRAP USE_64_BIT_ALL USE_64_BIT_INT
                        USE_FAST_STDIO USE_LARGE_FILES USE_PERLIO
  Built under darwin
  Compiled at May  5 2014 14:13:45
  %ENV:
    PERL5LIB="/Users/ether/.perlbrew/libs/8.9@std/lib/perl5"
    PERLBREW_BASHRC_VERSION="0.73"
    PERLBREW_HOME="/Users/ether/.perlbrew"
    PERLBREW_LIB="std"
    PERLBREW_MANPATH="/Users/ether/.perlbrew/libs/8.9@std/man:/Users/ether/perl5/perlbrew/perls/8.9/man"
    PERLBREW_PATH="/Users/ether/.perlbrew/libs/8.9@std/bin:/Users/ether/perl5/perlbrew/bin:/Users/ether/perl5/perlbrew/perls/8.9/bin"
    PERLBREW_PERL="8.9"
    PERLBREW_ROOT="/Users/ether/perl5/perlbrew"
    PERLBREW_VERSION="0.73"
    PERLDOC_PAGER="less -sicMr"
    PERL_AUTOINSTALL_PREFER_CPAN="1"
    PERL_INSTALL_QUIET="1"
    PERL_LOCAL_LIB_ROOT="/Users/ether/.perlbrew/libs/8.9@std"
    PERL_MB_OPT="--install_base /Users/ether/.perlbrew/libs/8.9@std"
    PERL_MM_OPT="INSTALL_BASE=/Users/ether/.perlbrew/libs/8.9@std"
  @INC:
    /Users/ether/.perlbrew/libs/8.9@std/lib/perl5/darwin-2level
    /Users/ether/.perlbrew/libs/8.9@std/lib/perl5
    /Users/ether/perl5/perlbrew/perls/8.9/lib/5.8.9/darwin-2level
    /Users/ether/perl5/perlbrew/perls/8.9/lib/5.8.9
    /Users/ether/perl5/perlbrew/perls/8.9/lib/site_perl/5.8.9/darwin-2level
    /Users/ether/perl5/perlbrew/perls/8.9/lib/site_perl/5.8.9
    .