Back
From: metabase:user:314402c4-2aae-11df-837a-5e0a49663a4f
Subject: PASS Test-Dist-VersionSync-v1.2.0 v5.25.11 GNU/Linux
Date: 2017-03-23T14:53:48Z
This distribution has been tested as part of the CPAN Testers
project, supporting the Perl programming language. See
http://wiki.cpantesters.org/ for more information or email
questions to cpan-testers-discuss@perl.org
--
Dear Guillaume Aubert,
This is a computer-generated report for Test-Dist-VersionSync-v1.2.0
on perl 5.25.11, created by CPAN-Reporter-1.2018.
Thank you for uploading your work to CPAN. Congratulations!
All tests were successful.
Sections of this report:
* Tester comments
* Program output
* Prerequisites
* Environment and other context
------------------------------
TESTER COMMENTS
------------------------------
Additional comments from tester:
none provided
------------------------------
PROGRAM OUTPUT
------------------------------
Output from './Build test':
# Testing Test::Dist::VersionSync 1.2.0, Perl 5.025011, /opt/perl-5.25.11t/bin/perl5.25.11
t/00-load.t ................................... ok
t/10-_get_modules_from_manifest-simple.t ...... ok
t/11-_get_modules_from_manifest-exclusions.t .. ok
t/20-ok_versions-sync.t ....................... ok
t/21-ok_versions-desync.t ..................... ok
t/22-ok_versions-modules_list.t ............... ok
t/23-ok_versions-empty_list.t ................. ok
t/24-ok_versions-missing_manifest.t ........... ok
t/25-ok_versions-missing_version.t ............ ok
All tests successful.
Files=9, Tests=47, 2 wallclock secs ( 0.06 usr 0.03 sys + 0.91 cusr 0.17 csys = 1.17 CPU)
Result: PASS
------------------------------
PREREQUISITES
------------------------------
Prerequisite modules loaded:
requires:
Module Need Have
--------------------- ----- --------
Data::Dumper 0 2.167
perl 5.006 5.025011
Test::More 0.94 1.302078
build_requires:
Module Need Have
--------------------- ----- --------
Carp 0 1.42
Test::Builder::Tester 0 1.302078
Test::FailWarnings 0 0.008
configure_requires:
Module Need Have
--------------------- ----- --------
Module::Build 0 0.4220
------------------------------
ENVIRONMENT AND OTHER CONTEXT
------------------------------
Environment variables:
LANG = en_US.UTF-8
PATH = /usr/local/bin:/usr/bin:/bin:/usr/local/sbin:/usr/sbin:/sbin:/home/cpansand/bin/linux-gnu:/home/cpansand/bin/sh:/home/cpansand/bin:/usr/games:/home/cpansand/devel:/home/eserte/src/srezic-misc/scripts
PERL5LIB = /home/cpansand/.cpan/build/2017032315/Compiler-Lexer-0.22-0/blib/arch:/home/cpansand/.cpan/build/2017032315/Compiler-Lexer-0.22-0/blib/lib
PERL5OPT =
PERL5_CPANPLUS_IS_RUNNING = 27637
PERL5_CPAN_IS_RUNNING = 27637
PERL5_CPAN_IS_RUNNING_IN_RECURSION = 815,27637
PERLDOC = -MPod::Perldoc::ToTextOverstrike
PERL_BATCH = yes
PERL_CANARY_STABILITY_NOPROMPT = 1
PERL_CPAN_REPORTER_CONFIG = /var/tmp/cpansmoker-1002/2017032309/cpanreporter_000_config.ini
PERL_EXTUTILS_AUTOINSTALL = --defaultdeps
PERL_USE_UNSAFE_INC = 1
SHELL = /bin/zsh
TERM = screen
TMPDIR = /var/tmp/cpansmoker-1002/2017032309
Perl special variables (and OS-specific diagnostics, for MSWin32):
$^X = /opt/perl-5.25.11t/bin/perl5.25.11
$UID/$EUID = 1002 / 1002
$GID = 1002 1002
$EGID = 1002 1002
Perl module toolchain versions installed:
Module Have
------------------- ----------
CPAN 2.17
CPAN::Meta 2.150010
Cwd 3.67
ExtUtils::CBuilder 0.280225
ExtUtils::Command 7.24
ExtUtils::Install 2.04
ExtUtils::MakeMaker 7.24
ExtUtils::Manifest 1.70
ExtUtils::ParseXS 3.34
File::Spec 3.67
JSON 2.90
JSON::PP 2.27400_02
Module::Build 0.4220
Module::Signature n/a
Parse::CPAN::Meta 2.150010
Test::Harness 3.38
Test::More 1.302078
YAML 1.23
YAML::Syck 1.29
version 0.9917
--
Summary of my perl5 (revision 5 version 25 subversion 11) configuration:
Platform:
osname=linux
osvers=3.10.0-514.6.2.el7.x86_64
archname=x86_64-linux-thread-multi
uname='linux prod5 3.10.0-514.6.2.el7.x86_64 #1 smp thu feb 23 03:04:39 utc 2017 x86_64 x86_64 x86_64 gnulinux '
config_args='-ds -e -Dprefix=/opt/perl-5.25.11t -Dusedevel -Dusethreads -Dcf_email=srezic@cpan.org'
hint=recommended
useposix=true
d_sigaction=define
useithreads=define
usemultiplicity=define
use64bitint=define
use64bitall=define
uselongdouble=undef
usemymalloc=n
default_inc_excludes_dot=define
bincompat5005=undef
Compiler:
cc='cc'
ccflags ='-D_REENTRANT -D_GNU_SOURCE -fwrapv -fno-strict-aliasing -pipe -fstack-protector-strong -I/usr/local/include -D_LARGEFILE_SOURCE -D_FILE_OFFSET_BITS=64 -D_FORTIFY_SOURCE=2'
optimize='-O2'
cppflags='-D_REENTRANT -D_GNU_SOURCE -fwrapv -fno-strict-aliasing -pipe -fstack-protector-strong -I/usr/local/include'
ccversion=''
gccversion='4.8.5 20150623 (Red Hat 4.8.5-11)'
gccosandvers=''
intsize=4
longsize=8
ptrsize=8
doublesize=8
byteorder=12345678
doublekind=3
d_longlong=define
longlongsize=8
d_longdbl=define
longdblsize=16
longdblkind=3
ivtype='long'
ivsize=8
nvtype='double'
nvsize=8
Off_t='off_t'
lseeksize=8
alignbytes=8
prototype=define
Linker and Libraries:
ld='cc'
ldflags =' -fstack-protector-strong -L/usr/local/lib'
libpth=/usr/local/lib /usr/lib /lib/../lib64 /usr/lib/../lib64 /lib /lib64 /usr/lib64 /usr/local/lib64
libs=-lpthread -lnsl -lgdbm -ldb -ldl -lm -lcrypt -lutil -lc -lgdbm_compat
perllibs=-lpthread -lnsl -ldl -lm -lcrypt -lutil -lc
libc=libc-2.17.so
so=so
useshrplib=false
libperl=libperl.a
gnulibc_version='2.17'
Dynamic Linking:
dlsrc=dl_dlopen.xs
dlext=so
d_dlsymun=undef
ccdlflags='-Wl,-E'
cccdlflags='-fPIC'
lddlflags='-shared -O2 -L/usr/local/lib -fstack-protector-strong'
Characteristics of this binary (from libperl):
Compile-time options:
HAS_TIMES
MULTIPLICITY
PERLIO_LAYERS
PERL_COPY_ON_WRITE
PERL_DONT_CREATE_GVSV
PERL_IMPLICIT_CONTEXT
PERL_MALLOC_WRAP
PERL_OP_PARENT
PERL_PRESERVE_IVUV
PERL_USE_DEVEL
USE_64_BIT_ALL
USE_64_BIT_INT
USE_ITHREADS
USE_LARGE_FILES
USE_LOCALE
USE_LOCALE_COLLATE
USE_LOCALE_CTYPE
USE_LOCALE_NUMERIC
USE_LOCALE_TIME
USE_PERLIO
USE_PERL_ATOF
USE_REENTRANT_API
Built under linux
Compiled at Mar 22 2017 20:33:26
%ENV:
PERL5LIB="/home/cpansand/.cpan/build/2017032315/Compiler-Lexer-0.22-0/blib/arch:/home/cpansand/.cpan/build/2017032315/Compiler-Lexer-0.22-0/blib/lib"
PERL5OPT=""
PERL5_CPANPLUS_IS_RUNNING="27637"
PERL5_CPAN_IS_RUNNING="27637"
PERL5_CPAN_IS_RUNNING_IN_RECURSION="815,27637"
PERLDOC="-MPod::Perldoc::ToTextOverstrike"
PERL_BATCH="yes"
PERL_CANARY_STABILITY_NOPROMPT="1"
PERL_CPAN_REPORTER_CONFIG="/var/tmp/cpansmoker-1002/2017032309/cpanreporter_000_config.ini"
PERL_EXTUTILS_AUTOINSTALL="--defaultdeps"
PERL_USE_UNSAFE_INC="1"
@INC:
/home/cpansand/.cpan/build/2017032315/Compiler-Lexer-0.22-0/blib/arch
/home/cpansand/.cpan/build/2017032315/Compiler-Lexer-0.22-0/blib/lib
/opt/perl-5.25.11t/lib/site_perl/5.25.11/x86_64-linux-thread-multi
/opt/perl-5.25.11t/lib/site_perl/5.25.11
/opt/perl-5.25.11t/lib/5.25.11/x86_64-linux-thread-multi
/opt/perl-5.25.11t/lib/5.25.11
.