Starman v0.4017 Perl 5 v5.38.2 aarch64-freebsd

Status
Pass
From
Slaven Rezić
Dist
Starman v0.4017
Platform
Perl 5 v5.38.2 aarch64-freebsd
Date
2023-12-22 00:32:00
ID
855c89de-a061-11ee-b304-310a6e8775ea
This distribution has been tested as part of the CPAN Testers
project, supporting the Perl programming language.  See
http://wiki.cpantesters.org/ for more information or email
questions to cpan-testers-discuss@perl.org


--
Dear Tatsuhiko Miyagawa,

This is a computer-generated report for Starman-0.4017
on perl 5.38.2, created by CPAN-Reporter-1.2019.

Thank you for uploading your work to CPAN.  Congratulations!
All tests were successful.

Sections of this report:

    * Tester comments
    * Program output
    * Prerequisites
    * Environment and other context

------------------------------
TESTER COMMENTS
------------------------------

Additional comments from tester:

none provided

------------------------------
PROGRAM OUTPUT
------------------------------

Output from './Build test':

t/00_compile.t ........... ok
t/author-pod-syntax.t .... skipped: these tests are for testing by the author
2023/12/22-00:29:52 Starman::Server (type Net::Server::PreFork) starting! pid(72098)
Binding to TCP port 28904 on host 127.0.0.1 with IPv4
Setting gid to "1023 1023 1023"
2023/12/22-00:29:52 Server closing!
t/chunked_req.t .......... ok
t/chunked_termination.t .. ok
2023/12/22-00:29:53 Starman::Server (type Net::Server::PreFork) starting! pid(72106)
Binding to TCP port 18156 on host 127.0.0.1 with IPv4
Setting gid to "1023 1023 1023"
2023/12/22-00:29:53 Server closing!
t/chunked_zero_length.t .. ok
2023/12/22-00:29:53 Starman::Server (type Net::Server::PreFork) starting! pid(72113)
Binding to TCP port 19660 on host 127.0.0.1 with IPv4
Setting gid to "1023 1023 1023"
2023/12/22-00:29:53 Server closing!
t/early-hints.t .......... ok
2023/12/22-00:29:53 Starman::Server (type Net::Server::PreFork) starting! pid(72120)
Binding to TCP port 14293 on host 127.0.0.1 with IPv4
Setting gid to "1023 1023 1023"
2023/12/22-00:29:54 Server closing!
t/eintr.t ................ ok
2023/12/22-00:29:54 Starman::Server (type Net::Server::PreFork) starting! pid(72128)
Binding to TCP port 40376 on host 127.0.0.1 with IPv4
Setting gid to "1023 1023 1023"
2023/12/22-00:29:54 Server closing!
t/expect.t ............... ok
2023/12/22-00:29:54 Starman::Server (type Net::Server::PreFork) starting! pid(72135)
Binding to TCP port 10424 on host 127.0.0.1 with IPv4
Setting gid to "1023 1023 1023"
2023/12/22-00:29:54 Server closing!
2023/12/22-00:29:55 Starman::Server (type Net::Server::PreFork) starting! pid(72141)
Binding to TCP port 31222 on host 127.0.0.1 with IPv4
Setting gid to "1023 1023 1023"
2023/12/22-00:29:55 Server closing!
t/harakiri.t ............. ok
2023/12/22-00:29:55 Starman::Server (type Net::Server::PreFork) starting! pid(72169)
Binding to TCP port 46351 on host 127.0.0.1 with IPv4
Setting gid to "1023 1023 1023"
2023/12/22-00:29:55 Server closing!
t/lf_only_request.t ...... ok
2023/12/22-00:29:55 Starman::Server (type Net::Server::PreFork) starting! pid(72176)
Binding to TCP port 14854 on host 127.0.0.1 with IPv4
Setting gid to "1023 1023 1023"
2023/12/22-00:29:55 Server closing!
t/no_chunked_head.t ...... ok
t/release-findbin.t ...... skipped: these tests are for release candidate testing
t/release-rand.t ......... skipped: these tests are for release candidate testing
2023/12/22-00:29:55 Starman::Server (type Net::Server::PreFork) starting! pid(72185)
Binding to TCP port 21745 on host 127.0.0.1 with IPv4
Setting gid to "1023 1023 1023"
2023/12/22-00:29:55 Server closing!
t/single_zero.t .......... ok
2023/12/22-00:29:56 Starman::Server (type Net::Server::PreFork) starting! pid(72192)
Resolved [localhost]:48305 to [::1]:48305, IPv6
Resolved [localhost]:48305 to [127.0.0.1]:48305, IPv4
Binding to SSL port 48305 on host ::1 with IPv6
Binding to SSL port 48305 on host 127.0.0.1 with IPv4
Setting gid to "1023 1023 1023"
Passed serialize value of none is incompatible with multiple ports - using default serialize
Could not finalize SSL connection with client handle (SSL accept attempt failed error:0A000126:SSL routines::unexpected eof while reading)
2023/12/22-00:29:56 Server closing!
t/ssl.t .................. ok
2023/12/22-00:29:56 Starman::Server (type Net::Server::PreFork) starting! pid(72202)
Resolved [localhost]:41444 to [::1]:41444, IPv6
Resolved [localhost]:41444 to [127.0.0.1]:41444, IPv4
Binding to SSL port 41444 on host ::1 with IPv6
Binding to SSL port 41444 on host 127.0.0.1 with IPv4
Setting gid to "1023 1023 1023"
Passed serialize value of none is incompatible with multiple ports - using default serialize
Could not finalize SSL connection with client handle (SSL accept attempt failed error:0A000126:SSL routines::unexpected eof while reading)
2023/12/22-00:29:56 Server closing!
t/ssl_largebody.t ........ ok
2023/12/22-00:29:56 Starman::Server (type Net::Server::PreFork) starting! pid(72210)
Binding to TCP port 63760 on host 127.0.0.1 with IPv4
Setting gid to "1023 1023 1023"
2023/12/22-00:29:56 Server closing!
t/suite.t ................ ok
All tests successful.
Files=17, Tests=125,  4 wallclock secs ( 0.09 usr  0.04 sys +  2.23 cusr  1.12 csys =  3.48 CPU)
Result: PASS

------------------------------
PREREQUISITES
------------------------------

Prerequisite modules loaded:

requires:

    Module              Need     Have    
    ------------------- -------- --------
    Data::Dump          0        1.25    
    HTTP::Date          0        6.06    
    HTTP::Parser::XS    0        0.17    
    HTTP::Status        0        6.45    
    Net::Server         2.007    2.014   
    parent              0        0.241   
    perl                5.008001 5.038002
    Plack               0.9971   1.0050  
    Test::TCP           2.00     2.22    

build_requires:

    Module              Need     Have    
    ------------------- -------- --------
    LWP::UserAgent      0        6.72    
    Test::More          0        1.302198
    Test::Requires      0        0.11    

configure_requires:

    Module              Need     Have    
    ------------------- -------- --------
    Module::Build::Tiny 0.034    0.047   


------------------------------
ENVIRONMENT AND OTHER CONTEXT
------------------------------

Environment variables:

    LANG = C.UTF-8
    PATH = /usr/local/bin:/usr/bin:/bin:/usr/local/sbin:/usr/sbin:/sbin:/home/cpansand/bin/sh:/home/cpansand/bin:/usr/games:/home/cpansand/devel:/home/eserte/src/srezic-misc/scripts
    PERL5LIB = /home/cpansand/.cpan/build/2023122200/JSON-Types-0.05-0/blib/arch:/home/cpansand/.cpan/build/2023122200/JSON-Types-0.05-0/blib/lib
    PERL5OPT = 
    PERL5_CPANPLUS_IS_RUNNING = 71897
    PERL5_CPAN_IS_RUNNING = 71897
    PERL5_CPAN_IS_RUNNING_IN_RECURSION = 71850,71897
    PERL_BATCH = yes
    PERL_CANARY_STABILITY_NOPROMPT = 1
    PERL_CPAN_REPORTER_CONFIG = /var/tmp/cpansmoker-1023/2023122200/cpanreporter_000_config.ini
    PERL_EXTUTILS_AUTOINSTALL = --defaultdeps
    PERL_USE_UNSAFE_INC = 1
    SHELL = /bin/sh
    TMPDIR = /var/tmp/cpansmoker-1023/2023122200

Perl special variables (and OS-specific diagnostics, for MSWin32):

    $^X = /usr/perl5.38.2/bin/perl
    $UID/$EUID = 1023 / 1023
    $GID = 1023 1023
    $EGID = 1023 1023

Perl module toolchain versions installed:

    Module              Have    
    ------------------- --------
    CPAN                2.36    
    CPAN::Meta          2.150010
    Cwd                 3.89    
    ExtUtils::CBuilder  0.280238
    ExtUtils::Command   7.70    
    ExtUtils::Install   2.22    
    ExtUtils::MakeMaker 7.70    
    ExtUtils::Manifest  1.73    
    ExtUtils::ParseXS   3.51    
    File::Spec          3.88    
    JSON                4.10    
    JSON::PP            4.16    
    Module::Build       0.4234  
    Module::Signature   n/a     
    Parse::CPAN::Meta   2.150010
    Test2               1.302198
    Test::Harness       3.44    
    Test::More          1.302198
    YAML                1.30    
    YAML::Syck          1.34    
    version             0.9929  


--

Summary of my perl5 (revision 5 version 38 subversion 2) configuration:
   
  Platform:
    osname=freebsd
    osvers=14.0-stable
    archname=aarch64-freebsd
    uname='freebsd cloud9.bbbike.org 14.0-stable freebsd 14.0-stable #0 stable14-8e41bbf24: mon dec 11 17:05:58 utc 2023 root@cloud9.bbbike.org:usrobjhomeprojectsfreebsd-srcarm64.aarch64sysgeneric arm64 '
    config_args='-ds -e -Dprefix=/usr/perl5.38.2 -Dcf_email=srezic@cpan.org -Doptimize=-O2 -pipe'
    hint=recommended
    useposix=true
    d_sigaction=define
    useithreads=undef
    usemultiplicity=undef
    use64bitint=define
    use64bitall=define
    uselongdouble=undef
    usemymalloc=n
    default_inc_excludes_dot=define
  Compiler:
    cc='cc'
    ccflags ='-DHAS_FPSETMASK -DHAS_FLOATINGPOINT_H -fno-strict-aliasing -pipe -fstack-protector-strong -I/usr/local/include'
    optimize='-O2 -pipe'
    cppflags='-DHAS_FPSETMASK -DHAS_FLOATINGPOINT_H -fno-strict-aliasing -pipe -fstack-protector-strong -I/usr/local/include'
    ccversion=''
    gccversion='FreeBSD Clang 16.0.6 (https://github.com/llvm/llvm-project.git llvmorg-16.0.6-0-g7cbf1a259152)'
    gccosandvers=''
    intsize=4
    longsize=8
    ptrsize=8
    doublesize=8
    byteorder=12345678
    doublekind=3
    d_longlong=define
    longlongsize=8
    d_longdbl=define
    longdblsize=16
    longdblkind=1
    ivtype='long'
    ivsize=8
    nvtype='double'
    nvsize=8
    Off_t='off_t'
    lseeksize=8
    alignbytes=8
    prototype=define
  Linker and Libraries:
    ld='cc'
    ldflags ='-Wl,-E  -fstack-protector-strong -L/usr/local/lib'
    libpth=/usr/lib /usr/local/lib /usr/lib/clang/16/lib
    libs=-lpthread -lgdbm -ldl -lm -lcrypt -lutil -lc
    perllibs=-lpthread -ldl -lm -lcrypt -lutil -lc
    libc=
    so=so
    useshrplib=false
    libperl=libperl.a
    gnulibc_version=''
  Dynamic Linking:
    dlsrc=dl_dlopen.xs
    dlext=so
    d_dlsymun=undef
    ccdlflags=' '
    cccdlflags='-DPIC -fPIC'
    lddlflags='-shared  -L/usr/local/lib -fstack-protector-strong'


Characteristics of this binary (from libperl): 
  Compile-time options:
    HAS_LONG_DOUBLE
    HAS_STRTOLD
    HAS_TIMES
    PERLIO_LAYERS
    PERL_COPY_ON_WRITE
    PERL_DONT_CREATE_GVSV
    PERL_HASH_FUNC_SIPHASH13
    PERL_HASH_USE_SBOX32
    PERL_MALLOC_WRAP
    PERL_OP_PARENT
    PERL_PRESERVE_IVUV
    PERL_USE_SAFE_PUTENV
    USE_64_BIT_ALL
    USE_64_BIT_INT
    USE_LARGE_FILES
    USE_LOCALE
    USE_LOCALE_COLLATE
    USE_LOCALE_CTYPE
    USE_LOCALE_NUMERIC
    USE_LOCALE_TIME
    USE_PERLIO
    USE_PERL_ATOF
  Built under freebsd
  Compiled at Dec 11 2023 18:41:09
  %ENV:
    PERL5LIB="/home/cpansand/.cpan/build/2023122200/JSON-Types-0.05-0/blib/arch:/home/cpansand/.cpan/build/2023122200/JSON-Types-0.05-0/blib/lib"
    PERL5OPT=""
    PERL5_CPANPLUS_IS_RUNNING="71897"
    PERL5_CPAN_IS_RUNNING="71897"
    PERL5_CPAN_IS_RUNNING_IN_RECURSION="71850,71897"
    PERL_BATCH="yes"
    PERL_CANARY_STABILITY_NOPROMPT="1"
    PERL_CPAN_REPORTER_CONFIG="/var/tmp/cpansmoker-1023/2023122200/cpanreporter_000_config.ini"
    PERL_EXTUTILS_AUTOINSTALL="--defaultdeps"
    PERL_USE_UNSAFE_INC="1"
  @INC:
    /home/cpansand/.cpan/build/2023122200/JSON-Types-0.05-0/blib/arch
    /home/cpansand/.cpan/build/2023122200/JSON-Types-0.05-0/blib/lib
    /usr/perl5.38.2/lib/site_perl/5.38.2/aarch64-freebsd
    /usr/perl5.38.2/lib/site_perl/5.38.2
    /usr/perl5.38.2/lib/5.38.2/aarch64-freebsd
    /usr/perl5.38.2/lib/5.38.2
    .