Report for Apache-ASP-2.62

Back
From: metabase:user:320bfe00-2aae-11df-837a-5e0a49663a4f
Subject: PASS Apache-ASP-2.62 v5.14.4 GNU/Linux
Date: 2017-08-05T03:45:27Z

This distribution has been tested as part of the CPAN Testers
project, supporting the Perl programming language.  See
http://wiki.cpantesters.org/ for more information or email
questions to cpan-testers-discuss@perl.org


--
Dear J Chamas,

This is a computer-generated report for Apache-ASP-2.62
on perl 5.14.4, created by CPAN-Reporter-1.2018.

Thank you for uploading your work to CPAN.  Congratulations!
All tests were successful.

Sections of this report:

    * Tester comments
    * Program output
    * Prerequisites
    * Environment and other context

------------------------------
TESTER COMMENTS
------------------------------

Additional comments from tester:

this report is from an automated smoke testing program
and was not reviewed by a human for accuracy

------------------------------
PROGRAM OUTPUT
------------------------------

Output from '/usr/bin/make test':

PERL_DL_NONLAZY=1 "/home/sand/src/perl/repoperls/installed-perls/host/k93msid/v5.14.4/d2d1/bin/perl" "-MExtUtils::Command::MM" "-MTest::Harness" "-e" "undef *Test::Harness::Switches; test_harness(0, 'blib/lib', 'blib/arch')" t/*.t
t/application.t .......... ok
t/asp-perl1.t ............ ok
t/asp-perl2.t ............ ok
t/asp_object.t ........... ok
t/cache.t ................ ok
t/cgi_headers.t .......... ok
Use of uninitialized value $rv in lc at /tmp/loop_over_bdir-28122-rCm1pe/Apache-ASP-2.62-0/blib/lib/Apache/ASP.pm line 2018.
Use of uninitialized value $rv in lc at /tmp/loop_over_bdir-28122-rCm1pe/Apache-ASP-2.62-0/blib/lib/Apache/ASP.pm line 2018.
Use of uninitialized value $rv in lc at /tmp/loop_over_bdir-28122-rCm1pe/Apache-ASP-2.62-0/blib/lib/Apache/ASP.pm line 2018.
Use of uninitialized value $rv in lc at /tmp/loop_over_bdir-28122-rCm1pe/Apache-ASP-2.62-0/blib/lib/Apache/ASP.pm line 2018.
Use of uninitialized value $rv in lc at /tmp/loop_over_bdir-28122-rCm1pe/Apache-ASP-2.62-0/blib/lib/Apache/ASP.pm line 2018.
Use of uninitialized value $rv in lc at /tmp/loop_over_bdir-28122-rCm1pe/Apache-ASP-2.62-0/blib/lib/Apache/ASP.pm line 2018.
Use of uninitialized value $rv in lc at /tmp/loop_over_bdir-28122-rCm1pe/Apache-ASP-2.62-0/blib/lib/Apache/ASP.pm line 2018.
Use of uninitialized value $rv in lc at /tmp/loop_over_bdir-28122-rCm1pe/Apache-ASP-2.62-0/blib/lib/Apache/ASP.pm line 2018.
Use of uninitialized value $rv in lc at /tmp/loop_over_bdir-28122-rCm1pe/Apache-ASP-2.62-0/blib/lib/Apache/ASP.pm line 2018.
t/closure.t .............. ok
t/collection.t ........... ok
t/collectionitem.t ....... ok
t/cookies.t .............. ok
t/end.t .................. ok
t/general.t .............. ok
t/global_event_end.t ..... ok
t/include.t .............. ok
Use of uninitialized value $rv in lc at /tmp/loop_over_bdir-28122-rCm1pe/Apache-ASP-2.62-0/blib/lib/Apache/ASP.pm line 2018.
 at /tmp/loop_over_bdir-28122-rCm1pe/Apache-ASP-2.62-0/blib/lib/Apache/ASP.pm line 2018.
	Apache::ASP::get_dir_config(Apache::ASP::CGI::Table=HASH(0x55d9b4bd6670), "Global") called at /tmp/loop_over_bdir-28122-rCm1pe/Apache-ASP-2.62-0/blib/lib/Apache/ASP.pm line 276
	Apache::ASP::new("Apache::ASP", Apache::ASP::CGI=HASH(0x55d9b481a8a0), "t/include_change.t") called at /tmp/loop_over_bdir-28122-rCm1pe/Apache-ASP-2.62-0/blib/lib/Apache/ASP.pm line 184
	Apache::ASP::handler(Apache::ASP::CGI=HASH(0x55d9b481a8a0)) called at /tmp/loop_over_bdir-28122-rCm1pe/Apache-ASP-2.62-0/blib/lib/Apache/ASP/CGI.pm line 40
	Apache::ASP::CGI::do_self("NoState", 1, "Debug", 0, "UseStrict", 0) called at t/include_change.t line 5
Use of uninitialized value $rv in lc at /tmp/loop_over_bdir-28122-rCm1pe/Apache-ASP-2.62-0/blib/lib/Apache/ASP.pm line 2018.
 at /tmp/loop_over_bdir-28122-rCm1pe/Apache-ASP-2.62-0/blib/lib/Apache/ASP.pm line 2018.
	Apache::ASP::get_dir_config(Apache::ASP::CGI::Table=HASH(0x55d9b4bd6670), "GlobalPackage") called at /tmp/loop_over_bdir-28122-rCm1pe/Apache-ASP-2.62-0/blib/lib/Apache/ASP.pm line 280
	Apache::ASP::new("Apache::ASP", Apache::ASP::CGI=HASH(0x55d9b481a8a0), "t/include_change.t") called at /tmp/loop_over_bdir-28122-rCm1pe/Apache-ASP-2.62-0/blib/lib/Apache/ASP.pm line 184
	Apache::ASP::handler(Apache::ASP::CGI=HASH(0x55d9b481a8a0)) called at /tmp/loop_over_bdir-28122-rCm1pe/Apache-ASP-2.62-0/blib/lib/Apache/ASP/CGI.pm line 40
	Apache::ASP::CGI::do_self("NoState", 1, "Debug", 0, "UseStrict", 0) called at t/include_change.t line 5
Use of uninitialized value $rv in lc at /tmp/loop_over_bdir-28122-rCm1pe/Apache-ASP-2.62-0/blib/lib/Apache/ASP.pm line 2018.
 at /tmp/loop_over_bdir-28122-rCm1pe/Apache-ASP-2.62-0/blib/lib/Apache/ASP.pm line 2018.
	Apache::ASP::get_dir_config(Apache::ASP::CGI::Table=HASH(0x55d9b4bd6670), "InodeNames") called at /tmp/loop_over_bdir-28122-rCm1pe/Apache-ASP-2.62-0/blib/lib/Apache/ASP.pm line 280
	Apache::ASP::new("Apache::ASP", Apache::ASP::CGI=HASH(0x55d9b481a8a0), "t/include_change.t") called at /tmp/loop_over_bdir-28122-rCm1pe/Apache-ASP-2.62-0/blib/lib/Apache/ASP.pm line 184
	Apache::ASP::handler(Apache::ASP::CGI=HASH(0x55d9b481a8a0)) called at /tmp/loop_over_bdir-28122-rCm1pe/Apache-ASP-2.62-0/blib/lib/Apache/ASP/CGI.pm line 40
	Apache::ASP::CGI::do_self("NoState", 1, "Debug", 0, "UseStrict", 0) called at t/include_change.t line 5
Use of uninitialized value $rv in lc at /tmp/loop_over_bdir-28122-rCm1pe/Apache-ASP-2.62-0/blib/lib/Apache/ASP.pm line 2018.
 at /tmp/loop_over_bdir-28122-rCm1pe/Apache-ASP-2.62-0/blib/lib/Apache/ASP.pm line 2018.
	Apache::ASP::get_dir_config(Apache::ASP::CGI::Table=HASH(0x55d9b4bd6670), "NoCache") called at /tmp/loop_over_bdir-28122-rCm1pe/Apache-ASP-2.62-0/blib/lib/Apache/ASP.pm line 280
	Apache::ASP::new("Apache::ASP", Apache::ASP::CGI=HASH(0x55d9b481a8a0), "t/include_change.t") called at /tmp/loop_over_bdir-28122-rCm1pe/Apache-ASP-2.62-0/blib/lib/Apache/ASP.pm line 184
	Apache::ASP::handler(Apache::ASP::CGI=HASH(0x55d9b481a8a0)) called at /tmp/loop_over_bdir-28122-rCm1pe/Apache-ASP-2.62-0/blib/lib/Apache/ASP/CGI.pm line 40
	Apache::ASP::CGI::do_self("NoState", 1, "Debug", 0, "UseStrict", 0) called at t/include_change.t line 5
Use of uninitialized value $rv in lc at /tmp/loop_over_bdir-28122-rCm1pe/Apache-ASP-2.62-0/blib/lib/Apache/ASP.pm line 2018.
 at /tmp/loop_over_bdir-28122-rCm1pe/Apache-ASP-2.62-0/blib/lib/Apache/ASP.pm line 2018.
	Apache::ASP::get_dir_config(Apache::ASP::CGI::Table=HASH(0x55d9b4bd6670), "StatINC") called at /tmp/loop_over_bdir-28122-rCm1pe/Apache-ASP-2.62-0/blib/lib/Apache/ASP.pm line 280
	Apache::ASP::new("Apache::ASP", Apache::ASP::CGI=HASH(0x55d9b481a8a0), "t/include_change.t") called at /tmp/loop_over_bdir-28122-rCm1pe/Apache-ASP-2.62-0/blib/lib/Apache/ASP.pm line 184
	Apache::ASP::handler(Apache::ASP::CGI=HASH(0x55d9b481a8a0)) called at /tmp/loop_over_bdir-28122-rCm1pe/Apache-ASP-2.62-0/blib/lib/Apache/ASP/CGI.pm line 40
	Apache::ASP::CGI::do_self("NoState", 1, "Debug", 0, "UseStrict", 0) called at t/include_change.t line 5
Use of uninitialized value $rv in lc at /tmp/loop_over_bdir-28122-rCm1pe/Apache-ASP-2.62-0/blib/lib/Apache/ASP.pm line 2018.
 at /tmp/loop_over_bdir-28122-rCm1pe/Apache-ASP-2.62-0/blib/lib/Apache/ASP.pm line 2018.
	Apache::ASP::get_dir_config(Apache::ASP::CGI::Table=HASH(0x55d9b4bd6670), "StatINCMatch") called at /tmp/loop_over_bdir-28122-rCm1pe/Apache-ASP-2.62-0/blib/lib/Apache/ASP.pm line 280
	Apache::ASP::new("Apache::ASP", Apache::ASP::CGI=HASH(0x55d9b481a8a0), "t/include_change.t") called at /tmp/loop_over_bdir-28122-rCm1pe/Apache-ASP-2.62-0/blib/lib/Apache/ASP.pm line 184
	Apache::ASP::handler(Apache::ASP::CGI=HASH(0x55d9b481a8a0)) called at /tmp/loop_over_bdir-28122-rCm1pe/Apache-ASP-2.62-0/blib/lib/Apache/ASP/CGI.pm line 40
	Apache::ASP::CGI::do_self("NoState", 1, "Debug", 0, "UseStrict", 0) called at t/include_change.t line 5
Use of uninitialized value $rv in lc at /tmp/loop_over_bdir-28122-rCm1pe/Apache-ASP-2.62-0/blib/lib/Apache/ASP.pm line 2018.
 at /tmp/loop_over_bdir-28122-rCm1pe/Apache-ASP-2.62-0/blib/lib/Apache/ASP.pm line 2018.
	Apache::ASP::get_dir_config(Apache::ASP::CGI::Table=HASH(0x55d9b4bd6670), "XSLT") called at /tmp/loop_over_bdir-28122-rCm1pe/Apache-ASP-2.62-0/blib/lib/Apache/ASP.pm line 280
	Apache::ASP::new("Apache::ASP", Apache::ASP::CGI=HASH(0x55d9b481a8a0), "t/include_change.t") called at /tmp/loop_over_bdir-28122-rCm1pe/Apache-ASP-2.62-0/blib/lib/Apache/ASP.pm line 184
	Apache::ASP::handler(Apache::ASP::CGI=HASH(0x55d9b481a8a0)) called at /tmp/loop_over_bdir-28122-rCm1pe/Apache-ASP-2.62-0/blib/lib/Apache/ASP/CGI.pm line 40
	Apache::ASP::CGI::do_self("NoState", 1, "Debug", 0, "UseStrict", 0) called at t/include_change.t line 5
Use of uninitialized value $rv in lc at /tmp/loop_over_bdir-28122-rCm1pe/Apache-ASP-2.62-0/blib/lib/Apache/ASP.pm line 2018.
 at /tmp/loop_over_bdir-28122-rCm1pe/Apache-ASP-2.62-0/blib/lib/Apache/ASP.pm line 2018.
	Apache::ASP::get_dir_config(Apache::ASP::CGI::Table=HASH(0x55d9b4bd6670), "Filter") called at /tmp/loop_over_bdir-28122-rCm1pe/Apache-ASP-2.62-0/blib/lib/Apache/ASP.pm line 326
	Apache::ASP::new("Apache::ASP", Apache::ASP::CGI=HASH(0x55d9b481a8a0), "t/include_change.t") called at /tmp/loop_over_bdir-28122-rCm1pe/Apache-ASP-2.62-0/blib/lib/Apache/ASP.pm line 184
	Apache::ASP::handler(Apache::ASP::CGI=HASH(0x55d9b481a8a0)) called at /tmp/loop_over_bdir-28122-rCm1pe/Apache-ASP-2.62-0/blib/lib/Apache/ASP/CGI.pm line 40
	Apache::ASP::CGI::do_self("NoState", 1, "Debug", 0, "UseStrict", 0) called at t/include_change.t line 5
Use of uninitialized value $rv in lc at /tmp/loop_over_bdir-28122-rCm1pe/Apache-ASP-2.62-0/blib/lib/Apache/ASP.pm line 2018.
 at /tmp/loop_over_bdir-28122-rCm1pe/Apache-ASP-2.62-0/blib/lib/Apache/ASP.pm line 2018.
	Apache::ASP::get_dir_config(Apache::ASP::CGI::Table=HASH(0x55d9b4bd6670), "CompressGzip") called at /tmp/loop_over_bdir-28122-rCm1pe/Apache-ASP-2.62-0/blib/lib/Apache/ASP.pm line 353
	Apache::ASP::new("Apache::ASP", Apache::ASP::CGI=HASH(0x55d9b481a8a0), "t/include_change.t") called at /tmp/loop_over_bdir-28122-rCm1pe/Apache-ASP-2.62-0/blib/lib/Apache/ASP.pm line 184
	Apache::ASP::handler(Apache::ASP::CGI=HASH(0x55d9b481a8a0)) called at /tmp/loop_over_bdir-28122-rCm1pe/Apache-ASP-2.62-0/blib/lib/Apache/ASP/CGI.pm line 40
	Apache::ASP::CGI::do_self("NoState", 1, "Debug", 0, "UseStrict", 0) called at t/include_change.t line 5
t/include_change.t ....... ok
t/include_dir_error.t .... ok
t/include_runtime.t ...... ok
t/inode_names.t .......... ok
Use of uninitialized value $rv in lc at /tmp/loop_over_bdir-28122-rCm1pe/Apache-ASP-2.62-0/blib/lib/Apache/ASP.pm line 2018.
Use of uninitialized value $rv in lc at /tmp/loop_over_bdir-28122-rCm1pe/Apache-ASP-2.62-0/blib/lib/Apache/ASP.pm line 2018.
Use of uninitialized value $rv in lc at /tmp/loop_over_bdir-28122-rCm1pe/Apache-ASP-2.62-0/blib/lib/Apache/ASP.pm line 2018.
Use of uninitialized value $rv in lc at /tmp/loop_over_bdir-28122-rCm1pe/Apache-ASP-2.62-0/blib/lib/Apache/ASP.pm line 2018.
Use of uninitialized value $rv in lc at /tmp/loop_over_bdir-28122-rCm1pe/Apache-ASP-2.62-0/blib/lib/Apache/ASP.pm line 2018.
Use of uninitialized value $rv in lc at /tmp/loop_over_bdir-28122-rCm1pe/Apache-ASP-2.62-0/blib/lib/Apache/ASP.pm line 2018.
Use of uninitialized value $rv in lc at /tmp/loop_over_bdir-28122-rCm1pe/Apache-ASP-2.62-0/blib/lib/Apache/ASP.pm line 2018.
Use of uninitialized value $rv in lc at /tmp/loop_over_bdir-28122-rCm1pe/Apache-ASP-2.62-0/blib/lib/Apache/ASP.pm line 2018.
Use of uninitialized value $rv in lc at /tmp/loop_over_bdir-28122-rCm1pe/Apache-ASP-2.62-0/blib/lib/Apache/ASP.pm line 2018.
t/load.t ................. ok
t/long_names.t ........... ok
t/loops.t ................ ok
Use of uninitialized value $rv in lc at /tmp/loop_over_bdir-28122-rCm1pe/Apache-ASP-2.62-0/blib/lib/Apache/ASP.pm line 2018.
Use of uninitialized value $rv in lc at /tmp/loop_over_bdir-28122-rCm1pe/Apache-ASP-2.62-0/blib/lib/Apache/ASP.pm line 2018.
Use of uninitialized value $rv in lc at /tmp/loop_over_bdir-28122-rCm1pe/Apache-ASP-2.62-0/blib/lib/Apache/ASP.pm line 2018.
Use of uninitialized value $rv in lc at /tmp/loop_over_bdir-28122-rCm1pe/Apache-ASP-2.62-0/blib/lib/Apache/ASP.pm line 2018.
Use of uninitialized value $rv in lc at /tmp/loop_over_bdir-28122-rCm1pe/Apache-ASP-2.62-0/blib/lib/Apache/ASP.pm line 2018.
Use of uninitialized value $rv in lc at /tmp/loop_over_bdir-28122-rCm1pe/Apache-ASP-2.62-0/blib/lib/Apache/ASP.pm line 2018.
Use of uninitialized value $rv in lc at /tmp/loop_over_bdir-28122-rCm1pe/Apache-ASP-2.62-0/blib/lib/Apache/ASP.pm line 2018.
Use of uninitialized value $rv in lc at /tmp/loop_over_bdir-28122-rCm1pe/Apache-ASP-2.62-0/blib/lib/Apache/ASP.pm line 2018.
Use of uninitialized value $rv in lc at /tmp/loop_over_bdir-28122-rCm1pe/Apache-ASP-2.62-0/blib/lib/Apache/ASP.pm line 2018.
Use of uninitialized value $rv in lc at /tmp/loop_over_bdir-28122-rCm1pe/Apache-ASP-2.62-0/blib/lib/Apache/ASP.pm line 2018.
t/mail_error.t ........... ok
t/no_cache.t ............. ok
t/raw.t .................. ok
t/raw_include.t .......... ok
Use of uninitialized value $rv in lc at /tmp/loop_over_bdir-28122-rCm1pe/Apache-ASP-2.62-0/blib/lib/Apache/ASP.pm line 2018.
Use of uninitialized value $rv in lc at /tmp/loop_over_bdir-28122-rCm1pe/Apache-ASP-2.62-0/blib/lib/Apache/ASP.pm line 2018.
Use of uninitialized value $rv in lc at /tmp/loop_over_bdir-28122-rCm1pe/Apache-ASP-2.62-0/blib/lib/Apache/ASP.pm line 2018.
Use of uninitialized value $rv in lc at /tmp/loop_over_bdir-28122-rCm1pe/Apache-ASP-2.62-0/blib/lib/Apache/ASP.pm line 2018.
Use of uninitialized value $rv in lc at /tmp/loop_over_bdir-28122-rCm1pe/Apache-ASP-2.62-0/blib/lib/Apache/ASP.pm line 2018.
Use of uninitialized value $rv in lc at /tmp/loop_over_bdir-28122-rCm1pe/Apache-ASP-2.62-0/blib/lib/Apache/ASP.pm line 2018.
Use of uninitialized value $rv in lc at /tmp/loop_over_bdir-28122-rCm1pe/Apache-ASP-2.62-0/blib/lib/Apache/ASP.pm line 2018.
Use of uninitialized value $rv in lc at /tmp/loop_over_bdir-28122-rCm1pe/Apache-ASP-2.62-0/blib/lib/Apache/ASP.pm line 2018.
Use of uninitialized value $rv in lc at /tmp/loop_over_bdir-28122-rCm1pe/Apache-ASP-2.62-0/blib/lib/Apache/ASP.pm line 2018.
Use of uninitialized value $rv in lc at /tmp/loop_over_bdir-28122-rCm1pe/Apache-ASP-2.62-0/blib/lib/Apache/ASP.pm line 2018.
Use of uninitialized value $rv in lc at /tmp/loop_over_bdir-28122-rCm1pe/Apache-ASP-2.62-0/blib/lib/Apache/ASP.pm line 2018.
Use of uninitialized value $rv in lc at /tmp/loop_over_bdir-28122-rCm1pe/Apache-ASP-2.62-0/blib/lib/Apache/ASP.pm line 2018.
Use of uninitialized value $rv in lc at /tmp/loop_over_bdir-28122-rCm1pe/Apache-ASP-2.62-0/blib/lib/Apache/ASP.pm line 2018.
Use of uninitialized value $rv in lc at /tmp/loop_over_bdir-28122-rCm1pe/Apache-ASP-2.62-0/blib/lib/Apache/ASP.pm line 2018.
Use of uninitialized value $rv in lc at /tmp/loop_over_bdir-28122-rCm1pe/Apache-ASP-2.62-0/blib/lib/Apache/ASP.pm line 2018.
Use of uninitialized value $rv in lc at /tmp/loop_over_bdir-28122-rCm1pe/Apache-ASP-2.62-0/blib/lib/Apache/ASP.pm line 2018.
Use of uninitialized value $rv in lc at /tmp/loop_over_bdir-28122-rCm1pe/Apache-ASP-2.62-0/blib/lib/Apache/ASP.pm line 2018.
Use of uninitialized value $rv in lc at /tmp/loop_over_bdir-28122-rCm1pe/Apache-ASP-2.62-0/blib/lib/Apache/ASP.pm line 2018.
Use of uninitialized value $rv in lc at /tmp/loop_over_bdir-28122-rCm1pe/Apache-ASP-2.62-0/blib/lib/Apache/ASP.pm line 2018.
Use of uninitialized value $rv in lc at /tmp/loop_over_bdir-28122-rCm1pe/Apache-ASP-2.62-0/blib/lib/Apache/ASP.pm line 2018.
t/reload_global_asa.t .... ok
t/req_params_none.t ...... ok
t/request.t .............. ok
t/response.t ............. ok
t/response_end.t ......... ok
t/same_name.t ............ ok
t/server.t ............... ok
t/server_mail.t .......... skipped: (no reason given)
t/server_transfer.t ...... ok
t/session.t .............. ok
t/session_events.t ....... ok
t/session_query_parse.t .. ok
t/session_serialize.t .... ok
t/share.t ................ ok
t/stat_inc.t ............. ok
t/strict_error.t ......... ok
t/taint_check.t .......... ok
t/unique_packages.t ...... ok
t/xmlsubs.t .............. ok
t/xmlsubs_aspargs.t ...... ok
t/xmlsubs_perlargs.t ..... ok
t/xmlsubsmatch.t ......... ok
All tests successful.
Files=47, Tests=340, 10 wallclock secs ( 0.14 usr  0.18 sys +  2.29 cusr  0.48 csys =  3.09 CPU)
Result: PASS

------------------------------
PREREQUISITES
------------------------------

Prerequisite modules loaded:

requires:

    Module              Need Have   
    ------------------- ---- -------
    Carp                0    1.38   
    Class::Struct       0    0.63   
    Data::Dumper        0    2.161  
    Digest::MD5         0    2.55   
    Fcntl               0    1.11   
    File::Basename      0    2.82   
    MLDBM               0    2.05   
    MLDBM::Sync         0    0.30   
    SDBM_File           0    1.09   

build_requires:

    Module              Need Have   
    ------------------- ---- -------
    ExtUtils::MakeMaker 0    7.31_03


------------------------------
ENVIRONMENT AND OTHER CONTEXT
------------------------------

Environment variables:

    AUTOMATED_TESTING = 1
    LANG = en_US.UTF-8
    PATH = /home/sand/bin:/usr/local/bin:/usr/bin:/bin:/usr/games:/usr/local/perl/bin:/usr/X11/bin:/sbin:/usr/sbin
    PERL5LIB = 
    PERL5OPT = 
    PERL5_CPANPLUS_IS_RUNNING = 28133
    PERL5_CPAN_IS_RUNNING = 28133
    PERL_CANARY_STABILITY_NOPROMPT = 1
    PERL_MM_USE_DEFAULT = 1
    PERL_USE_UNSAFE_INC = 1
    SHELL = /usr/bin/zsh
    TERM = screen

Perl special variables (and OS-specific diagnostics, for MSWin32):

    $^X = /home/sand/src/perl/repoperls/installed-perls/host/k93msid/v5.14.4/d2d1/bin/perl
    $UID/$EUID = 1005 / 1005
    $GID = 1005 1005
    $EGID = 1005 1005

Perl module toolchain versions installed:

    Module              Have    
    ------------------- --------
    CPAN                2.18    
    CPAN::Meta          2.150010
    Cwd                 3.62    
    ExtUtils::CBuilder  0.280226
    ExtUtils::Command   7.31_03 
    ExtUtils::Install   2.06    
    ExtUtils::MakeMaker 7.31_03 
    ExtUtils::Manifest  1.70    
    ExtUtils::ParseXS   3.35    
    File::Spec          3.62    
    JSON                2.94    
    JSON::PP            2.94    
    Module::Build       0.4224  
    Module::Signature   0.81    
    Parse::CPAN::Meta   2.150010
    Test::Harness       3.40_01 
    Test::More          1.302090
    YAML                1.23    
    YAML::Syck          1.30    
    version             0.9918  


--

Summary of my perl5 (revision 5 version 14 subversion 4) configuration:
  Derived from: 26c5c13a4ece9084f310610bb17fb2f24c72a73e
  Platform:
    osname=linux, osvers=4.9.0-2-amd64, archname=x86_64-linux
    uname='linux k93msid 4.9.0-2-amd64 #1 smp debian 4.9.18-1 (2017-03-30) x86_64 gnulinux '
    config_args='-Dprefix=/home/sand/src/perl/repoperls/installed-perls/host/k93msid/v5.14.4/d2d1 -Dmyhostname=k93msid -Dinstallusrbinperl=n -Uversiononly -Dusedevel -des -Ui_db -Dlibswanted=cl pthread socket inet nsl gdbm dbm malloc dl ld sun m crypt sec util c cposix posix ucb BSD gdbm_compat -Uuseithreads -Uuselongdouble -DDEBUGGING=both'
    hint=recommended, useposix=true, d_sigaction=define
    useithreads=undef, usemultiplicity=undef
    useperlio=define, d_sfio=undef, uselargefiles=define, usesocks=undef
    use64bitint=define, use64bitall=define, uselongdouble=undef
    usemymalloc=n, bincompat5005=undef
  Compiler:
    cc='cc', ccflags ='-DDEBUGGING -fno-strict-aliasing -pipe -fstack-protector -I/usr/local/include -D_LARGEFILE_SOURCE -D_FILE_OFFSET_BITS=64',
    optimize='-O2 -g',
    cppflags='-DDEBUGGING -fno-strict-aliasing -pipe -fstack-protector -I/usr/local/include'
    ccversion='', gccversion='6.3.0 20170406', gccosandvers=''
    intsize=4, longsize=8, ptrsize=8, doublesize=8, byteorder=12345678
    d_longlong=define, longlongsize=8, d_longdbl=define, longdblsize=16
    ivtype='long', ivsize=8, nvtype='double', nvsize=8, Off_t='off_t', lseeksize=8
    alignbytes=8, prototype=define
  Linker and Libraries:
    ld='cc', ldflags =' -fstack-protector -L/usr/local/lib'
    libpth=/usr/local/lib /lib/x86_64-linux-gnu /lib/../lib /usr/lib/x86_64-linux-gnu /usr/lib/../lib /lib /usr/lib
    libs=-lpthread -lnsl -ldl -lm -lcrypt -lutil -lc
    perllibs=-lpthread -lnsl -ldl -lm -lcrypt -lutil -lc
    libc=libc-2.24.so, so=so, useshrplib=false, libperl=libperl.a
    gnulibc_version='2.24'
  Dynamic Linking:
    dlsrc=dl_dlopen.xs, dlext=so, d_dlsymun=undef, ccdlflags='-Wl,-E'
    cccdlflags='-fPIC', lddlflags='-shared -O2 -g -L/usr/local/lib -fstack-protector'


Characteristics of this binary (from libperl): 
  Compile-time options: DEBUGGING PERL_DONT_CREATE_GVSV PERL_MALLOC_WRAP
                        PERL_PRESERVE_IVUV PERL_USE_DEVEL USE_64_BIT_ALL
                        USE_64_BIT_INT USE_LARGE_FILES USE_PERLIO
                        USE_PERL_ATOF
  Locally applied patches:
	uncommitted-changes
  Built under linux
  Compiled at Jun 21 2017 00:23:21
  %ENV:
    PERL5LIB=""
    PERL5OPT=""
    PERL5_CPANPLUS_IS_RUNNING="28133"
    PERL5_CPAN_IS_RUNNING="28133"
    PERL_CANARY_STABILITY_NOPROMPT="1"
    PERL_MM_USE_DEFAULT="1"
    PERL_USE_UNSAFE_INC="1"
  @INC:
    /home/sand/src/perl/repoperls/installed-perls/host/k93msid/v5.14.4/d2d1/lib/site_perl/5.14.4/x86_64-linux
    /home/sand/src/perl/repoperls/installed-perls/host/k93msid/v5.14.4/d2d1/lib/site_perl/5.14.4
    /home/sand/src/perl/repoperls/installed-perls/host/k93msid/v5.14.4/d2d1/lib/5.14.4/x86_64-linux
    /home/sand/src/perl/repoperls/installed-perls/host/k93msid/v5.14.4/d2d1/lib/5.14.4
    .