Alien-libuv v1.014 Perl 5 v5.33.9 x86_64-linux

Status
Pass
From
Slaven Rezić
Dist
Alien-libuv v1.014
Platform
Perl 5 v5.33.9 x86_64-linux
Date
2021-05-18 19:30:36
ID
857e04a2-b80f-11eb-8020-f13b1f24ea8f
This distribution has been tested as part of the CPAN Testers
project, supporting the Perl programming language.  See
http://wiki.cpantesters.org/ for more information or email
questions to cpan-testers-discuss@perl.org


--
Dear Chase Whitener,

This is a computer-generated report for Alien-libuv-1.014
on perl 5.33.9, created by CPAN-Reporter-1.2018.

Thank you for uploading your work to CPAN.  Congratulations!
All tests were successful.

Sections of this report:

    * Tester comments
    * Program output
    * Prerequisites
    * Environment and other context

------------------------------
TESTER COMMENTS
------------------------------

Additional comments from tester:

none provided

------------------------------
PROGRAM OUTPUT
------------------------------

Output from '/usr/bin/make test':

"/opt/perl-5.33.9/bin/perl5.33.9" -MAlien::Build::MM=cmd -e test
Alien::Build::Plugin::PkgConfig::Negotiate> Using PkgConfig plugin: PkgConfig::CommandLine
PERL_DL_NONLAZY=1 "/opt/perl-5.33.9/bin/perl5.33.9" "-MExtUtils::Command::MM" "-MTest::Harness" "-e" "undef *Test::Harness::Switches; test_harness(0, 'blib/lib', 'blib/arch')" t/*.t
# 
# Versions for all modules listed in MYMETA.json (including optional ones):
# 
# === Configure Requires ===
# 
#     Module                             Want Have
#     ---------------------------------- ---- ----
#     Alien::Build                       2.15 2.40
#     Alien::Build::MM                   0.32 2.40
#     Alien::Build::Plugin::Build::Make  0.01 2.40
#     Alien::Build::Plugin::Probe::Vcpkg 2.15 2.40
#     ExtUtils::MakeMaker                6.52 7.62
# 
# === Build Requires ===
# 
#     Module                             Want     Have
#     ---------------------------------- ---- --------
#     Alien::Build                       2.15     2.40
#     Alien::Build::MM                   0.32     2.40
#     Alien::Build::Plugin::Build::Make   any     2.40
#     Alien::Build::Plugin::Probe::Vcpkg 2.15     2.40
#     Config                              any 5.033009
#     ExtUtils::MakeMaker                6.52     7.62
#     IPC::Cmd                            any     1.04
# 
# === Test Requires ===
# 
#     Module              Want     Have
#     ------------------- ---- --------
#     ExtUtils::MakeMaker 6.52     7.62
#     File::Spec           any     3.80
#     Test2::Suite         any 0.000140
#     Test2::V0            any 0.000140
#     Test::Alien          any     2.40
#     Test::More          0.88 1.302183
# 
# === Test Recommends ===
# 
#     Module            Want     Have
#     ------------- -------- --------
#     CPAN::Meta    2.120900 2.150010
#     FFI::Platypus      any     1.43
# 
# === Runtime Requires ===
# 
#     Module                                Want Have
#     ------------------------------------- ---- ----
#     Alien::Autotools                      1.00 1.05
#     Alien::Base                           2.15 2.40
#     Alien::Build                          0.25 2.40
#     Alien::Build::Plugin::Build::Autoconf 0.04 2.40
#     base                                   any 2.27
#     strict                                 any 1.12
#     warnings                               any 1.51
# 
t/00-report-prereqs.t .. ok
# 
# 
# 
# HARNESS_ACTIVE=1
# HARNESS_VERSION=3.43
# LANG=C
# PERL5LIB=/home/cpansand/.cpan/build/2021051816/Alien-libuv-1.014-0/blib/lib:/home/cpansand/.cpan/build/2021051816/Alien-libuv-1.014-0/blib/arch:
# PERL5OPT=
# PERL5_CPANPLUS_IS_RUNNING=10156
# PERL5_CPAN_IS_RUNNING=10156
# PERL5_CPAN_IS_RUNNING_IN_RECURSION=9967,10156
# PERLDOC=-MPod::Perldoc::ToTextOverstrike
# PERL_BATCH=yes
# PERL_CANARY_STABILITY_NOPROMPT=1
# PERL_CPAN_REPORTER_CONFIG=/var/tmp/cpansmoker-1023/2021051816/cpanreporter_000_config.ini
# PERL_DL_NONLAZY=1
# PERL_EXTUTILS_AUTOINSTALL=--defaultdeps
# PERL_USE_UNSAFE_INC=1
# SHELL=/usr/bin/zsh
# 
# 
# 
# PERL5LIB path
# /home/cpansand/.cpan/build/2021051816/Alien-libuv-1.014-0/blib/lib
# /home/cpansand/.cpan/build/2021051816/Alien-libuv-1.014-0/blib/arch
# 
# 
# 
# perl                                  5.033009
# Alien::Base                           2.40
# Alien::Build                          2.40
# Alien::Build::MM                      2.40
# Alien::Build::Plugin::Build::Autoconf 2.40
# Config                                5.033009
# ExtUtils::MakeMaker                   7.62
# IPC::Cmd                              1.04
# Test2::Suite                          0.000140
# Test::Alien                           2.40
# Test::More                            1.302183
# 
# 
# 
# version        = 1.24.1
# cflags         = 
# cflags_static  = 
# libs           = -luv -lrt -lpthread -lnsl -ldl
# libs_static    = -luv -lrt -lpthread -lnsl -ldl
# 
# 
# 
t/00_diag.t ............ ok
# Install type: system
t/01_use.t ............. ok
t/ffi.t ................ ok
t/xs.t ................. ok
All tests successful.
Files=5, Tests=9,  1 wallclock secs ( 0.03 usr  0.02 sys +  0.83 cusr  0.35 csys =  1.23 CPU)
Result: PASS

------------------------------
PREREQUISITES
------------------------------

Prerequisite modules loaded:

requires:

    Module                                Need Have    
    ------------------------------------- ---- --------
    Alien::Autotools                      1.00 1.05    
    Alien::Base                           2.15 2.40    
    Alien::Build                          0.25 2.40    
    Alien::Build::Plugin::Build::Autoconf 0.04 2.40    
    base                                  0    2.27    
    strict                                0    1.12    
    warnings                              0    1.51    

build_requires:

    Module                                Need Have    
    ------------------------------------- ---- --------
    Alien::Build                          2.15 2.40    
    Alien::Build::MM                      0.32 2.40    
    Alien::Build::Plugin::Build::Make     0    2.40    
    Alien::Build::Plugin::Probe::Vcpkg    2.15 2.40    
    Config                                0    5.033009
    ExtUtils::MakeMaker                   6.52 7.62    
    File::Spec                            0    3.80    
    IPC::Cmd                              0    1.04    
    Test2::Suite                          0    0.000140
    Test2::V0                             0    0.000140
    Test::Alien                           0    2.40    
    Test::More                            0.88 1.302183

configure_requires:

    Module                                Need Have    
    ------------------------------------- ---- --------
    Alien::Build                          2.15 2.40    
    Alien::Build::MM                      0.32 2.40    
    Alien::Build::Plugin::Build::Make     0.01 2.40    
    Alien::Build::Plugin::Probe::Vcpkg    2.15 2.40    
    ExtUtils::MakeMaker                   6.52 7.62    


------------------------------
ENVIRONMENT AND OTHER CONTEXT
------------------------------

Environment variables:

    LANG = C
    PATH = /usr/local/bin:/usr/bin:/bin:/usr/local/sbin:/usr/sbin:/sbin:/home/cpansand/bin/linux-gnu:/home/cpansand/bin/sh:/home/cpansand/bin:/usr/games:/home/cpansand/devel:/home/eserte/src/srezic-misc/scripts
    PERL5LIB = 
    PERL5OPT = 
    PERL5_CPANPLUS_IS_RUNNING = 10156
    PERL5_CPAN_IS_RUNNING = 10156
    PERL5_CPAN_IS_RUNNING_IN_RECURSION = 9967,10156
    PERLDOC = -MPod::Perldoc::ToTextOverstrike
    PERL_BATCH = yes
    PERL_CANARY_STABILITY_NOPROMPT = 1
    PERL_CPAN_REPORTER_CONFIG = /var/tmp/cpansmoker-1023/2021051816/cpanreporter_000_config.ini
    PERL_EXTUTILS_AUTOINSTALL = --defaultdeps
    PERL_USE_UNSAFE_INC = 1
    SHELL = /usr/bin/zsh
    TERM = screen
    TMPDIR = /var/tmp/cpansmoker-1023/2021051816

Perl special variables (and OS-specific diagnostics, for MSWin32):

    $^X = /opt/perl-5.33.9/bin/perl5.33.9
    $UID/$EUID = 1023 / 1023
    $GID = 1023 1023
    $EGID = 1023 1023

Perl module toolchain versions installed:

    Module              Have    
    ------------------- --------
    CPAN                2.28    
    CPAN::Meta          2.150010
    Cwd                 3.80    
    ExtUtils::CBuilder  0.280236
    ExtUtils::Command   7.62    
    ExtUtils::Install   2.20    
    ExtUtils::MakeMaker 7.62    
    ExtUtils::Manifest  1.73    
    ExtUtils::ParseXS   3.43    
    File::Spec          3.80    
    JSON                4.03    
    JSON::PP            4.06    
    Module::Build       0.4231  
    Module::Signature   n/a     
    Parse::CPAN::Meta   2.150010
    Test::Harness       3.43    
    Test::More          1.302183
    YAML                1.30    
    YAML::Syck          1.34    
    version             0.9928  


--

Summary of my perl5 (revision 5 version 33 subversion 9) configuration:
   
  Platform:
    osname=linux
    osvers=4.19.0-16-amd64
    archname=x86_64-linux
    uname='linux debian10 4.19.0-16-amd64 #1 smp debian 4.19.181-1 (2021-03-19) x86_64 gnulinux '
    config_args='-ds -e -Dprefix=/opt/perl-5.33.9 -Dusedevel -Dusemallocwrap=no -Dcf_email=srezic@cpan.org'
    hint=recommended
    useposix=true
    d_sigaction=define
    useithreads=undef
    usemultiplicity=undef
    use64bitint=define
    use64bitall=define
    uselongdouble=undef
    usemymalloc=n
    default_inc_excludes_dot=define
  Compiler:
    cc='cc'
    ccflags ='-fwrapv -fno-strict-aliasing -pipe -fstack-protector-strong -I/usr/local/include -D_LARGEFILE_SOURCE -D_FILE_OFFSET_BITS=64 -D_FORTIFY_SOURCE=2'
    optimize='-O2'
    cppflags='-fwrapv -fno-strict-aliasing -pipe -fstack-protector-strong -I/usr/local/include'
    ccversion=''
    gccversion='8.3.0'
    gccosandvers=''
    intsize=4
    longsize=8
    ptrsize=8
    doublesize=8
    byteorder=12345678
    doublekind=3
    d_longlong=define
    longlongsize=8
    d_longdbl=define
    longdblsize=16
    longdblkind=3
    ivtype='long'
    ivsize=8
    nvtype='double'
    nvsize=8
    Off_t='off_t'
    lseeksize=8
    alignbytes=8
    prototype=define
  Linker and Libraries:
    ld='cc'
    ldflags =' -fstack-protector-strong -L/usr/local/lib'
    libpth=/usr/local/lib /usr/lib/x86_64-linux-gnu /usr/lib /lib/x86_64-linux-gnu /lib
    libs=-lpthread -lnsl -lgdbm -ldb -ldl -lm -lcrypt -lutil -lc
    perllibs=-lpthread -lnsl -ldl -lm -lcrypt -lutil -lc
    libc=libc-2.28.so
    so=so
    useshrplib=false
    libperl=libperl.a
    gnulibc_version='2.28'
  Dynamic Linking:
    dlsrc=dl_dlopen.xs
    dlext=so
    d_dlsymun=undef
    ccdlflags='-Wl,-E'
    cccdlflags='-fPIC'
    lddlflags='-shared -O2 -L/usr/local/lib -fstack-protector-strong'


Characteristics of this binary (from libperl): 
  Compile-time options:
    HAS_TIMES
    PERLIO_LAYERS
    PERL_COPY_ON_WRITE
    PERL_DONT_CREATE_GVSV
    PERL_OP_PARENT
    PERL_PRESERVE_IVUV
    PERL_USE_DEVEL
    USE_64_BIT_ALL
    USE_64_BIT_INT
    USE_LARGE_FILES
    USE_LOCALE
    USE_LOCALE_COLLATE
    USE_LOCALE_CTYPE
    USE_LOCALE_NUMERIC
    USE_LOCALE_TIME
    USE_PERLIO
    USE_PERL_ATOF
  Built under linux
  Compiled at Apr 30 2021 16:46:44
  %ENV:
    PERL5LIB=""
    PERL5OPT=""
    PERL5_CPANPLUS_IS_RUNNING="10156"
    PERL5_CPAN_IS_RUNNING="10156"
    PERL5_CPAN_IS_RUNNING_IN_RECURSION="9967,10156"
    PERLDOC="-MPod::Perldoc::ToTextOverstrike"
    PERL_BATCH="yes"
    PERL_CANARY_STABILITY_NOPROMPT="1"
    PERL_CPAN_REPORTER_CONFIG="/var/tmp/cpansmoker-1023/2021051816/cpanreporter_000_config.ini"
    PERL_EXTUTILS_AUTOINSTALL="--defaultdeps"
    PERL_USE_UNSAFE_INC="1"
  @INC:
    /opt/perl-5.33.9/lib/site_perl/5.33.9/x86_64-linux
    /opt/perl-5.33.9/lib/site_perl/5.33.9
    /opt/perl-5.33.9/lib/5.33.9/x86_64-linux
    /opt/perl-5.33.9/lib/5.33.9
    .