Time-Moment v0.44 Perl 5 v5.41.2 OpenBSD.amd64-openbsd

Status
Pass
From
Carlos Guevara
Dist
Time-Moment v0.44
Platform
Perl 5 v5.41.2 OpenBSD.amd64-openbsd
Date
2024-07-16 18:09:19
ID
85922de2-439e-11ef-9e70-beded28278a0
This distribution has been tested as part of the CPAN Testers
project, supporting the Perl programming language.  See
http://wiki.cpantesters.org/ for more information or email
questions to cpan-testers-discuss@perl.org


--
Dear Christian Hansen,

This is a computer-generated report for Time-Moment-0.44
on perl 5.41.2, created by CPAN-Reporter-1.2019.

Thank you for uploading your work to CPAN.  Congratulations!
All tests were successful.

Sections of this report:

    * Tester comments
    * Program output
    * Prerequisites
    * Environment and other context

------------------------------
TESTER COMMENTS
------------------------------

Additional comments from tester:

this report is from an automated smoke testing program
and was not reviewed by a human for accuracy

------------------------------
PROGRAM OUTPUT
------------------------------

Output from '/usr/bin/make test':

"/home/cpan/bin/perl/bin/perl5.41.2" "-Iinc" -MExtUtils::Command::MM -e 'cp_nonempty' -- Moment.bs blib/arch/auto/Time/Moment/Moment.bs 644
PERL_DL_NONLAZY=1 "/home/cpan/bin/perl/bin/perl5.41.2" "-MExtUtils::Command::MM" "-MTest::Harness" "-e" "undef *Test::Harness::Switches; test_harness(0, 'inc', 'blib/lib', 'blib/arch')" t/*.t
# Time::Moment 0.44, Perl 5.041002, /home/cpan/bin/perl/bin/perl5.41.2 (d_gettimeod=true d_localtime_r=false)
t/000_load.t ............ ok
t/100_basic.t ........... ok
t/110_now.t ............. ok
t/120_now_utc.t ......... ok
t/130_from_epoch.t ...... ok
t/140_from_object.t ..... ok
t/145_from_object_tp.t .. ok
t/150_from_object_dt.t .. ok
t/180_from_string.t ..... ok
t/190_rd.t .............. ok
t/191_jd.t .............. ok
t/192_mjd.t ............. ok
t/200_compare.t ......... ok
t/300_strftime.t ........ ok
t/400_with.t ............ ok
t/410_with_offset.t ..... ok
t/411_with_adjusters.t .. ok
t/415_precision.t ....... ok
t/420_at.t .............. ok
t/430_length.t .......... ok
t/450_delta_time.t ...... ok
t/455_delta_date.t ...... ok
t/500_storable.t ........ ok
t/510_json.t ............ ok
t/520_cbor.t ............ skipped: Test requires module 'CBOR::XS' but it's not found
t/530_sereal.t .......... skipped: Test requires module 'Sereal' but it's not found
t/600_coerce_dt.t ....... skipped: Test requires module 'Params::Coerce' but it's not found
t/610_coerce_tp.t ....... skipped: Test requires module 'Params::Coerce' but it's not found
t/900_bug_reuse.t ....... ok
All tests successful.
Files=29, Tests=16767,  6 wallclock secs ( 1.27 usr  0.14 sys +  4.28 cusr  0.68 csys =  6.37 CPU)
Result: PASS

------------------------------
PREREQUISITES
------------------------------

Prerequisite modules loaded:

requires:

    Module              Need     Have    
    ------------------- -------- --------
    Carp                0        1.54    
    perl                5.008001 5.041002
    Time::HiRes         0        1.9777  
    XSLoader            0.02     0.32    

build_requires:

    Module              Need     Have    
    ------------------- -------- --------
    ExtUtils::MakeMaker 6.59     7.70    
    ExtUtils::ParseXS   3.18     3.52    
    Test::Fatal         0.006    0.017   
    Test::More          0.88     1.302199
    Test::Number::Delta 1.06     1.06    
    Test::Requires      0        0.11    

configure_requires:

    Module              Need     Have    
    ------------------- -------- --------
    ExtUtils::MakeMaker 6.59     7.70    
    ExtUtils::ParseXS   3.18     3.52    


------------------------------
ENVIRONMENT AND OTHER CONTEXT
------------------------------

Environment variables:

    AUTOMATED_TESTING = 1
    DATE_MANIP_TEST_DM5 = 1
    LC_ALL = C
    NONINTERACTIVE_TESTING = 1
    NO_NETWORK_TESTING = 1
    PATH = /home/cpan/bin/perl/bin:/home/cpan/bin:/home/cpan/bin:/bin:/sbin:/usr/bin:/usr/sbin:/usr/X11R6/bin:/usr/local/bin:/usr/local/sbin
    PERL5LIB = 
    PERL5OPT = 
    PERL5_CPANPLUS_IS_RUNNING = 60054
    PERL5_CPAN_IS_RUNNING = 60054
    PERL_MM_USE_DEFAULT = 1
    PERL_USE_UNSAFE_INC = 1
    SHELL = /usr/local/bin/bash
    TERM = screen
    TMPDIR = /home/cpan/tmp

Perl special variables (and OS-specific diagnostics, for MSWin32):

    $^X = /home/cpan/bin/perl/bin/perl5.41.2
    $UID/$EUID = 1001 / 1001
    $GID = 1001 1001
    $EGID = 1001 1001

Perl module toolchain versions installed:

    Module              Have    
    ------------------- --------
    CPAN                2.36    
    CPAN::Meta          2.150010
    Cwd                 3.91    
    ExtUtils::CBuilder  0.280240
    ExtUtils::Command   7.70    
    ExtUtils::Install   2.22    
    ExtUtils::MakeMaker 7.70    
    ExtUtils::Manifest  1.75    
    ExtUtils::ParseXS   3.52    
    File::Spec          3.91    
    JSON                4.10    
    JSON::PP            4.16    
    Module::Build       0.4234  
    Module::Signature   0.88    
    Parse::CPAN::Meta   2.150010
    Test2               1.302199
    Test::Harness       3.48    
    Test::More          1.302199
    YAML                1.31    
    YAML::Syck          1.34    
    version             0.9932  


--

Summary of my perl5 (revision 5 version 41 subversion 2) configuration:
  Commit id: 1f92987284f574458c07a915bbf134a74d6d762e
  Platform:
    osname=openbsd
    osvers=7.5
    archname=OpenBSD.amd64-openbsd
    uname='openbsd cjg-openbsd7 7.5 generic#79 amd64 '
    config_args='-des -Dprefix=/home/cpan/bin/perl -Dscriptdir=/home/cpan/bin/perl/bin -Dusedevel -Duse64bitall'
    hint=recommended
    useposix=true
    d_sigaction=define
    useithreads=undef
    usemultiplicity=undef
    use64bitint=define
    use64bitall=define
    uselongdouble=undef
    usemymalloc=n
    default_inc_excludes_dot=define
  Compiler:
    cc='cc'
    ccflags ='-DNO_LOCALE_NUMERIC -DNO_LOCALE_COLLATE -DNO_LOCALE_MONETARY -DNO_LOCALE_TIME -DNO_LOCALE_MESSAGES -DLIBC_HANDLES_MISMATCHED_CTYPE -fno-strict-aliasing -pipe -fstack-protector-strong -I/usr/local/include'
    optimize='-O2'
    cppflags='-DNO_LOCALE_NUMERIC -DNO_LOCALE_COLLATE -DNO_LOCALE_MONETARY -DNO_LOCALE_TIME -DNO_LOCALE_MESSAGES -DLIBC_HANDLES_MISMATCHED_CTYPE -fno-strict-aliasing -pipe -fstack-protector-strong -I/usr/local/include'
    ccversion=''
    gccversion='OpenBSD Clang 16.0.6'
    gccosandvers=''
    intsize=4
    longsize=8
    ptrsize=8
    doublesize=8
    byteorder=12345678
    doublekind=3
    d_longlong=define
    longlongsize=8
    d_longdbl=define
    longdblsize=16
    longdblkind=3
    ivtype='long'
    ivsize=8
    nvtype='double'
    nvsize=8
    Off_t='off_t'
    lseeksize=8
    alignbytes=8
    prototype=define
  Linker and Libraries:
    ld='cc'
    ldflags ='-Wl,-E  -fstack-protector-strong -L/usr/local/lib'
    libpth=/usr/lib/clang/16/lib /usr/lib /usr/local/lib
    libs=-lpthread -lm -lutil -lc
    perllibs=-lpthread -lm -lutil -lc
    libc=/usr/lib/libc.so.99.0
    so=so
    useshrplib=false
    libperl=libperl.a
    gnulibc_version=''
  Dynamic Linking:
    dlsrc=dl_dlopen.xs
    dlext=so
    d_dlsymun=undef
    ccdlflags=' '
    cccdlflags='-DPIC -fPIC '
    lddlflags='-shared -fPIC  -L/usr/local/lib -fstack-protector-strong'


Characteristics of this binary (from libperl): 
  Compile-time options:
    HAS_LONG_DOUBLE
    HAS_STRTOLD
    HAS_TIMES
    PERLIO_LAYERS
    PERL_COPY_ON_WRITE
    PERL_DONT_CREATE_GVSV
    PERL_HASH_FUNC_SIPHASH13
    PERL_HASH_USE_SBOX32
    PERL_MALLOC_WRAP
    PERL_OP_PARENT
    PERL_PRESERVE_IVUV
    PERL_USE_DEVEL
    PERL_USE_SAFE_PUTENV
    USE_64_BIT_ALL
    USE_64_BIT_INT
    USE_LARGE_FILES
    USE_LOCALE
    USE_LOCALE_CTYPE
    USE_PERLIO
    USE_PERL_ATOF
  Built under openbsd
  Compiled at Jul 16 2024 06:55:25
  %ENV:
    PERL5LIB=""
    PERL5OPT=""
    PERL5_CPANPLUS_IS_RUNNING="60054"
    PERL5_CPAN_IS_RUNNING="60054"
    PERL_MM_USE_DEFAULT="1"
    PERL_USE_UNSAFE_INC="1"
  @INC:
    /home/cpan/bin/perl/lib/site_perl/5.41.2/OpenBSD.amd64-openbsd
    /home/cpan/bin/perl/lib/site_perl/5.41.2
    /home/cpan/bin/perl/lib/5.41.2/OpenBSD.amd64-openbsd
    /home/cpan/bin/perl/lib/5.41.2
    .