Dist-Zilla-Plugin-CheckBin v0.008 Perl 5 v5.26.0 i86pc-solaris

Status
Pass
From
Serguei Trouchelle (STRO)
Dist
Dist-Zilla-Plugin-CheckBin v0.008
Platform
Perl 5 v5.26.0 i86pc-solaris
Date
2017-11-03 19:02:22
ID
85a7b91e-c0c9-11e7-9afc-edd812b9258d
This distribution has been tested as part of the CPAN Testers
project, supporting the Perl programming language.  See
http://wiki.cpantesters.org/ for more information or email
questions to cpan-testers-discuss@perl.org


--
Dear Karen Etheridge,

This is a computer-generated report for Dist-Zilla-Plugin-CheckBin-0.008
on perl 5.26.0, created by CPAN-Reporter-1.2018.

Thank you for uploading your work to CPAN.  Congratulations!
All tests were successful.

Sections of this report:

    * Tester comments
    * Program output
    * Prerequisites
    * Environment and other context

------------------------------
TESTER COMMENTS
------------------------------

Additional comments from tester:

this report is from an automated smoke testing program
and was not reviewed by a human for accuracy

------------------------------
PROGRAM OUTPUT
------------------------------

Output from '/usr/bin/make test':

PERL_DL_NONLAZY=1 "/home/stro/perl/5.26.0/bin/perl" "-MExtUtils::Command::MM" "-MTest::Harness" "-e" "undef *Test::Harness::Switches; test_harness(0, 'blib/lib', 'blib/arch')" t/*.t
# 
# Versions for all modules listed in MYMETA.json (including optional ones):
# 
# === Configure Requires ===
# 
#     Module                       Want     Have
#     ------------------------ -------- --------
#     CPAN::Meta::Requirements 2.120620    2.140
#     ExtUtils::MakeMaker           any     7.24
#     Module::Metadata              any 1.000033
# 
# === Build Requires ===
# 
#     Module              Want Have
#     ------------------- ---- ----
#     ExtUtils::MakeMaker  any 7.24
# 
# === Test Requires ===
# 
#     Module              Want     Have
#     ------------------- ---- --------
#     ExtUtils::MakeMaker  any     7.24
#     File::Spec           any     3.67
#     Path::Tiny           any    0.104
#     Test::DZil           any    6.010
#     Test::Deep           any    1.127
#     Test::Fatal          any    0.014
#     Test::More          0.88 1.302106
#     Test::Needs          any 0.002005
#     if                   any   0.0606
# 
# === Test Recommends ===
# 
#     Module         Want     Have
#     ---------- -------- --------
#     CPAN::Meta 2.120900 2.150010
# 
# === Runtime Requires ===
# 
#     Module                                   Want   Have
#     ------------------------------------ -------- ------
#     Devel::CheckBin                           any   0.04
#     Dist::Zilla                          4.300039  6.010
#     Dist::Zilla::Plugin::ModuleBuildTiny    0.007  0.015
#     Dist::Zilla::Role::FileMunger             any  6.010
#     Dist::Zilla::Role::InstallTool            any  6.010
#     Dist::Zilla::Role::PrereqSource           any  6.010
#     Moose                                     any 2.2006
#     Scalar::Util                              any   1.49
#     namespace::autoclean                      any   0.28
#     strict                                    any   1.11
#     warnings                                  any   1.37
# 
# === Other Modules ===
# 
#     Module                                             Have
#     ---------------------------------------------- --------
#     CPAN::Meta::Validator                          2.150010
#     Dist::Zilla::Plugin::MakeMaker                    6.010
#     Dist::Zilla::Plugin::MakeMaker::Awesome            0.39
#     Dist::Zilla::Plugin::MakeMaker::Fallback          0.025
#     Dist::Zilla::Plugin::ModuleBuildTiny              0.015
#     Dist::Zilla::Plugin::ModuleBuildTiny::Fallback  missing
#     ExtUtils::MakeMaker                                7.24
#     JSON::PP                                           2.94
#     Module::Build                                    0.4224
#     Module::Build::Tiny                               0.039
#     Pod::Coverage                                      0.23
#     Sub::Name                                          0.21
#     YAML                                               1.23
#     autodie                                            2.29
# 
t/00-report-prereqs.t ............ ok
t/01-basic.t ..................... ok
t/02-module-build.t .............. ok
t/03-module-build-tiny.t ......... ok
t/04-makemaker-awesome.t ......... ok
t/05-makemaker-fallback.t ........ ok
t/06-modulebuildtiny-fallback.t .. skipped: Need Dist::Zilla::Plugin::ModuleBuildTiny::Fallback 0.006
t/zzz-check-breaks.t ............. ok
All tests successful.
Files=8, Tests=29, 13 wallclock secs ( 0.04 usr  0.02 sys +  6.17 cusr  0.71 csys =  6.94 CPU)
Result: PASS

------------------------------
PREREQUISITES
------------------------------

Prerequisite modules loaded:

requires:

    Module                               Need     Have    
    ------------------------------------ -------- --------
    Devel::CheckBin                      0        0.04    
    Dist::Zilla                          4.300039 6.010   
    Dist::Zilla::Plugin::ModuleBuildTiny 0.007    0.015   
    Dist::Zilla::Role::FileMunger        0        6.010   
    Dist::Zilla::Role::InstallTool       0        6.010   
    Dist::Zilla::Role::PrereqSource      0        6.010   
    Moose                                0        2.2006  
    namespace::autoclean                 0        0.28    
    perl                                 5.009005 5.026000
    Scalar::Util                         0        1.49    
    strict                               0        1.11    
    warnings                             0        1.37    

build_requires:

    Module                               Need     Have    
    ------------------------------------ -------- --------
    ExtUtils::MakeMaker                  0        7.24    
    File::Spec                           0        3.67    
    if                                   0        0.0606  
    Path::Tiny                           0        0.104   
    Test::Deep                           0        1.127   
    Test::DZil                           0        6.010   
    Test::Fatal                          0        0.014   
    Test::More                           0.88     1.302106
    Test::Needs                          0        0.002005

configure_requires:

    Module                               Need     Have    
    ------------------------------------ -------- --------
    CPAN::Meta::Requirements             2.120620 2.140   
    ExtUtils::MakeMaker                  0        7.24    
    Module::Metadata                     0        1.000033
    perl                                 5.006    5.026000

opt_build_requires:

    Module                               Need     Have    
    ------------------------------------ -------- --------
    CPAN::Meta                           2.120900 2.150010


------------------------------
ENVIRONMENT AND OTHER CONTEXT
------------------------------

Environment variables:

    AUTOMATED_TESTING = 1
    LANG = en_US.UTF-8
    PATH = /usr/gnu/bin:/usr/bin:/usr/sbin:/sbin:/usr/sfw/bin:
    PERL5LIB = 
    PERL5OPT = 
    PERL5_CPANPLUS_IS_RUNNING = 25036
    PERL5_CPAN_IS_RUNNING = 25036
    PERL5_CPAN_IS_RUNNING_IN_RECURSION = 24735,25036
    PERL_CR_SMOKER_CURRENT = Dist-Zilla-Plugin-CheckBin-0.008
    PERL_EXTUTILS_AUTOINSTALL = --defaultdeps
    PERL_MM_USE_DEFAULT = 1
    PERL_USE_UNSAFE_INC = 1
    SHELL = /bin/bash
    TERM = xterm-256color

Perl special variables (and OS-specific diagnostics, for MSWin32):

    $^X = /home/stro/perl/5.26.0/bin/perl
    $UID/$EUID = 101 / 101
    $GID = 10 10
    $EGID = 10 10

Perl module toolchain versions installed:

    Module              Have    
    ------------------- --------
    CPAN                2.18    
    CPAN::Meta          2.150010
    Cwd                 3.67    
    ExtUtils::CBuilder  0.280226
    ExtUtils::Command   7.24    
    ExtUtils::Install   2.04    
    ExtUtils::MakeMaker 7.24    
    ExtUtils::Manifest  1.70    
    ExtUtils::ParseXS   3.34    
    File::Spec          3.67    
    JSON                2.94    
    JSON::PP            2.94    
    Module::Build       0.4224  
    Module::Signature   n/a     
    Parse::CPAN::Meta   2.150010
    Test::Harness       3.38    
    Test::More          1.302106
    YAML                1.23    
    YAML::Syck          1.30    
    version             0.9917  


--

Summary of my perl5 (revision 5 version 26 subversion 0) configuration:
   
  Platform:
    osname=solaris
    osvers=2.11
    archname=i86pc-solaris
    uname='sunos vm-openindiana-001 5.11 illumos-ed992b0aac i86pc i386 i86pc solaris '
    config_args=''
    hint=recommended
    useposix=true
    d_sigaction=define
    useithreads=undef
    usemultiplicity=undef
    use64bitint=undef
    use64bitall=undef
    uselongdouble=undef
    usemymalloc=n
    default_inc_excludes_dot=define
    bincompat5005=undef
  Compiler:
    cc='/opt/SUNWspro/bin/cc'
    ccflags ='-I/usr/gnu/include -D_LARGEFILE_SOURCE -D_FILE_OFFSET_BITS=64 -DPERL_USE_SAFE_PUTENV'
    optimize='-O'
    cppflags='-I/usr/gnu/include'
    ccversion='Sun C 5.10 SunOS_i386 2009/06/03'
    gccversion=''
    gccosandvers=''
    intsize=4
    longsize=4
    ptrsize=4
    doublesize=8
    byteorder=1234
    doublekind=3
    d_longlong=define
    longlongsize=8
    d_longdbl=define
    longdblsize=12
    longdblkind=3
    ivtype='long'
    ivsize=4
    nvtype='double'
    nvsize=8
    Off_t='off_t'
    lseeksize=8
    alignbytes=4
    prototype=define
  Linker and Libraries:
    ld='/opt/SUNWspro/bin/cc'
    ldflags =' -L/usr/lib -L/usr/ccs/lib -L/opt/sunstudio12.1/prod/lib -L/lib -L/usr/gnu/lib '
    libpth=/usr/lib /usr/ccs/lib /opt/sunstudio12.1/prod/lib /lib /usr/gnu/lib
    libs=-lpthread -lsocket -lnsl -lgdbm -ldb -ldl -lm -lc
    perllibs=-lpthread -lsocket -lnsl -ldl -lm -lc
    libc=/lib/libc.so
    so=so
    useshrplib=true
    libperl=libperl.so
    gnulibc_version=''
  Dynamic Linking:
    dlsrc=dl_dlopen.xs
    dlext=so
    d_dlsymun=undef
    ccdlflags='  -R /home/stro/perl/5.26.0/lib/5.26.0/i86pc-solaris/CORE'
    cccdlflags='-KPIC'
    lddlflags='-G -L/usr/lib -L/usr/ccs/lib -L/opt/sunstudio12.1/prod/lib -L/lib -L/usr/gnu/lib'


Characteristics of this binary (from libperl): 
  Compile-time options:
    HAS_TIMES
    PERLIO_LAYERS
    PERL_COPY_ON_WRITE
    PERL_DONT_CREATE_GVSV
    PERL_HASH_FUNC_ONE_AT_A_TIME_HARD
    PERL_MALLOC_WRAP
    PERL_OP_PARENT
    PERL_PRESERVE_IVUV
    PERL_USE_SAFE_PUTENV
    USE_LARGE_FILES
    USE_LOCALE
    USE_LOCALE_COLLATE
    USE_LOCALE_CTYPE
    USE_LOCALE_NUMERIC
    USE_LOCALE_TIME
    USE_PERLIO
    USE_PERL_ATOF
  Built under solaris
  Compiled at Sep 17 2017 21:57:25
  %ENV:
    PERL5LIB=""
    PERL5OPT=""
    PERL5_CPANPLUS_IS_RUNNING="25036"
    PERL5_CPAN_IS_RUNNING="25036"
    PERL5_CPAN_IS_RUNNING_IN_RECURSION="24735,25036"
    PERL_CR_SMOKER_CURRENT="Dist-Zilla-Plugin-CheckBin-0.008"
    PERL_EXTUTILS_AUTOINSTALL="--defaultdeps"
    PERL_MM_USE_DEFAULT="1"
    PERL_USE_UNSAFE_INC="1"
  @INC:
    /home/stro/perl/5.26.0/lib/site_perl/5.26.0/i86pc-solaris
    /home/stro/perl/5.26.0/lib/site_perl/5.26.0
    /home/stro/perl/5.26.0/lib/5.26.0/i86pc-solaris
    /home/stro/perl/5.26.0/lib/5.26.0
    .