Catalyst-Plugin-Devel-ModuleVersions v0.100330 Perl 5 v5.37.4 x86_64-linux-thread-multi-ld
- Status
- Pass
- From
- Andreas J. König (ANDK)
- Dist
-
Catalyst-Plugin-Devel-ModuleVersions v0.100330
- Platform
- Perl 5 v5.37.4 x86_64-linux-thread-multi-ld
- Date
- 2022-10-13 22:43:57
- ID
- 85d3f768-4b48-11ed-b04a-ba082b03ad1d
This distribution has been tested as part of the CPAN Testers
project, supporting the Perl programming language. See
http://wiki.cpantesters.org/ for more information or email
questions to cpan-testers-discuss@perl.org
--
Dear Andreas Marienborg,
This is a computer-generated report for Catalyst-Plugin-Devel-ModuleVersions-0.100330
on perl 5.37.4, created by CPAN-Reporter-1.2018.
Thank you for uploading your work to CPAN. Congratulations!
All tests were successful.
Sections of this report:
* Tester comments
* Program output
* Prerequisites
* Environment and other context
------------------------------
TESTER COMMENTS
------------------------------
Additional comments from tester:
this report is from an automated smoke testing program
and was not reviewed by a human for accuracy
------------------------------
PROGRAM OUTPUT
------------------------------
Output from '/usr/bin/make test':
PERL_DL_NONLAZY=1 "/tmp/basesmoker-reloperl-kHob/bin/perl" "-MExtUtils::Command::MM" "-MTest::Harness" "-e" "undef *Test::Harness::Switches; test_harness(0, 'blib/lib', 'blib/arch')" t/*.t t/author/*.t
t/00-load.t ............... ok
t/author/pod-coverage.t ... ok
t/author/pod.t ............ ok
[debug] Debug messages enabled
[debug] Statistics enabled
[debug] Loaded plugins:
.----------------------------------------------------------------------------.
| Catalyst::Plugin::Devel::ModuleVersions 0.100330 |
'----------------------------------------------------------------------------'
[debug] Loaded PSGI Middleware:
.----------------------------------------------------------------------------.
| Catalyst::Middleware::Stash |
| Plack::Middleware::HTTPExceptions |
| Plack::Middleware::RemoveRedundantBody 0.09 |
| Plack::Middleware::FixMissingBodyInRedirect 0.12 |
| Plack::Middleware::ContentLength |
| Plack::Middleware::MethodOverride 0.20 |
| Plack::Middleware::Head |
'----------------------------------------------------------------------------'
[debug] Loaded Request Data Handlers:
.----------------------------------------------------------------------------.
| application/json |
| application/x-www-form-urlencoded |
'----------------------------------------------------------------------------'
[debug] Loaded dispatcher "Catalyst::Dispatcher"
[debug] Loaded engine "Catalyst::Engine"
[debug] Found home "/tmp/loop_over_bdir-699717-u8pT6m/Catalyst-Plugin-Devel-ModuleVersions-0.100330-0/t/lib/TestApp"
[debug] Loaded components:
.-----------------------------------------------------------------+----------.
| Class | Type |
+-----------------------------------------------------------------+----------+
| TestApp::Controller::Root | instance |
'-----------------------------------------------------------------+----------'
[debug] Loaded Private actions:
.----------------------+--------------------------------------+--------------.
| Private | Class | Method |
+----------------------+--------------------------------------+--------------+
| /main | TestApp::Controller::Root | main |
'----------------------+--------------------------------------+--------------'
[debug] Loaded Path actions:
.-------------------------------------+--------------------------------------.
| Path | Private |
+-------------------------------------+--------------------------------------+
| /... | /main |
'-------------------------------------+--------------------------------------'
[info] Application powered by Catalyst 5.90129
[info] *** Request 1 (1.000/s) [2767437] [Thu Oct 13 22:40:57 2022] ***
[debug] Path is "/"
[debug] "GET" request for "/" from "127.0.0.1"
[error] Caught exception in TestApp::Controller::Root->main "forced debug at /tmp/loop_over_bdir-699717-u8pT6m/Catalyst-Plugin-Devel-ModuleVersions-0.100330-0/t/lib/TestApp/Controller/Root.pm line 11."
[debug] Response Code: 500; Content-Type: text/html; charset=utf-8; Content-Length: unknown
[info] Request took 0.014671s (68.162/s)
.------------------------------------------------------------+-----------.
| Action | Time |
+------------------------------------------------------------+-----------+
| /main | 0.000120s |
'------------------------------------------------------------+-----------'
t/live-test.t ............. ok
t/release-pod-coverage.t .. skipped: these tests are for release candidate testing
t/release-pod-syntax.t .... skipped: these tests are for release candidate testing
All tests successful.
Files=6, Tests=6, 1 wallclock secs ( 0.03 usr 0.01 sys + 1.24 cusr 0.14 csys = 1.42 CPU)
Result: PASS
------------------------------
PREREQUISITES
------------------------------
Prerequisite modules loaded:
requires:
Module Need Have
------------------------------ ---- ----------
base 0 2.27
Catalyst 0 5.90129
Catalyst::Test 0 0
FindBin 0 1.53
Getopt::Long 0 2.52
mro 0 1.26
MRO::Compat 0 0.15
ok 0 1.302191
Pod::Usage 0 2.03
Test::MockObject 0 1.20200122
Test::More 0 1.302191
Test::WWW::Mechanize::Catalyst 0 0.62
! TestApp 0 n/a
build_requires:
Module Need Have
------------------------------ ---- ----------
ExtUtils::MakeMaker 0 7.64
------------------------------
ENVIRONMENT AND OTHER CONTEXT
------------------------------
Environment variables:
AUTOMATED_TESTING = 1
LANG = en_US.UTF-8
PATH = /home/sand/bin:/usr/local/bin:/usr/local/sbin:/usr/sbin:/usr/bin:/sbin:/bin:/usr/games:/usr/local/games:/snap/bin:/usr/local/perl/bin:/usr/X11/bin
PERL = /tmp/basesmoker-reloperl-kHob/bin/perl
PERL5LIB = /tmp/loop_over_bdir-699717-u8pT6m/DBIx-Migration-Directories-0.12-0/blib/arch:/tmp/loop_over_bdir-699717-u8pT6m/DBIx-Migration-Directories-0.12-0/blib/lib:/tmp/loop_over_bdir-699717-u8pT6m/ProjectBuilder-0.14.1-0/blib/arch:/tmp/loop_over_bdir-699717-u8pT6m/ProjectBuilder-0.14.1-0/blib/lib:/tmp/loop_over_bdir-699717-u8pT6m/Dpkg-1.21.9-0/blib/arch:/tmp/loop_over_bdir-699717-u8pT6m/Dpkg-1.21.9-0/blib/lib:/tmp/loop_over_bdir-699717-u8pT6m/triceps-2.1.0-0/blib/arch:/tmp/loop_over_bdir-699717-u8pT6m/triceps-2.1.0-0/blib/lib:/tmp/loop_over_bdir-699717-u8pT6m/CGI-Application-NetNewsIface-0.0204-0/blib/arch:/tmp/loop_over_bdir-699717-u8pT6m/CGI-Application-NetNewsIface-0.0204-0/blib/lib:/tmp/loop_over_bdir-699717-u8pT6m/Devel-Required-0.16-0/blib/arch:/tmp/loop_over_bdir-699717-u8pT6m/Devel-Required-0.16-0/blib/lib:/tmp/loop_over_bdir-699717-u8pT6m/NoZone-1.3-0/blib/arch:/tmp/loop_over_bdir-699717-u8pT6m/NoZone-1.3-0/blib/lib
PERL5OPT =
PERL5_CPANPLUS_IS_RUNNING = 699725
PERL5_CPAN_IS_RUNNING = 699725
PERL_CANARY_STABILITY_NOPROMPT = 1
PERL_MM_USE_DEFAULT = 1
PERL_USE_UNSAFE_INC = 1
SHELL = /usr/bin/zsh
TERM = screen
Perl special variables (and OS-specific diagnostics, for MSWin32):
$^X = /tmp/basesmoker-reloperl-kHob/bin/perl
$UID/$EUID = 1005 / 1005
$GID = 1005 1005
$EGID = 1005 1005
Perl module toolchain versions installed:
Module Have
------------------- --------
CPAN 2.34
CPAN::Meta 2.150010
Cwd 3.86
ExtUtils::CBuilder 0.280237
ExtUtils::Command 7.64
ExtUtils::Install 2.20
ExtUtils::MakeMaker 7.64
ExtUtils::Manifest 1.73
ExtUtils::ParseXS 3.46
File::Spec 3.87
JSON 4.10
JSON::PP 4.12
Module::Build 0.4231
Module::Signature 0.88
Parse::CPAN::Meta 2.150010
Test::Harness 3.44
Test::More 1.302191
YAML 1.30
YAML::Syck 1.34
version 0.9929
--
Summary of my perl5 (revision 5 version 37 subversion 4) configuration:
Commit id: f2582f5b18658f945a763f2edc110cdc7c5220e7
Platform:
osname=linux
osvers=5.4.0-125-generic
archname=x86_64-linux-thread-multi-ld
uname='linux k93focal 5.4.0-125-generic #141-ubuntu smp wed aug 10 13:42:03 utc 2022 x86_64 x86_64 x86_64 gnulinux '
config_args='-Dprefix=/home/sand/src/perl/repoperls/installed-perls/host/k93focal/v5.37.4/e463 -Dmyhostname=k93focal -Dinstallusrbinperl=n -Uversiononly -Dusedevel -des -Ui_db -Dlibswanted=cl pthread socket inet nsl gdbm dbm malloc dl ld sun m crypt sec util c cposix posix ucb BSD gdbm_compat -Duseithreads -Duselongdouble -DEBUGGING=both'
hint=recommended
useposix=true
d_sigaction=define
useithreads=define
usemultiplicity=define
use64bitint=define
use64bitall=define
uselongdouble=define
usemymalloc=n
default_inc_excludes_dot=define
Compiler:
cc='cc'
ccflags ='-D_REENTRANT -D_GNU_SOURCE -fwrapv -DDEBUGGING -fno-strict-aliasing -pipe -fstack-protector-strong -I/usr/local/include -D_LARGEFILE_SOURCE -D_FILE_OFFSET_BITS=64'
optimize='-O2 -g'
cppflags='-D_REENTRANT -D_GNU_SOURCE -fwrapv -DDEBUGGING -fno-strict-aliasing -pipe -fstack-protector-strong -I/usr/local/include'
ccversion=''
gccversion='9.4.0'
gccosandvers=''
intsize=4
longsize=8
ptrsize=8
doublesize=8
byteorder=12345678
doublekind=3
d_longlong=define
longlongsize=8
d_longdbl=define
longdblsize=16
longdblkind=3
ivtype='long'
ivsize=8
nvtype='long double'
nvsize=16
Off_t='off_t'
lseeksize=8
alignbytes=16
prototype=define
Linker and Libraries:
ld='cc'
ldflags =' -fstack-protector-strong -L/usr/local/lib'
libpth=/usr/local/lib /usr/lib/x86_64-linux-gnu /usr/lib /usr/lib64
libs=-lpthread -lnsl -ldl -lm -lcrypt -lutil -lc
perllibs=-lpthread -lnsl -ldl -lm -lcrypt -lutil -lc
libc=libc-2.31.so
so=so
useshrplib=false
libperl=libperl.a
gnulibc_version='2.31'
Dynamic Linking:
dlsrc=dl_dlopen.xs
dlext=so
d_dlsymun=undef
ccdlflags='-Wl,-E'
cccdlflags='-fPIC'
lddlflags='-shared -O2 -g -L/usr/local/lib -fstack-protector-strong'
Characteristics of this binary (from libperl):
Compile-time options:
DEBUGGING
HAS_TIMES
MULTIPLICITY
PERLIO_LAYERS
PERL_COPY_ON_WRITE
PERL_DONT_CREATE_GVSV
PERL_HASH_FUNC_SIPHASH13
PERL_HASH_USE_SBOX32
PERL_MALLOC_WRAP
PERL_OP_PARENT
PERL_PRESERVE_IVUV
PERL_TRACK_MEMPOOL
PERL_USE_DEVEL
PERL_USE_SAFE_PUTENV
USE_64_BIT_ALL
USE_64_BIT_INT
USE_ITHREADS
USE_LARGE_FILES
USE_LOCALE
USE_LOCALE_COLLATE
USE_LOCALE_CTYPE
USE_LOCALE_NUMERIC
USE_LOCALE_TIME
USE_LONG_DOUBLE
USE_PERLIO
USE_PERL_ATOF
USE_REENTRANT_API
USE_THREAD_SAFE_LOCALE
Built under linux
Compiled at Oct 10 2022 06:00:24
%ENV:
PERL="/tmp/basesmoker-reloperl-kHob/bin/perl"
PERL5LIB="/tmp/loop_over_bdir-699717-u8pT6m/DBIx-Migration-Directories-0.12-0/blib/arch:/tmp/loop_over_bdir-699717-u8pT6m/DBIx-Migration-Directories-0.12-0/blib/lib:/tmp/loop_over_bdir-699717-u8pT6m/ProjectBuilder-0.14.1-0/blib/arch:/tmp/loop_over_bdir-699717-u8pT6m/ProjectBuilder-0.14.1-0/blib/lib:/tmp/loop_over_bdir-699717-u8pT6m/Dpkg-1.21.9-0/blib/arch:/tmp/loop_over_bdir-699717-u8pT6m/Dpkg-1.21.9-0/blib/lib:/tmp/loop_over_bdir-699717-u8pT6m/triceps-2.1.0-0/blib/arch:/tmp/loop_over_bdir-699717-u8pT6m/triceps-2.1.0-0/blib/lib:/tmp/loop_over_bdir-699717-u8pT6m/CGI-Application-NetNewsIface-0.0204-0/blib/arch:/tmp/loop_over_bdir-699717-u8pT6m/CGI-Application-NetNewsIface-0.0204-0/blib/lib:/tmp/loop_over_bdir-699717-u8pT6m/Devel-Required-0.16-0/blib/arch:/tmp/loop_over_bdir-699717-u8pT6m/Devel-Required-0.16-0/blib/lib:/tmp/loop_over_bdir-699717-u8pT6m/NoZone-1.3-0/blib/arch:/tmp/loop_over_bdir-699717-u8pT6m/NoZone-1.3-0/blib/lib"
PERL5OPT=""
PERL5_CPANPLUS_IS_RUNNING="699725"
PERL5_CPAN_IS_RUNNING="699725"
PERL_CANARY_STABILITY_NOPROMPT="1"
PERL_MM_USE_DEFAULT="1"
PERL_USE_UNSAFE_INC="1"
@INC:
/tmp/loop_over_bdir-699717-u8pT6m/DBIx-Migration-Directories-0.12-0/blib/arch
/tmp/loop_over_bdir-699717-u8pT6m/DBIx-Migration-Directories-0.12-0/blib/lib
/tmp/loop_over_bdir-699717-u8pT6m/ProjectBuilder-0.14.1-0/blib/arch
/tmp/loop_over_bdir-699717-u8pT6m/ProjectBuilder-0.14.1-0/blib/lib
/tmp/loop_over_bdir-699717-u8pT6m/Dpkg-1.21.9-0/blib/arch
/tmp/loop_over_bdir-699717-u8pT6m/Dpkg-1.21.9-0/blib/lib
/tmp/loop_over_bdir-699717-u8pT6m/triceps-2.1.0-0/blib/arch
/tmp/loop_over_bdir-699717-u8pT6m/triceps-2.1.0-0/blib/lib
/tmp/loop_over_bdir-699717-u8pT6m/CGI-Application-NetNewsIface-0.0204-0/blib/arch
/tmp/loop_over_bdir-699717-u8pT6m/CGI-Application-NetNewsIface-0.0204-0/blib/lib
/tmp/loop_over_bdir-699717-u8pT6m/Devel-Required-0.16-0/blib/arch
/tmp/loop_over_bdir-699717-u8pT6m/Devel-Required-0.16-0/blib/lib
/tmp/loop_over_bdir-699717-u8pT6m/NoZone-1.3-0/blib/arch
/tmp/loop_over_bdir-699717-u8pT6m/NoZone-1.3-0/blib/lib
/home/sand/src/perl/repoperls/installed-perls/host/k93focal/v5.37.4/e463/lib/site_perl/5.37.4/x86_64-linux-thread-multi-ld
/home/sand/src/perl/repoperls/installed-perls/host/k93focal/v5.37.4/e463/lib/site_perl/5.37.4
/home/sand/src/perl/repoperls/installed-perls/host/k93focal/v5.37.4/e463/lib/5.37.4/x86_64-linux-thread-multi-ld
/home/sand/src/perl/repoperls/installed-perls/host/k93focal/v5.37.4/e463/lib/5.37.4
.