Report for WWW-Shorten-ptl-0.04

Back
From: metabase:user:e3434da8-b236-11df-85ca-0247c6d74bde
Subject: PASS WWW-Shorten-ptl-0.04 v5.8.9 GNU/Linux
Date: 2010-11-15T22:20:16Z

This distribution has been tested as part of the CPAN Testers
project, supporting the Perl programming language.  See
http://wiki.cpantesters.org/ for more information or email
questions to cpan-testers-discuss@perl.org


--
Dear KATOU Akira,

This is a computer-generated report for WWW-Shorten-ptl-0.04
on perl 5.8.9, created by CPAN-Reporter-1.1805.

Thank you for uploading your work to CPAN.  Congratulations!
All tests were successful.

Sections of this report:

    * Tester comments
    * Program output
    * Prerequisites
    * Environment and other context

------------------------------
TESTER COMMENTS
------------------------------

Additional comments from tester:

this report is from an automated smoke testing program
and was not reviewed by a human for accuracy

------------------------------
PROGRAM OUTPUT
------------------------------

Output from '/usr/bin/make test':

PERL_DL_NONLAZY=1 /home/ack/testing/perl-5.8.9/bin/perl "-MExtUtils::Command::MM" "-e" "test_harness(0, 'inc', 'blib/lib', 'blib/arch')" t/*.t
t/00_compile.t ... ok
no url passed at t/01_oo.t line 30
no url passed at t/01_oo.t line 31
no url passed at t/01_oo.t line 32
given url is not for p.tl : http://bit.ly/hogehoge at t/01_oo.t line 52
t/01_oo.t ........ ok
no apikey passed at t/02_function.t line 15
t/02_function.t .. ok
All tests successful.
Files=3, Tests=23,  3 wallclock secs ( 0.03 usr  0.01 sys +  0.31 cusr  0.07 csys =  0.42 CPU)
Result: PASS

------------------------------
PREREQUISITES
------------------------------

Prerequisite modules loaded:

requires:

    Module                Need Have
    --------------------- ---- ----
    Carp                  0    1.10
    Exporter              0    5.63
    ExtUtils::MakeMaker   6.42 6.48
    JSON::Any             0    1.24
    Test::Exception       0    0.31
    Test::More            0    0.96
    URI                   0    1.56
    WWW::Shorten::generic 0    1.92

configure_requires:

    Module                Need Have
    --------------------- ---- ----
    ExtUtils::MakeMaker   6.42 6.48


------------------------------
ENVIRONMENT AND OTHER CONTEXT
------------------------------

Environment variables:

    AUTOMATED_TESTING = 1
    LANG = en_US.utf8
    LC_COLLATE = C
    PATH = /home/ack/perl5/bin:/home/ack/bin:/home/ack/lisp/plt/bin:/usr/bin/mh:/home/ack/bin:/usr/local/bin:/usr/bin:/bin:/usr/local/games:/usr/games:/usr/games:/usr/lib/surfraw:/var/lib/gems/1.9.1/bin
    PERL5LIB = /home/ack/testing/perl-5.8.9/.cpan/build/JSON-Any-1.24-yin_Di/blib/arch:/home/ack/testing/perl-5.8.9/.cpan/build/JSON-Any-1.24-yin_Di/blib/lib:/home/ack/testing/perl-5.8.9/.cpan/build/WWW-Shorten-3.00-fnLtbX/blib/arch:/home/ack/testing/perl-5.8.9/.cpan/build/WWW-Shorten-3.00-fnLtbX/blib/lib
    PERL5OPT = 
    PERL5_CPANPLUS_IS_RUNNING = 21308
    PERL5_CPAN_IS_RUNNING = 21308
    PERL5_MINISMOKEBOX = 0.30
    PERL_EXTUTILS_AUTOINSTALL = --defaultdeps
    PERL_MM_USE_DEFAULT = 1
    SHELL = /bin/bash
    TERM = screen-bce

Perl special variables (and OS-specific diagnostics, for MSWin32):

    $^X = /home/ack/testing/perl-5.8.9/bin/perl
    $UID/$EUID = 1000 / 1000
    $GID = 1000 20 24 25 29 30 44 46 100 102 106 112 114 1000
    $EGID = 1000 20 24 25 29 30 44 46 100 102 106 112 114 1000

Perl module toolchain versions installed:

    Module              Have   
    ------------------- -------
    CPAN                1.9402 
    Cwd                 3.29   
    ExtUtils::CBuilder  0.2703 
    ExtUtils::Command   1.15   
    ExtUtils::Install   1.50_01
    ExtUtils::MakeMaker 6.48   
    ExtUtils::Manifest  1.55   
    ExtUtils::ParseXS   2.2206 
    File::Spec          3.29   
    Module::Build       0.3607 
    Module::Signature   n/a    
    Test::Harness       3.22   
    Test::More          0.96   
    YAML                0.72   
    YAML::Syck          1.15   
    version             n/a    


--

Summary of my perl5 (revision 5 version 8 subversion 9) configuration:
  Platform:
    osname=linux, osvers=2.6.34-0.slh.9-sidux-amd64, archname=x86_64-linux
    uname='linux verona 2.6.34-0.slh.9-sidux-amd64 #1 smp preempt sat jun 12 23:27:41 utc 2010 x86_64 gnulinux '
    config_args='-D prefix=/home/ack/testing/perl-5.8.9'
    hint=recommended, useposix=true, d_sigaction=define
    usethreads=undef use5005threads=undef useithreads=undef usemultiplicity=undef
    useperlio=define d_sfio=undef uselargefiles=define usesocks=undef
    use64bitint=define use64bitall=define uselongdouble=undef
    usemymalloc=n, bincompat5005=undef
  Compiler:
    cc='cc', ccflags ='-fno-strict-aliasing -pipe -I/usr/local/include -D_LARGEFILE_SOURCE -D_FILE_OFFSET_BITS=64',
    optimize='-O2',
    cppflags='-fno-strict-aliasing -pipe -I/usr/local/include'
    ccversion='', gccversion='4.4.5 20100909 (prerelease)', gccosandvers=''
    intsize=4, longsize=8, ptrsize=8, doublesize=8, byteorder=12345678
    d_longlong=define, longlongsize=8, d_longdbl=define, longdblsize=16
    ivtype='long', ivsize=8, nvtype='double', nvsize=8, Off_t='off_t', lseeksize=8
    alignbytes=8, prototype=define
  Linker and Libraries:
    ld='cc', ldflags =' -L/usr/local/lib'
    libpth=/usr/local/lib /lib /usr/lib /lib64 /usr/lib64
    libs=-lnsl -lgdbm -ldb -ldl -lm -lcrypt -lutil -lc
    perllibs=-lnsl -ldl -lm -lcrypt -lutil -lc
    libc=/lib/libc-2.11.1.so, so=so, useshrplib=false, libperl=libperl.a
    gnulibc_version='2.11.1'
  Dynamic Linking:
    dlsrc=dl_dlopen.xs, dlext=so, d_dlsymun=undef, ccdlflags='-Wl,-E'
    cccdlflags='-fPIC', lddlflags='-shared -O2 -L/usr/local/lib'


Characteristics of this binary (from libperl): 
  Compile-time options: PERL_MALLOC_WRAP USE_64_BIT_ALL USE_64_BIT_INT
                        USE_FAST_STDIO USE_LARGE_FILES USE_PERLIO
  Built under linux
  Compiled at Oct 25 2010 22:59:01
  %ENV:
    PERL5LIB="/home/ack/testing/perl-5.8.9/.cpan/build/JSON-Any-1.24-yin_Di/blib/arch:/home/ack/testing/perl-5.8.9/.cpan/build/JSON-Any-1.24-yin_Di/blib/lib:/home/ack/testing/perl-5.8.9/.cpan/build/WWW-Shorten-3.00-fnLtbX/blib/arch:/home/ack/testing/perl-5.8.9/.cpan/build/WWW-Shorten-3.00-fnLtbX/blib/lib"
    PERL5OPT=""
    PERL5_CPANPLUS_IS_RUNNING="21308"
    PERL5_CPAN_IS_RUNNING="21308"
    PERL5_MINISMOKEBOX="0.30"
    PERL_EXTUTILS_AUTOINSTALL="--defaultdeps"
    PERL_MM_USE_DEFAULT="1"
  @INC:
    /home/ack/testing/perl-5.8.9/.cpan/build/JSON-Any-1.24-yin_Di/blib/arch
    /home/ack/testing/perl-5.8.9/.cpan/build/JSON-Any-1.24-yin_Di/blib/lib
    /home/ack/testing/perl-5.8.9/.cpan/build/WWW-Shorten-3.00-fnLtbX/blib/arch
    /home/ack/testing/perl-5.8.9/.cpan/build/WWW-Shorten-3.00-fnLtbX/blib/lib
    /home/ack/testing/perl-5.8.9/lib/5.8.9/x86_64-linux
    /home/ack/testing/perl-5.8.9/lib/5.8.9
    /home/ack/testing/perl-5.8.9/lib/site_perl/5.8.9/x86_64-linux
    /home/ack/testing/perl-5.8.9/lib/site_perl/5.8.9
    .