Text-Template-Simple v0.91 Perl 5 v5.38.0 amd64-freebsd
- Status
- Pass
- From
- Slaven Rezić
- Dist
-
Text-Template-Simple v0.91
- Platform
- Perl 5 v5.38.0 amd64-freebsd
- Date
- 2023-09-19 23:59:09
- ID
- 85f7d4fa-5748-11ee-a1cd-542c6e8775ea
This distribution has been tested as part of the CPAN Testers
project, supporting the Perl programming language. See
http://wiki.cpantesters.org/ for more information or email
questions to cpan-testers-discuss@perl.org
--
Dear Burak Gursoy,
This is a computer-generated report for Text-Template-Simple-0.91
on perl 5.38.0, created by CPAN-Reporter-1.2019.
Thank you for uploading your work to CPAN. Congratulations!
All tests were successful.
Sections of this report:
* Tester comments
* Program output
* Prerequisites
* Environment and other context
------------------------------
TESTER COMMENTS
------------------------------
Additional comments from tester:
none provided
------------------------------
PROGRAM OUTPUT
------------------------------
Output from '/usr/bin/make test':
PERL_DL_NONLAZY=1 "/usr/perl5.38.0p/bin/perl" "-MExtUtils::Command::MM" "-MTest::Harness" "-e" "undef *Test::Harness::Switches; test_harness(0, 'blib/lib', 'blib/arch')" t/*.t
t/00-compile.t ....................... ok
#
# Versions for all modules listed in MYMETA.json (including optional ones):
#
# === Configure Requires ===
#
# Module Want Have
# ------------------- ---- ----
# ExtUtils::MakeMaker any 7.70
#
# === Build Requires ===
#
# Module Want Have
# ------------------- ---- ----
# ExtUtils::MakeMaker any 7.70
#
# === Test Requires ===
#
# Module Want Have
# ------------------- ---- --------
# ExtUtils::MakeMaker any 7.70
# File::Spec any 3.88
# IO::Handle any 1.52
# IPC::Open3 any 1.22
# Test::More any 1.302194
#
# === Test Recommends ===
#
# Module Want Have
# ---------- -------- --------
# CPAN::Meta 2.120900 2.150010
#
# === Runtime Requires ===
#
# Module Want Have
# ----------- ---- -------
# Digest::MD5 1 2.58_01
#
# === Runtime Recommends ===
#
# Module Want Have
# ----------- ----- --------
# Devel::Size 0.77 0.83
# Perl::Tidy any 20230912
# Text::Table 1.107 missing
#
t/00-report-prereqs.t ................ ok
t/003-simple.t ....................... ok
t/004-extend.t ....................... ok
t/005-safe.t ......................... ok
t/006-iolayer.t ...................... ok
t/007-stack.t ........................ ok
t/008-escape-delim.t ................. ok
t/009-subclass.t ..................... ok
t/010-subclass-define-bufvar.t ....... ok
t/011-cache-mem.t .................... ok
t/012-cache-disk.t ................... ok
t/013-cache-other.t .................. ok
t/015-connector.t .................... ok
t/016-include-static.t ............... ok
t/017-include-dynamic.t .............. ok
t/018-include-dynamic-recursive.t .... ok
t/019-dynamic-static-interpolate.t ... ok
t/020-fake-include-recursive.t ....... ok
t/021-comment.t ...................... ok
t/022-monolith.t ..................... ok
t/023-change-delims.t ................ ok
t/024-include-paths.t ................ ok
t/025-chomp.t ........................ ok
t/026-template-name-dollar-zero.t .... ok
t/027-include-param.t ................ ok
t/028-include-filter.t ............... ok
t/029-block-filter.t ................. ok
t/030-toke-substr.t .................. ok
t/031-capture-warnings.t ............. ok
t/032-empty-includes.t ............... ok
t/033-dynamic-include-shared-vars.t .. ok
t/author-pod-coverage.t .............. skipped: these tests are for testing by the author
t/author-pod-syntax.t ................ skipped: these tests are for testing by the author
t/release-distmeta.t ................. skipped: these tests are for release candidate testing
All tests successful.
Files=35, Tests=342, 4 wallclock secs ( 0.10 usr 0.07 sys + 3.06 cusr 0.48 csys = 3.72 CPU)
Result: PASS
------------------------------
PREREQUISITES
------------------------------
Prerequisite modules loaded:
requires:
Module Need Have
------------------- ----- --------
Digest::MD5 1 2.58_01
perl 5.010 5.038000
build_requires:
Module Need Have
------------------- ----- --------
ExtUtils::MakeMaker 0 7.70
File::Spec 0 3.88
IO::Handle 0 1.52
IPC::Open3 0 1.22
Test::More 0 1.302194
configure_requires:
Module Need Have
------------------- ----- --------
ExtUtils::MakeMaker 0 7.70
------------------------------
ENVIRONMENT AND OTHER CONTEXT
------------------------------
Environment variables:
LANG = C.UTF-8
PATH = /usr/local/bin:/usr/bin:/bin:/usr/local/sbin:/usr/sbin:/sbin:/home/cpansand/bin/sh:/home/cpansand/bin:/usr/games:/home/cpansand/devel:/usr/home/eserte/src/srezic-misc/scripts
PERL5LIB =
PERL5OPT =
PERL5_CPANPLUS_IS_RUNNING = 99557
PERL5_CPAN_IS_RUNNING = 99557
PERL5_CPAN_IS_RUNNING_IN_RECURSION = 84925,99557
PERL_BATCH = yes
PERL_CANARY_STABILITY_NOPROMPT = 1
PERL_CPAN_REPORTER_CONFIG = /var/tmp/cpansmoker-1023/2023091921/cpanreporter_000_config.ini
PERL_EXTUTILS_AUTOINSTALL = --defaultdeps
PERL_USE_UNSAFE_INC = 1
SHELL = /bin/sh
TMPDIR = /var/tmp/cpansmoker-1023/2023091921
Perl special variables (and OS-specific diagnostics, for MSWin32):
$^X = /usr/perl5.38.0p/bin/perl
$UID/$EUID = 1023 / 1023
$GID = 1023 1023
$EGID = 1023 1023
Perl module toolchain versions installed:
Module Have
------------------- --------
CPAN 2.36
CPAN::Meta 2.150010
Cwd 3.89
ExtUtils::CBuilder 0.280238
ExtUtils::Command 7.70
ExtUtils::Install 2.22
ExtUtils::MakeMaker 7.70
ExtUtils::Manifest 1.73
ExtUtils::ParseXS 3.51
File::Spec 3.88
JSON 4.10
JSON::PP 4.16
Module::Build 0.4234
Module::Signature n/a
Parse::CPAN::Meta 2.150010
Test2 1.302194
Test::Harness 3.44
Test::More 1.302194
YAML 1.30
YAML::Syck 1.34
version 0.9929
--
Summary of my perl5 (revision 5 version 38 subversion 0) configuration:
Platform:
osname=freebsd
osvers=15.0-current
archname=amd64-freebsd
uname='freebsd cloud2.bbbike.org 15.0-current freebsd 15.0-current #5 main-03bfee1752: fri sep 15 12:34:26 utc 2023 root@cloud2.bbbike.org:usrobjusrhomeprojectsfreebsd-srcamd64.amd64sysgeneric amd64 '
config_args='-ds -e -Dprefix=/usr/perl5.38.0p -Dcf_email=srezic@cpan.org -Doptimize=-O2 -pipe'
hint=recommended
useposix=true
d_sigaction=define
useithreads=undef
usemultiplicity=undef
use64bitint=define
use64bitall=define
uselongdouble=undef
usemymalloc=n
default_inc_excludes_dot=define
Compiler:
cc='cc'
ccflags ='-DHAS_FPSETMASK -DHAS_FLOATINGPOINT_H -fno-strict-aliasing -pipe -fstack-protector-strong -I/usr/local/include'
optimize='-O2 -pipe'
cppflags='-DHAS_FPSETMASK -DHAS_FLOATINGPOINT_H -fno-strict-aliasing -pipe -fstack-protector-strong -I/usr/local/include'
ccversion=''
gccversion='FreeBSD Clang 16.0.6 (https://github.com/llvm/llvm-project.git llvmorg-16.0.6-0-g7cbf1a259152)'
gccosandvers=''
intsize=4
longsize=8
ptrsize=8
doublesize=8
byteorder=12345678
doublekind=3
d_longlong=define
longlongsize=8
d_longdbl=define
longdblsize=16
longdblkind=3
ivtype='long'
ivsize=8
nvtype='double'
nvsize=8
Off_t='off_t'
lseeksize=8
alignbytes=8
prototype=define
Linker and Libraries:
ld='cc'
ldflags ='-pthread -Wl,-E -fstack-protector-strong -L/usr/local/lib'
libpth=/usr/lib /usr/local/lib /usr/lib/clang/16/lib
libs=-lpthread -ldl -lm -lcrypt -lutil -lc
perllibs=-lpthread -ldl -lm -lcrypt -lutil -lc
libc=
so=so
useshrplib=false
libperl=libperl.a
gnulibc_version=''
Dynamic Linking:
dlsrc=dl_dlopen.xs
dlext=so
d_dlsymun=undef
ccdlflags=' '
cccdlflags='-DPIC -fPIC'
lddlflags='-shared -L/usr/local/lib -fstack-protector-strong'
Characteristics of this binary (from libperl):
Compile-time options:
HAS_LONG_DOUBLE
HAS_STRTOLD
HAS_TIMES
PERLIO_LAYERS
PERL_COPY_ON_WRITE
PERL_DONT_CREATE_GVSV
PERL_HASH_FUNC_SIPHASH13
PERL_HASH_USE_SBOX32
PERL_MALLOC_WRAP
PERL_OP_PARENT
PERL_PRESERVE_IVUV
PERL_USE_SAFE_PUTENV
USE_64_BIT_ALL
USE_64_BIT_INT
USE_LARGE_FILES
USE_LOCALE
USE_LOCALE_COLLATE
USE_LOCALE_CTYPE
USE_LOCALE_NUMERIC
USE_LOCALE_TIME
USE_PERLIO
USE_PERL_ATOF
Built under freebsd
Compiled at Sep 19 2023 21:12:08
%ENV:
PERL5LIB=""
PERL5OPT=""
PERL5_CPANPLUS_IS_RUNNING="99557"
PERL5_CPAN_IS_RUNNING="99557"
PERL5_CPAN_IS_RUNNING_IN_RECURSION="84925,99557"
PERL_BATCH="yes"
PERL_CANARY_STABILITY_NOPROMPT="1"
PERL_CPAN_REPORTER_CONFIG="/var/tmp/cpansmoker-1023/2023091921/cpanreporter_000_config.ini"
PERL_EXTUTILS_AUTOINSTALL="--defaultdeps"
PERL_USE_UNSAFE_INC="1"
@INC:
/usr/perl5.38.0p/lib/site_perl/5.38.0/amd64-freebsd
/usr/perl5.38.0p/lib/site_perl/5.38.0
/usr/perl5.38.0p/lib/5.38.0/amd64-freebsd
/usr/perl5.38.0p/lib/5.38.0
.