Report for Search-Elasticsearch-Client-0_90-Async-5.01

Back
From: metabase:user:314402c4-2aae-11df-837a-5e0a49663a4f
Subject: PASS Search-Elasticsearch-Client-0_90-Async-5.01 v5.8.9 GNU/Linux
Date: 2016-10-29T00:20:40Z

This distribution has been tested as part of the CPAN Testers
project, supporting the Perl programming language.  See
http://wiki.cpantesters.org/ for more information or email
questions to cpan-testers-discuss@perl.org


--
Dear Clinton Gormley,

This is a computer-generated report for Search-Elasticsearch-Client-0_90-Async-5.01
on perl 5.8.9, created by CPAN-Reporter-1.2018.

Thank you for uploading your work to CPAN.  Congratulations!
All tests were successful.

Sections of this report:

    * Tester comments
    * Program output
    * Prerequisites
    * Environment and other context

------------------------------
TESTER COMMENTS
------------------------------

Additional comments from tester:

none provided

------------------------------
PROGRAM OUTPUT
------------------------------

Output from '/usr/bin/make test':

PERL_DL_NONLAZY=1 "/bbbike/perl-5.8.9/bin/perl5.8.9" "-MExtUtils::Command::MM" "-MTest::Harness" "-e" "undef *Test::Harness::Switches; test_harness(0, 'blib/lib', 'blib/arch')" t/*.t t/Client_0_90_Async/*.t
t/author-eol.t ............................ skipped: these tests are for testing by the author
t/author-no-tabs.t ........................ skipped: these tests are for testing by the author
t/author-pod-syntax.t ..................... skipped: these tests are for testing by the author
t/Client_0_90_Async/00_print_version.t .... skipped: No Elasticsearch test node available
t/Client_0_90_Async/10_live.t ............. skipped: No Elasticsearch test node available
t/Client_0_90_Async/15_conflict.t ......... skipped: No Elasticsearch test node available
t/Client_0_90_Async/20_fork_aehttp.t ...... skipped: No Elasticsearch test node available
t/Client_0_90_Async/21_fork_mojo.t ........ skipped: Mojo::UserAgent not installed
t/Client_0_90_Async/30_bulk_add_action.t .. skipped: No Elasticsearch test node available
t/Client_0_90_Async/31_bulk_helpers.t ..... skipped: No Elasticsearch test node available
t/Client_0_90_Async/32_bulk_flush.t ....... skipped: No Elasticsearch test node available
t/Client_0_90_Async/33_bulk_errors.t ...... skipped: No Elasticsearch test node available
t/Client_0_90_Async/34_bulk_cxn_errors.t .. ok
t/Client_0_90_Async/40_scroll.t ........... skipped: No Elasticsearch test node available
t/Client_0_90_Async/50_reindex.t .......... skipped: No Elasticsearch test node available
t/Client_0_90_Async/60_auth_aehttp.t ...... skipped: AEHTTP - No https server specified in ES_SSL
t/Client_0_90_Async/61_auth_mojo.t ........ skipped: Mojo - No https server specified in ES_SSL
All tests successful.
Files=17, Tests=3,  3 wallclock secs ( 0.04 usr  0.07 sys +  0.82 cusr  0.28 csys =  1.21 CPU)
Result: PASS

------------------------------
PREREQUISITES
------------------------------

Prerequisite modules loaded:

requires:

    Module                                            Need Have    
    ------------------------------------------------- ---- --------
    Moo                                               0    2.002004
    namespace::clean                                  0    0.26    
    Promises                                          0    0.94    
    Scalar::Util                                      0    1.45    
    Search::Elasticsearch::Async::Util                0    5.00    
    Search::Elasticsearch::Client::0_90               5.00 5.01    
    Search::Elasticsearch::Client::0_90::Role::Bulk   0    5.01    
    Search::Elasticsearch::Client::0_90::Role::Scroll 0    5.01    
    Search::Elasticsearch::Role::Is_Async             0    5.00    
    Search::Elasticsearch::Util                       0    5.01    
    Try::Tiny                                         0    0.27    

build_requires:

    Module                                            Need Have    
    ------------------------------------------------- ---- --------
    AE                                                0    7.12    
    Data::Dumper                                      0    2.161   
    EV                                                0    4.22    
    ExtUtils::MakeMaker                               0    7.24    
    lib                                               0    0.61    
    Log::Any::Adapter                                 0    1.042   
    Log::Any::Adapter::Callback                       0.09 0.09    
  ! Mojo::UserAgent                                   0    n/a     
    POSIX                                             0    1.15    
    Search::Elasticsearch                             0    5.01    
    Search::Elasticsearch::Async                      0    5.00    
    Search::Elasticsearch::Role::Cxn                  0    5.01    
    Search::Elasticsearch::Role::Cxn::Async           0    5.00    
    Search::Elasticsearch::Transport::Async           0    5.00    
    strict                                            0    1.03    
    Sub::Exporter                                     0    0.987   
    Test::Deep                                        0    1.120   
    Test::Exception                                   0    0.43    
    Test::More                                        0.98 1.302059
    warnings                                          0    1.05_01 

configure_requires:

    Module                                            Need Have    
    ------------------------------------------------- ---- --------
    ExtUtils::MakeMaker                               0    7.24    


------------------------------
ENVIRONMENT AND OTHER CONTEXT
------------------------------

Environment variables:

    LANG = C
    LC_ALL = de_DE.UTF-8
    PATH = /usr/local/bin:/usr/bin:/bin:/usr/local/sbin:/usr/sbin:/sbin:/home/cpansand/bin/linux-gnu:/home/cpansand/bin/sh:/home/cpansand/bin:/usr/games:/home/cpansand/devel:/home/eserte/src/srezic-misc/scripts
    PERL5LIB = 
    PERL5OPT = 
    PERL5_CPANPLUS_IS_RUNNING = 26266
    PERL5_CPAN_IS_RUNNING = 26266
    PERL5_CPAN_IS_RUNNING_IN_RECURSION = 27105,26266
    PERLDOC = -MPod::Perldoc::ToTextOverstrike
    PERL_BATCH = yes
    PERL_CANARY_STABILITY_NOPROMPT = 1
    PERL_CPAN_REPORTER_CONFIG = /run/user/1023/cpansmoker/2016102900/cpanreporter_000_config.ini
    PERL_EXTUTILS_AUTOINSTALL = --defaultdeps
    PERL_PARALLEL_SMOKER = yes
    PERL_USE_UNSAFE_INC = 1
    SHELL = /bin/zsh
    TERM = screen
    TMPDIR = /run/user/1023/cpansmoker/2016102900

Perl special variables (and OS-specific diagnostics, for MSWin32):

    $^X = /bbbike/perl-5.8.9/bin/perl5.8.9
    $UID/$EUID = 1023 / 1023
    $GID = 1023 1023
    $EGID = 1023 1023

Perl module toolchain versions installed:

    Module              Have    
    ------------------- --------
    CPAN                2.14    
    CPAN::Meta          2.150010
    Cwd                 3.62    
    ExtUtils::CBuilder  0.280224
    ExtUtils::Command   7.24    
    ExtUtils::Install   1.54    
    ExtUtils::MakeMaker 7.24    
    ExtUtils::Manifest  1.70    
    ExtUtils::ParseXS   3.30    
    File::Spec          3.62    
    JSON                2.90    
    JSON::PP            2.27400 
    Module::Build       0.4220  
    Module::Signature   0.80    
    Parse::CPAN::Meta   2.150010
    Test::Harness       3.36    
    Test::More          1.302059
    YAML                1.15    
    YAML::Syck          1.29    
    version             0.9916  


--

Summary of my perl5 (revision 5 version 8 subversion 9) configuration:
  Platform:
    osname=linux, osvers=3.16.0-4-amd64, archname=x86_64-linux
    uname='linux eserte 3.16.0-4-amd64 #1 smp debian 3.16.7-ckt25-2 (2016-04-08) x86_64 gnulinux '
    config_args='-ds -e -Dprefix=/opt/perl-5.8.9 -Dcf_email=srezic@cpan.org'
    hint=recommended, useposix=true, d_sigaction=define
    usethreads=undef use5005threads=undef useithreads=undef usemultiplicity=undef
    useperlio=define d_sfio=undef uselargefiles=define usesocks=undef
    use64bitint=define use64bitall=define uselongdouble=undef
    usemymalloc=n, bincompat5005=undef
  Compiler:
    cc='cc', ccflags ='-fno-strict-aliasing -pipe -I/usr/local/include -D_LARGEFILE_SOURCE -D_FILE_OFFSET_BITS=64',
    optimize='-O2',
    cppflags='-fno-strict-aliasing -pipe -I/usr/local/include'
    ccversion='', gccversion='4.9.2', gccosandvers=''
    intsize=4, longsize=8, ptrsize=8, doublesize=8, byteorder=12345678
    d_longlong=define, longlongsize=8, d_longdbl=define, longdblsize=16
    ivtype='long', ivsize=8, nvtype='double', nvsize=8, Off_t='off_t', lseeksize=8
    alignbytes=8, prototype=define
  Linker and Libraries:
    ld='cc', ldflags =' -L/usr/local/lib'
    libpth=/usr/local/lib /lib/x86_64-linux-gnu /lib/../lib /usr/lib/x86_64-linux-gnu /usr/lib/../lib /lib /usr/lib
    libs=-lnsl -ldl -lm -lcrypt -lutil -lc
    perllibs=-lnsl -ldl -lm -lcrypt -lutil -lc
    libc=libc-2.19.so, so=so, useshrplib=false, libperl=libperl.a
    gnulibc_version='2.19'
  Dynamic Linking:
    dlsrc=dl_dlopen.xs, dlext=so, d_dlsymun=undef, ccdlflags='-Wl,-E'
    cccdlflags='-fPIC', lddlflags='-shared -O2 -L/usr/local/lib'


Characteristics of this binary (from libperl): 
  Compile-time options: PERL_MALLOC_WRAP USE_64_BIT_ALL USE_64_BIT_INT
                        USE_FAST_STDIO USE_LARGE_FILES USE_PERLIO
  Locally applied patches:
	Devel::PatchPerl 1.42
  Built under linux
  Compiled at May  7 2016 09:05:30
  %ENV:
    PERL5LIB=""
    PERL5OPT=""
    PERL5_CPANPLUS_IS_RUNNING="26266"
    PERL5_CPAN_IS_RUNNING="26266"
    PERL5_CPAN_IS_RUNNING_IN_RECURSION="27105,26266"
    PERLDOC="-MPod::Perldoc::ToTextOverstrike"
    PERL_BATCH="yes"
    PERL_CANARY_STABILITY_NOPROMPT="1"
    PERL_CPAN_REPORTER_CONFIG="/run/user/1023/cpansmoker/2016102900/cpanreporter_000_config.ini"
    PERL_EXTUTILS_AUTOINSTALL="--defaultdeps"
    PERL_PARALLEL_SMOKER="yes"
    PERL_USE_UNSAFE_INC="1"
  @INC:
    /opt/perl-5.8.9/lib/5.8.9/x86_64-linux
    /opt/perl-5.8.9/lib/5.8.9
    /opt/perl-5.8.9/lib/site_perl/5.8.9/x86_64-linux
    /opt/perl-5.8.9/lib/site_perl/5.8.9
    .