Back
From: metabase:user:30977d10-2aae-11df-837a-5e0a49663a4f
Subject: PASS SOAP-WSDL-2.00.99_3 v5.15.1 GNU/Linux
Date: 2011-07-27T16:36:06Z
This distribution has been tested as part of the CPAN Testers
project, supporting the Perl programming language. See
http://wiki.cpantesters.org/ for more information or email
questions to cpan-testers-discuss@perl.org
--
Dear Martin Kutter,
This is a computer-generated report for SOAP-WSDL-2.00.99_3
on perl 5.15.1, created by CPAN-Reporter-1.19_04.
Thank you for uploading your work to CPAN. Congratulations!
All tests were successful.
Sections of this report:
* Tester comments
* Program output
* Prerequisites
* Environment and other context
------------------------------
TESTER COMMENTS
------------------------------
Additional comments from tester:
this report is from an automated smoke testing program
and was not reviewed by a human for accuracy
------------------------------
PROGRAM OUTPUT
------------------------------
Output from '/usr/bin/make test':
/home/trushel/perl/perl5151/bin/perl Build --makefile_env_macros 1 test
t/002_parse_wsdl.t ....................................... ok
t/003_wsdl_based_serializer.t ............................ ok
t/011_simpleType.t ....................................... ok
t/012_element.t .......................................... ok
t/013_complexType.t ...................................... ok
t/016_client_object.t .................................... ok
t/094_cpan_meta.t ........................................ skipped: Author test. Set $ENV{RELEASE_TESTING} to a true value to run.
t/095_copying.t .......................................... skipped: Author test. Set $ENV{RELEASE_TESTING} to a true value to run.
t/096_characters.t ....................................... skipped: Author test. Set $ENV{RELEASE_TESTING} to a true value to run.
t/097_kwalitee.t ......................................... skipped: Author test. Set $ENV{RELEASE_TESTING} to a true value to run.
t/098_pod.t .............................................. ok
t/099_pod_coverage.t ..................................... skipped: Author test. Set $ENV{RELEASE_TESTING} to a true value to run.
t/SOAP/WSDL/Base.t ....................................... ok
t/SOAP/WSDL/Client.t ..................................... ok
t/SOAP/WSDL/Client/Base.t ................................ ok
t/SOAP/WSDL/Definitions.t ................................ ok
t/SOAP/WSDL/Deserializer/Hash.t .......................... ok
t/SOAP/WSDL/Deserializer/SOM.t ........................... skipped: SOAP::Lite not available
t/SOAP/WSDL/Deserializer/XSD.t ........................... ok
t/SOAP/WSDL/Expat/Base.t ................................. ok
t/SOAP/WSDL/Expat/MessageParser.t ........................ ok
file:///home/trushel/cpan/build/5.15.1/SOAP-WSDL-2.00.99_3-v9UtO7/t/acceptance/wsdl/WSDLParser-imported.wsdl already imported; ignoring it.
t/SOAP/WSDL/Expat/WSDLParser.t ........................... ok
t/SOAP/WSDL/Factory/Deserializer.t ....................... ok
t/SOAP/WSDL/Factory/Serializer.t ......................... ok
t/SOAP/WSDL/Factory/Transport.t .......................... ok
t/SOAP/WSDL/Generator/Template.t ......................... ok
t/SOAP/WSDL/Generator/Template/XSD/Import.t .............. ok
t/SOAP/WSDL/Generator/Template/XSD/MultipleNamespaces.t .. ok
t/SOAP/WSDL/Generator/Template/XSD/Unqualified.t ......... ok
t/SOAP/WSDL/Generator/Visitor.t .......................... ok
t/SOAP/WSDL/Generator/Visitor/Typemap.t .................. ok
Multiple parts detected in message testMultiPartWarning.
WS-I BP demands 0 to 1 parts in message body
Multiple parts detected in message testMultiPartWarning.
WS-I BP demands 0 to 1 parts in message body
t/SOAP/WSDL/Generator/XSD.t .............................. ok
Multiple parts detected in message testMultiPartWarning.
WS-I BP demands 0 to 1 parts in message body
Multiple parts detected in message testMultiPartWarning.
WS-I BP demands 0 to 1 parts in message body
t/SOAP/WSDL/Generator/XSD_custom_resolver.t .............. ok
Multiple parts detected in message testMultiPartWarning.
WS-I BP demands 0 to 1 parts in message body
Multiple parts detected in message testMultiPartWarning.
WS-I BP demands 0 to 1 parts in message body
t/SOAP/WSDL/Generator/XSD_dot_names.t .................... ok
t/SOAP/WSDL/Generator/XSD_nested_complextype.t ........... ok
Creating complexType class SCALAR(0x12e8220)
Creating element class SCALAR(0x12e8220)
Creating element class SCALAR(0x12e8220)
Creating element class SCALAR(0x12e8220)
Creating element class SCALAR(0x12e8220)
t/SOAP/WSDL/Generator/XSD_recursive.t .................... ok
t/SOAP/WSDL/Generator/XSD_unsupported.t .................. ok
t/SOAP/WSDL/Part.t ....................................... ok
t/SOAP/WSDL/PortType.t ................................... ok
t/SOAP/WSDL/SOAP/Typelib/Fault11.t ....................... ok
t/SOAP/WSDL/Serializer/XSD.t ............................. ok
t/SOAP/WSDL/Server.t ..................................... ok
t/SOAP/WSDL/Server/CGI.t ................................. ok
t/SOAP/WSDL/Server/Mod_Perl2.t ........................... ok
HTTP/1.0 500 Internal Server Error
Content-Type: text/xml; charset="utf-8"
<SOAP-ENV:Envelope xmlns:xs="http://www.w3.org/2001/XMLSchema" xmlns:xsi="http://www.w3.org/2001/XMLSchema-instance" xmlns:SOAP-ENV="http://schemas.xmlsoap.org/soap/envelope/" ><SOAP-ENV:Body><Fault xmlns="http://schemas.xmlsoap.org/soap/envelope/"><faultcode>SOAP-ENV:Server</faultcode><faultstring>No handler registered</faultstring><faultactor>urn:localhost</faultactor></Fault></SOAP-ENV:Body></SOAP-ENV:Envelope>
Subroutine SOAP::WSDL::Server::Simple::_output redefined at t/SOAP/WSDL/Server/Simple.t line 52.
Subroutine SOAP::WSDL::Server::Simple::_output redefined at t/SOAP/WSDL/Server/Simple.t line 80.
Subroutine SOAP::WSDL::Server::handle redefined at t/SOAP/WSDL/Server/Simple.t line 85.
Subroutine SOAP::WSDL::Server::Simple::_output redefined at t/SOAP/WSDL/Server/Simple.t line 108.
Subroutine SOAP::WSDL::Server::handle redefined at t/SOAP/WSDL/Server/Simple.t line 113.
t/SOAP/WSDL/Server/Simple.t .............................. ok
t/SOAP/WSDL/Transport/01_Test.t .......................... ok
t/SOAP/WSDL/Transport/HTTP.t ............................. ok
t/SOAP/WSDL/Typelib/Fault11.t ............................ ok
t/SOAP/WSDL/Types.t ...................................... ok
t/SOAP/WSDL/XSD/Attribute.t .............................. ok
t/SOAP/WSDL/XSD/AttributeGroup.t ......................... ok
t/SOAP/WSDL/XSD/Builtin.t ................................ ok
t/SOAP/WSDL/XSD/ComplexType.t ............................ ok
t/SOAP/WSDL/XSD/Element.t ................................ ok
t/SOAP/WSDL/XSD/Enumeration.t ............................ ok
t/SOAP/WSDL/XSD/Schema.t ................................. ok
t/SOAP/WSDL/XSD/SimpleType.t ............................. ok
t/SOAP/WSDL/XSD/Typelib/Attribute.t ...................... ok
t/SOAP/WSDL/XSD/Typelib/Builtin/ENTITY.t ................. ok
t/SOAP/WSDL/XSD/Typelib/Builtin/ID.t ..................... ok
t/SOAP/WSDL/XSD/Typelib/Builtin/IDREF.t .................. ok
t/SOAP/WSDL/XSD/Typelib/Builtin/IDREFS.t ................. ok
t/SOAP/WSDL/XSD/Typelib/Builtin/NCName.t ................. ok
t/SOAP/WSDL/XSD/Typelib/Builtin/NMTOKEN.t ................ ok
t/SOAP/WSDL/XSD/Typelib/Builtin/NMTOKENS.t ............... ok
t/SOAP/WSDL/XSD/Typelib/Builtin/NOTATION.t ............... ok
t/SOAP/WSDL/XSD/Typelib/Builtin/Name.t ................... ok
t/SOAP/WSDL/XSD/Typelib/Builtin/QName.t .................. ok
t/SOAP/WSDL/XSD/Typelib/Builtin/anySimpleType.t .......... ok
t/SOAP/WSDL/XSD/Typelib/Builtin/anyType.t ................ ok
t/SOAP/WSDL/XSD/Typelib/Builtin/anyURI.t ................. ok
t/SOAP/WSDL/XSD/Typelib/Builtin/base64Binary.t ........... ok
t/SOAP/WSDL/XSD/Typelib/Builtin/boolean.t ................ ok
t/SOAP/WSDL/XSD/Typelib/Builtin/byte.t ................... ok
t/SOAP/WSDL/XSD/Typelib/Builtin/date.t ................... ok
t/SOAP/WSDL/XSD/Typelib/Builtin/dateTime.t ............... ok
t/SOAP/WSDL/XSD/Typelib/Builtin/decimal.t ................ ok
t/SOAP/WSDL/XSD/Typelib/Builtin/double.t ................. ok
t/SOAP/WSDL/XSD/Typelib/Builtin/duration.t ............... ok
t/SOAP/WSDL/XSD/Typelib/Builtin/float.t .................. ok
t/SOAP/WSDL/XSD/Typelib/Builtin/gDay.t ................... ok
t/SOAP/WSDL/XSD/Typelib/Builtin/gMonth.t ................. ok
t/SOAP/WSDL/XSD/Typelib/Builtin/gMonthDay.t .............. ok
t/SOAP/WSDL/XSD/Typelib/Builtin/gYear.t .................. ok
t/SOAP/WSDL/XSD/Typelib/Builtin/gYearMonth.t ............. ok
t/SOAP/WSDL/XSD/Typelib/Builtin/hexBinary.t .............. ok
t/SOAP/WSDL/XSD/Typelib/Builtin/int.t .................... ok
t/SOAP/WSDL/XSD/Typelib/Builtin/integer.t ................ ok
t/SOAP/WSDL/XSD/Typelib/Builtin/language.t ............... ok
t/SOAP/WSDL/XSD/Typelib/Builtin/list.t ................... ok
t/SOAP/WSDL/XSD/Typelib/Builtin/long.t ................... ok
t/SOAP/WSDL/XSD/Typelib/Builtin/negativeInteger.t ........ ok
t/SOAP/WSDL/XSD/Typelib/Builtin/nonNegativeInteger.t ..... ok
t/SOAP/WSDL/XSD/Typelib/Builtin/nonPositiveInteger.t ..... ok
t/SOAP/WSDL/XSD/Typelib/Builtin/normalizedString.t ....... ok
t/SOAP/WSDL/XSD/Typelib/Builtin/positiveInteger.t ........ ok
t/SOAP/WSDL/XSD/Typelib/Builtin/short.t .................. ok
t/SOAP/WSDL/XSD/Typelib/Builtin/string.t ................. ok
t/SOAP/WSDL/XSD/Typelib/Builtin/time.t ................... ok
t/SOAP/WSDL/XSD/Typelib/Builtin/token.t .................. ok
t/SOAP/WSDL/XSD/Typelib/Builtin/unsignedByte.t ........... ok
t/SOAP/WSDL/XSD/Typelib/Builtin/unsignedInt.t ............ ok
t/SOAP/WSDL/XSD/Typelib/Builtin/unsignedLong.t ........... ok
t/SOAP/WSDL/XSD/Typelib/Builtin/unsignedShort.t .......... ok
t/SOAP/WSDL/XSD/Typelib/ComplexType.t .................... ok
t/SOAP/WSDL/XSD/Typelib/Element.t ........................ ok
All tests successful.
Files=106, Tests=1110, 42 wallclock secs ( 0.32 usr 0.17 sys + 19.21 cusr 1.33 csys = 21.03 CPU)
Result: PASS
------------------------------
PREREQUISITES
------------------------------
Prerequisite modules loaded:
requires:
Module Need Have
------------------ ------ --------
Class::Std::Fast v0.0.5 0.0.8
Data::Dumper 0 2.131
Date::Format 0 2.24
Date::Parse 0 2.30
File::Basename 0 2.83
File::Path 0 2.08
Getopt::Long 0 2.38
List::Util 0 1.23
LWP::UserAgent 0 6.02
perl v5.8.0 5.015001
Template 2.18 2.22
Term::ReadKey 0 2.30
URI 0 1.58
XML::Parser::Expat 0 2.41
build_requires:
Module Need Have
------------------ ------ --------
Class::Std::Fast v0.0.5 0.0.8
Cwd 0 3.37
Date::Format 0 2.24
Date::Parse 0 2.30
File::Basename 0 2.83
File::Path 0 2.08
File::Spec 0 3.33
Getopt::Long 0 2.38
List::Util 0 1.23
LWP::UserAgent 0 6.02
Module::Build 0 0.3800
Storable 0 2.31
Template 2.18 2.22
Test::More 0 0.98
XML::Parser::Expat 0 2.41
configure_requires:
Module Need Have
------------------ ------ --------
Module::Build 0.36 0.3800
------------------------------
ENVIRONMENT AND OTHER CONTEXT
------------------------------
Environment variables:
AUTOMATED_TESTING = 1
LANG = en_US.UTF-8
LANGUAGE = en
LC_COLLATE = C
LC_MONETARY = C
LC_NUMERIC = C
LC_TIME = C
PATH = /usr/local/sbin:/usr/local/bin:/usr/sbin:/usr/bin:/sbin:/bin
PERL5LIB =
PERL5OPT =
PERL5_CPANPLUS_IS_RUNNING = 23562
PERL5_CPAN_IS_RUNNING = 23562
PERL5_CPAN_IS_RUNNING_IN_RECURSION = 13690,23562
PERL_CR_SMOKER_CURRENT = SOAP-WSDL-2.00.99_3
PERL_EXTUTILS_AUTOINSTALL = --defaultdeps
PERL_MM_USE_DEFAULT = 1
SHELL = /bin/bash
TERM = xterm
Perl special variables (and OS-specific diagnostics, for MSWin32):
$^X = /home/trushel/perl/perl5151/bin/perl
$UID/$EUID = 138375 / 138375
$GID = 5762 4 20 21 24 25 26 30 44 46 104 105 119 122 431 5762
$EGID = 5762 4 20 21 24 25 26 30 44 46 104 105 119 122 431 5762
Perl module toolchain versions installed:
Module Have
------------------- -----------
CPAN 1.97_51
CPAN::Meta 2.110930001
Cwd 3.37
ExtUtils::CBuilder 0.280204
ExtUtils::Command 1.17
ExtUtils::Install 1.54
ExtUtils::MakeMaker 6.58
ExtUtils::Manifest 1.58
ExtUtils::ParseXS 3.00_01
File::Spec 3.33
JSON 2.53
JSON::PP 2.27200
Module::Build 0.3800
Module::Signature n/a
Parse::CPAN::Meta 1.4401
Test::Harness 3.23
Test::More 0.98
YAML 0.73
YAML::Syck n/a
version 0.93
--
Summary of my perl5 (revision 5 version 15 subversion 1) configuration:
Platform:
osname=linux, osvers=2.6.32-33-generic, archname=x86_64-linux
uname='linux trushel-glaptop 2.6.32-33-generic #70-ubuntu smp thu jul 7 21:13:52 utc 2011 x86_64 gnulinux '
config_args=''
hint=recommended, useposix=true, d_sigaction=define
useithreads=undef, usemultiplicity=undef
useperlio=define, d_sfio=undef, uselargefiles=define, usesocks=undef
use64bitint=define, use64bitall=define, uselongdouble=undef
usemymalloc=n, bincompat5005=undef
Compiler:
cc='cc', ccflags ='-fno-strict-aliasing -pipe -fstack-protector -I/usr/local/include -D_LARGEFILE_SOURCE -D_FILE_OFFSET_BITS=64',
optimize='-O2',
cppflags='-fno-strict-aliasing -pipe -fstack-protector -I/usr/local/include'
ccversion='', gccversion='4.4.3', gccosandvers=''
intsize=4, longsize=8, ptrsize=8, doublesize=8, byteorder=12345678
d_longlong=define, longlongsize=8, d_longdbl=define, longdblsize=16
ivtype='long', ivsize=8, nvtype='double', nvsize=8, Off_t='off_t', lseeksize=8
alignbytes=8, prototype=define
Linker and Libraries:
ld='cc', ldflags =' -fstack-protector -L/usr/local/lib'
libpth=/usr/local/lib /lib/../lib /usr/lib/../lib /lib /usr/lib /usr/lib/x86_64-linux-gnu /lib64 /usr/lib64
libs=-lnsl -ldb -ldl -lm -lcrypt -lutil -lc
perllibs=-lnsl -ldl -lm -lcrypt -lutil -lc
libc=/lib/libc-2.11.1.so, so=so, useshrplib=false, libperl=libperl.a
gnulibc_version='2.11.1'
Dynamic Linking:
dlsrc=dl_dlopen.xs, dlext=so, d_dlsymun=undef, ccdlflags='-Wl,-E'
cccdlflags='-fPIC', lddlflags='-shared -O2 -L/usr/local/lib -fstack-protector'
Characteristics of this binary (from libperl):
Compile-time options: HAS_TIMES PERLIO_LAYERS PERL_DONT_CREATE_GVSV
PERL_MALLOC_WRAP PERL_PRESERVE_IVUV USE_64_BIT_ALL
USE_64_BIT_INT USE_LARGE_FILES USE_LOCALE
USE_LOCALE_COLLATE USE_LOCALE_CTYPE
USE_LOCALE_NUMERIC USE_PERLIO USE_PERL_ATOF
Built under linux
Compiled at Jul 21 2011 04:13:12
%ENV:
PERL5LIB=""
PERL5OPT=""
PERL5_CPANPLUS_IS_RUNNING="23562"
PERL5_CPAN_IS_RUNNING="23562"
PERL5_CPAN_IS_RUNNING_IN_RECURSION="13690,23562"
PERL_CR_SMOKER_CURRENT="SOAP-WSDL-2.00.99_3"
PERL_EXTUTILS_AUTOINSTALL="--defaultdeps"
PERL_MM_USE_DEFAULT="1"
@INC:
/home/trushel/perl/perl5151/lib/site_perl/5.15.1/x86_64-linux
/home/trushel/perl/perl5151/lib/site_perl/5.15.1
/home/trushel/perl/perl5151/lib/5.15.1/x86_64-linux
/home/trushel/perl/perl5151/lib/5.15.1
.