IO-Stringy v2.113 Perl 5 v5.30.1 armv7l-linux-thread-multi

Status
Pass
From
Nigel Horne
Dist
IO-Stringy v2.113
Platform
Perl 5 v5.30.1 armv7l-linux-thread-multi
Date
2020-01-19 02:43:50
ID
865597ce-3a65-11ea-81bc-fd49b518dca7
This distribution has been tested as part of the CPAN Testers
project, supporting the Perl programming language.  See
http://wiki.cpantesters.org/ for more information or email
questions to cpan-testers-discuss@perl.org


--
Dear Chase Whitener,

This is a computer-generated report for IO-Stringy-2.113
on perl 5.30.1, created by CPAN-Reporter-1.2018.

Thank you for uploading your work to CPAN.  Congratulations!
All tests were successful.

Sections of this report:

    * Tester comments
    * Program output
    * Prerequisites
    * Environment and other context

------------------------------
TESTER COMMENTS
------------------------------

Additional comments from tester:

none provided

------------------------------
PROGRAM OUTPUT
------------------------------

Output from '/usr/bin/make test':

PERL_DL_NONLAZY=1 "/home/smoker/perl5/perlbrew/perls/perl-5.30.1-thread/bin/perl5.30.1" "-MExtUtils::Command::MM" "-MTest::Harness" "-e" "undef *Test::Harness::Switches; test_harness(0, 'blib/lib', 'blib/arch')" t/*.t
t/IO_Lines.t ........... ok
t/IO_Scalar.t .......... ok
t/IO_InnerFile.t ....... ok
t/IO_ScalarArray.t ..... ok
t/IO_WrapTie.t ......... ok
t/simple.t ............. ok
# 
# Versions for all modules listed in MYMETA.json (including optional ones):
# 
# === Configure Requires ===
# 
#     Module              Want Have
#     ------------------- ---- ----
#     ExtUtils::MakeMaker  any 7.44
# 
# === Build Requires ===
# 
#     Module              Want Have
#     ------------------- ---- ----
#     ExtUtils::MakeMaker  any 7.44
# 
# === Test Requires ===
# 
#     Module              Want     Have
#     ------------------- ---- --------
#     ExtUtils::MakeMaker  any     7.44
#     File::Basename       any     2.85
#     File::Spec           any     3.78
#     File::Temp           any   0.2309
#     FileHandle           any     2.03
#     IO::File             any     1.40
#     IO::Handle           any     1.40
#     Symbol               any     1.08
#     Test::More          0.88 1.302162
#     Test::Tester         any 1.302162
#     strict               any     1.11
#     warnings             any     1.44
# 
# === Test Recommends ===
# 
#     Module         Want     Have
#     ---------- -------- --------
#     CPAN::Meta 2.120900 2.150010
# 
# === Runtime Requires ===
# 
#     Module     Want  Have
#     ---------- ---- -----
#     Carp        any  1.50
#     Exporter   5.57  5.73
#     File::Spec  any  3.78
#     FileHandle  any  2.03
#     IO::File    any  1.40
#     IO::Handle  any  1.40
#     Symbol      any  1.08
#     overload    any  1.30
#     parent      any 0.237
#     strict      any  1.11
#     warnings    any  1.44
# 
t/00-report-prereqs.t .. ok
t/two.t ................ ok
All tests successful.
Files=8, Tests=127,  1 wallclock secs ( 0.09 usr  0.03 sys +  1.64 cusr  0.43 csys =  2.19 CPU)
Result: PASS

------------------------------
PREREQUISITES
------------------------------

Prerequisite modules loaded:

requires:

    Module              Need Have    
    ------------------- ---- --------
    Carp                0    1.50    
    Exporter            5.57 5.73    
    File::Spec          0    3.78    
    FileHandle          0    2.03    
    IO::File            0    1.40    
    IO::Handle          0    1.40    
    overload            0    1.30    
    parent              0    0.237   
    strict              0    1.11    
    Symbol              0    1.08    
    warnings            0    1.44    

build_requires:

    Module              Need Have    
    ------------------- ---- --------
    ExtUtils::MakeMaker 0    7.44    
    File::Basename      0    2.85    
    File::Spec          0    3.78    
    File::Temp          0    0.2309  
    FileHandle          0    2.03    
    IO::File            0    1.40    
    IO::Handle          0    1.40    
    strict              0    1.11    
    Symbol              0    1.08    
    Test::More          0.88 1.302162
    Test::Tester        0    1.302162
    warnings            0    1.44    

configure_requires:

    Module              Need Have    
    ------------------- ---- --------
    ExtUtils::MakeMaker 0    7.44    


------------------------------
ENVIRONMENT AND OTHER CONTEXT
------------------------------

Environment variables:

    HARNESS_OPTIONS = c:j4
    NONINTERACTIVE_TESTING = 1
    PATH = /home/smoker/perl5/perlbrew/bin:/home/smoker/perl5/perlbrew/perls/perl-5.30.1-thread/bin:/usr/local/sbin:/usr/local/bin:/usr/sbin:/usr/bin:/sbin:/bin
    PERL5LIB = 
    PERL5OPT = 
    PERL5_CPANPLUS_IS_RUNNING = 22820
    PERL5_CPAN_IS_RUNNING = 22820
    PERLBREW_HOME = /home/smoker/.perlbrew
    PERLBREW_MANPATH = /home/smoker/perl5/perlbrew/perls/perl-5.30.1-thread/man
    PERLBREW_PATH = /home/smoker/perl5/perlbrew/bin:/home/smoker/perl5/perlbrew/perls/perl-5.30.1-thread/bin
    PERLBREW_PERL = perl-5.30.1-thread
    PERLBREW_ROOT = /home/smoker/perl5/perlbrew
    PERLBREW_SHELLRC_VERSION = 0.87
    PERLBREW_VERSION = 0.87
    PERL_MM_USE_DEFAULT = 1
    PERL_USE_UNSAFE_INC = 1
    SHELL = /bin/bash
    TMPDIR = /tmp

Perl special variables (and OS-specific diagnostics, for MSWin32):

    $^X = /home/smoker/perl5/perlbrew/perls/perl-5.30.1-thread/bin/perl5.30.1
    $UID/$EUID = 1000 / 1000
    $GID = 1000
    $EGID = 1000

Perl module toolchain versions installed:

    Module              Have    
    ------------------- --------
    CPAN                2.27    
    CPAN::Meta          2.150010
    Cwd                 3.78    
    ExtUtils::CBuilder  0.280231
    ExtUtils::Command   7.44    
    ExtUtils::Install   2.14    
    ExtUtils::MakeMaker 7.44    
    ExtUtils::Manifest  1.72    
    ExtUtils::ParseXS   3.40    
    File::Spec          3.78    
    JSON                n/a     
    JSON::PP            4.02    
    Module::Build       0.4229  
    Module::Signature   n/a     
    Parse::CPAN::Meta   2.150010
    Test::Harness       3.42    
    Test::More          1.302162
    YAML                1.29    
    YAML::Syck          1.31    
    version             0.9924  


--

Summary of my perl5 (revision 5 version 30 subversion 1) configuration:
   
  Platform:
    osname=linux
    osvers=4.19.75-v7l+
    archname=armv7l-linux-thread-multi
    uname='linux 94bce6b1a959 4.19.75-v7l+ #1270 smp tue sep 24 18:51:41 bst 2019 armv7l gnulinux '
    config_args='-de -Dprefix=/home/smoker/perl5/perlbrew/perls/perl-5.30.1-thread -Dusedevel -Dusethreads -Accflags=-O2 -pipe -Wall -Wextra -mtune=native -march=native -Aeval:scriptdir=/home/smoker/perl5/perlbrew/perls/perl-5.30.1-thread/bin'
    hint=recommended
    useposix=true
    d_sigaction=define
    useithreads=define
    usemultiplicity=define
    use64bitint=undef
    use64bitall=undef
    uselongdouble=undef
    usemymalloc=n
    default_inc_excludes_dot=define
    bincompat5005=undef
  Compiler:
    cc='cc'
    ccflags ='-D_REENTRANT -D_GNU_SOURCE -O2 -pipe -Wall -Wextra -mtune=native -march=native -fwrapv -fno-strict-aliasing -fstack-protector-strong -I/usr/local/include -D_LARGEFILE_SOURCE -D_FILE_OFFSET_BITS=64 -D_FORTIFY_SOURCE=2'
    optimize='-O2'
    cppflags='-D_REENTRANT -D_GNU_SOURCE -O2 -pipe -Wall -Wextra -mtune=native -march=native -fwrapv -fno-strict-aliasing -fstack-protector-strong -I/usr/local/include'
    ccversion=''
    gccversion='8.3.0'
    gccosandvers=''
    intsize=4
    longsize=4
    ptrsize=4
    doublesize=8
    byteorder=1234
    doublekind=3
    d_longlong=define
    longlongsize=8
    d_longdbl=define
    longdblsize=8
    longdblkind=0
    ivtype='long'
    ivsize=4
    nvtype='double'
    nvsize=8
    Off_t='off_t'
    lseeksize=8
    alignbytes=8
    prototype=define
  Linker and Libraries:
    ld='cc'
    ldflags =' -fstack-protector-strong -L/usr/local/lib'
    libpth=/usr/local/lib /usr/lib/gcc/arm-linux-gnueabihf/8/include-fixed /usr/include/arm-linux-gnueabihf /usr/lib /lib/arm-linux-gnueabihf /lib /usr/lib/arm-linux-gnueabihf
    libs=-lpthread -lnsl -ldl -lm -lcrypt -lutil -lc
    perllibs=-lpthread -lnsl -ldl -lm -lcrypt -lutil -lc
    libc=libc-2.28.so
    so=so
    useshrplib=false
    libperl=libperl.a
    gnulibc_version='2.28'
  Dynamic Linking:
    dlsrc=dl_dlopen.xs
    dlext=so
    d_dlsymun=undef
    ccdlflags='-Wl,-E'
    cccdlflags='-fPIC'
    lddlflags='-shared -O2 -L/usr/local/lib -fstack-protector-strong'


Characteristics of this binary (from libperl): 
  Compile-time options:
    HAS_TIMES
    MULTIPLICITY
    PERLIO_LAYERS
    PERL_COPY_ON_WRITE
    PERL_DONT_CREATE_GVSV
    PERL_IMPLICIT_CONTEXT
    PERL_MALLOC_WRAP
    PERL_OP_PARENT
    PERL_PRESERVE_IVUV
    PERL_USE_DEVEL
    USE_ITHREADS
    USE_LARGE_FILES
    USE_LOCALE
    USE_LOCALE_COLLATE
    USE_LOCALE_CTYPE
    USE_LOCALE_NUMERIC
    USE_LOCALE_TIME
    USE_PERLIO
    USE_PERL_ATOF
    USE_REENTRANT_API
    USE_THREAD_SAFE_LOCALE
  Locally applied patches:
    Devel::PatchPerl 1.80
  Built under linux
  Compiled at Jan 19 2020 02:02:50
  %ENV:
    PERL5LIB=""
    PERL5OPT=""
    PERL5_CPANPLUS_IS_RUNNING="22820"
    PERL5_CPAN_IS_RUNNING="22820"
    PERLBREW_HOME="/home/smoker/.perlbrew"
    PERLBREW_MANPATH="/home/smoker/perl5/perlbrew/perls/perl-5.30.1-thread/man"
    PERLBREW_PATH="/home/smoker/perl5/perlbrew/bin:/home/smoker/perl5/perlbrew/perls/perl-5.30.1-thread/bin"
    PERLBREW_PERL="perl-5.30.1-thread"
    PERLBREW_ROOT="/home/smoker/perl5/perlbrew"
    PERLBREW_SHELLRC_VERSION="0.87"
    PERLBREW_VERSION="0.87"
    PERL_MM_USE_DEFAULT="1"
    PERL_USE_UNSAFE_INC="1"
  @INC:
    /home/smoker/perl5/perlbrew/perls/perl-5.30.1-thread/lib/site_perl/5.30.1/armv7l-linux-thread-multi
    /home/smoker/perl5/perlbrew/perls/perl-5.30.1-thread/lib/site_perl/5.30.1
    /home/smoker/perl5/perlbrew/perls/perl-5.30.1-thread/lib/5.30.1/armv7l-linux-thread-multi
    /home/smoker/perl5/perlbrew/perls/perl-5.30.1-thread/lib/5.30.1
    .