Report for Dist-Zilla-Plugin-Test-EOL-0.19

Back
From: metabase:user:d3bc49c6-e9ce-11e6-95e8-c5cd2189b6c4
Subject: PASS Dist-Zilla-Plugin-Test-EOL-0.19 v5.25.9 GNU/Linux
Date: 2017-02-04T00:11:50Z

This distribution has been tested as part of the CPAN Testers
project, supporting the Perl programming language.  See
http://wiki.cpantesters.org/ for more information or email
questions to cpan-testers-discuss@perl.org


--
Dear Karen Etheridge,

This is a computer-generated report for Dist-Zilla-Plugin-Test-EOL-0.19
on perl 5.25.9, created by CPAN-Reporter-1.2018.

Thank you for uploading your work to CPAN.  Congratulations!
All tests were successful.

Sections of this report:

    * Tester comments
    * Program output
    * Prerequisites
    * Environment and other context

------------------------------
TESTER COMMENTS
------------------------------

Additional comments from tester:

this report is from an automated smoke testing program
and was not reviewed by a human for accuracy

NOTE: This perl was built without . in @INC. This will be a new feature in 5.26 and for security reasons,
it is good that your module support this feature. You can try this for yourself by executing:

perl -M-lib=. Makefile.PL (or Build.PL)

If your this fails, then you may need to correct distro to support this. No documentation exists yet but you can try this link for more help:

https://github.com/toddr/perl/issues/15 


------------------------------
PROGRAM OUTPUT
------------------------------

Output from './Build test':

# 
# Versions for all modules listed in MYMETA.json (including optional ones):
# 
# === Configure Requires ===
# 
#     Module               Want  Have
#     ------------------- ----- -----
#     Module::Build::Tiny 0.034 0.039
# 
# === Test Requires ===
# 
#     Module            Want     Have
#     ---------------- ----- --------
#     File::Spec         any     3.66
#     File::pushd        any    1.014
#     FindBin            any     1.51
#     Module::Metadata   any 1.000033
#     Test::DZil         any    6.008
#     Test::Deep         any    1.126
#     Test::EOL          any      1.6
#     Test::More        0.88 1.302075
#     Test::Warnings   0.009    0.026
#     if                 any   0.0606
# 
# === Test Recommends ===
# 
#     Module         Want     Have
#     ---------- -------- --------
#     CPAN::Meta 2.120900 2.150010
# 
# === Runtime Requires ===
# 
#     Module                             Want     Have
#     --------------------------------- ----- --------
#     Data::Section                     0.004 0.200006
#     Dist::Zilla::File::InMemory         any    6.008
#     Dist::Zilla::Role::FileFinderUser   any    6.008
#     Dist::Zilla::Role::FileGatherer     any    6.008
#     Dist::Zilla::Role::FileMunger       any    6.008
#     Dist::Zilla::Role::PrereqSource     any    6.008
#     Dist::Zilla::Role::TextTemplate     any    6.008
#     Moose                               any   2.2004
#     Moose::Util::TypeConstraints        any   2.2004
#     Path::Tiny                          any    0.100
#     Sub::Exporter::ForMethods           any 0.100052
#     namespace::autoclean                any     0.28
#     strict                              any     1.11
#     warnings                            any     1.37
# 
# === Other Modules ===
# 
#     Module                    Have
#     --------------------- --------
#     CPAN::Meta::Validator 2.150010
#     Pod::Coverage             0.23
# 
t/00-report-prereqs.t .. ok
t/01-basic.t ........... ok
t/02-eoltests.t ........ ok
t/03-finder.t .......... ok
t/04-filename.t ........ ok
t/eol.t ................ ok
t/prereqs.t ............ ok
t/zzz-check-breaks.t ... ok
All tests successful.
Files=8, Tests=66,  8 wallclock secs ( 0.06 usr  0.01 sys +  7.01 cusr  0.35 csys =  7.43 CPU)
Result: PASS

------------------------------
PREREQUISITES
------------------------------

Prerequisite modules loaded:

requires:

    Module                            Need     Have    
    --------------------------------- -------- --------
    Data::Section                     0.004    0.200006
    Dist::Zilla::File::InMemory       0        6.008   
    Dist::Zilla::Role::FileFinderUser 0        6.008   
    Dist::Zilla::Role::FileGatherer   0        6.008   
    Dist::Zilla::Role::FileMunger     0        6.008   
    Dist::Zilla::Role::PrereqSource   0        6.008   
    Dist::Zilla::Role::TextTemplate   0        6.008   
    Moose                             0        2.2004  
    Moose::Util::TypeConstraints      0        2.2004  
    namespace::autoclean              0        0.28    
    Path::Tiny                        0        0.100   
    perl                              5.006    5.025009
    strict                            0        1.11    
    Sub::Exporter::ForMethods         0        0.100052
    warnings                          0        1.37    

build_requires:

    Module                            Need     Have    
    --------------------------------- -------- --------
    File::pushd                       0        1.014   
    File::Spec                        0        3.66    
    FindBin                           0        1.51    
    if                                0        0.0606  
    Module::Metadata                  0        1.000033
    perl                              5.006    5.025009
    Test::Deep                        0        1.126   
    Test::DZil                        0        6.008   
    Test::EOL                         0        1.6     
    Test::More                        0.88     1.302075
    Test::Warnings                    0.009    0.026   

configure_requires:

    Module                            Need     Have    
    --------------------------------- -------- --------
    Module::Build::Tiny               0.034    0.039   
    perl                              5.006    5.025009

opt_build_requires:

    Module                            Need     Have    
    --------------------------------- -------- --------
    CPAN::Meta                        2.120900 2.150010


------------------------------
ENVIRONMENT AND OTHER CONTEXT
------------------------------

Environment variables:

    AUTOMATED_TESTING = 1
    CPANEL_SLOW_TESTS = 1
    LANG = en_US.UTF-8
    PATH = /home/smoker/perl5/bin:/perl/5.25.9/bin:/usr/bin:/bin:/usr/sbin:/sbin:/usr/local/bin
    PERL5LIB = /home/smoker/perl5/lib/perl5
    PERL5OPT = 
    PERL5_CPANPLUS_IS_RUNNING = 26150
    PERL5_CPAN_IS_RUNNING = 26150
    PERL_EXTUTILS_AUTOINSTALL = 1
    PERL_LOCAL_LIB_ROOT = /home/smoker/perl5
    PERL_MB_OPT = --install_base "/home/smoker/perl5"
    PERL_MM_OPT = INSTALL_BASE=/home/smoker/perl5
    PERL_MM_USE_DEFAULT = 1
    SHELL = /usr/bin/zsh
    TERM = xterm-color

Perl special variables (and OS-specific diagnostics, for MSWin32):

    $^X = /perl/5.25.9/bin/perl5.25.9
    $UID/$EUID = 1011 / 1011
    $GID = 1012 1012
    $EGID = 1012 1012

Perl module toolchain versions installed:

    Module              Have      
    ------------------- ----------
    CPAN                2.16      
    CPAN::Meta          2.150010  
    Cwd                 3.66      
    ExtUtils::CBuilder  0.280225  
    ExtUtils::Command   7.24      
    ExtUtils::Install   2.04      
    ExtUtils::MakeMaker 7.24      
    ExtUtils::Manifest  1.70      
    ExtUtils::ParseXS   3.33      
    File::Spec          3.66      
    JSON                2.90      
    JSON::PP            2.27400_02
    Module::Build       0.4220    
    Module::Signature   0.81      
    Parse::CPAN::Meta   2.150010  
    Test::Harness       3.37_01   
    Test::More          1.302075  
    YAML                1.21      
    YAML::Syck          1.29      
    version             0.9917    


--

Summary of my perl5 (revision 5 version 25 subversion 9) configuration:
   
  Platform:
    osname=linux
    osvers=3.10.0-514.6.1.el7.x86_64
    archname=x86_64-linux
    uname='linux cpansmoker.dev.cpanel.net 3.10.0-514.6.1.el7.x86_64 #1 smp wed jan 18 13:06:36 utc 2017 x86_64 x86_64 x86_64 gnulinux '
    config_args='-des -Dusedevel -Ddefault_inc_excludes_dot -Dusemymalloc=n -DDEBUGGING=none -Doptimize=-Os -Accflags=-m64 -Duseshrplib -Duselargefiles=yes -Duseposix=true -Dhint=recommended -Duseperlio=yes -Dprefix=/perl/5.25.9 -Dscriptdir=/perl/5.25.9/bin -Dscriptdirexp=/perl/5.25.9/bin -Dman1dir=none -Dman3dir=none -Dsiteman1dir=none -Dsiteman3dir=none -Dinstallman1dir=none -Dversiononly=yes -Dinstallusrbinperl=no -Dcf_by=toddr_dot_inc -Dmyhostname=localhost -Dperladmin=root@localhost -Dcf_email=toddr@cpan.org -Ud_dosuid -Uuserelocatableinc -Umad -Uusethreads -Uusemultiplicity -Uusesocks -Uuselongdouble -Duse64bitint -Uuse64bitall'
    hint=recommended
    useposix=true
    d_sigaction=define
    useithreads=undef
    usemultiplicity=undef
    use64bitint=define
    use64bitall=undef
    uselongdouble=undef
    usemymalloc=n
    bincompat5005=undef
  Compiler:
    cc='cc'
    ccflags ='-m64 -fwrapv -fno-strict-aliasing -pipe -fstack-protector-strong -I/usr/local/include -D_LARGEFILE_SOURCE -D_FILE_OFFSET_BITS=64 -D_FORTIFY_SOURCE=2'
    optimize='-Os'
    cppflags='-m64 -fwrapv -fno-strict-aliasing -pipe -fstack-protector-strong -I/usr/local/include'
    ccversion=''
    gccversion='4.8.5 20150623 (Red Hat 4.8.5-11)'
    gccosandvers=''
    intsize=4
    longsize=8
    ptrsize=8
    doublesize=8
    byteorder=12345678
    doublekind=3
    d_longlong=define
    longlongsize=8
    d_longdbl=define
    longdblsize=16
    longdblkind=3
    ivtype='long'
    ivsize=8
    nvtype='double'
    nvsize=8
    Off_t='off_t'
    lseeksize=8
    alignbytes=8
    prototype=define
  Linker and Libraries:
    ld='cc'
    ldflags =' -fstack-protector-strong -L/usr/local/lib'
    libpth=/usr/local/lib /usr/lib /lib/../lib64 /usr/lib/../lib64 /lib /lib64 /usr/lib64 /usr/local/lib64
    libs=-lpthread -lnsl -lgdbm -ldb -ldl -lm -lcrypt -lutil -lc -lgdbm_compat
    perllibs=-lpthread -lnsl -ldl -lm -lcrypt -lutil -lc
    libc=libc-2.17.so
    so=so
    useshrplib=true
    libperl=libperl.so
    gnulibc_version='2.17'
  Dynamic Linking:
    dlsrc=dl_dlopen.xs
    dlext=so
    d_dlsymun=undef
    ccdlflags='-Wl,-E -Wl,-rpath,/perl/5.25.9/lib/5.25.9/x86_64-linux/CORE'
    cccdlflags='-fPIC'
    lddlflags='-shared -Os -L/usr/local/lib -fstack-protector-strong'


Characteristics of this binary (from libperl): 
  Compile-time options:
    HAS_TIMES
    PERLIO_LAYERS
    PERL_COPY_ON_WRITE
    PERL_DONT_CREATE_GVSV
    PERL_MALLOC_WRAP
    PERL_OP_PARENT
    PERL_PRESERVE_IVUV
    PERL_USE_DEVEL
    USE_64_BIT_INT
    USE_LARGE_FILES
    USE_LOCALE
    USE_LOCALE_COLLATE
    USE_LOCALE_CTYPE
    USE_LOCALE_NUMERIC
    USE_LOCALE_TIME
    USE_PERLIO
    USE_PERL_ATOF
  Built under linux
  Compiled at Feb  2 2017 16:49:26
  %ENV:
    PERL5LIB="/home/smoker/perl5/lib/perl5"
    PERL5OPT=""
    PERL5_CPANPLUS_IS_RUNNING="26150"
    PERL5_CPAN_IS_RUNNING="26150"
    PERL_EXTUTILS_AUTOINSTALL="1"
    PERL_LOCAL_LIB_ROOT="/home/smoker/perl5"
    PERL_MB_OPT="--install_base "/home/smoker/perl5""
    PERL_MM_OPT="INSTALL_BASE=/home/smoker/perl5"
    PERL_MM_USE_DEFAULT="1"
  @INC:
    /home/smoker/perl5/lib/perl5/5.25.9/x86_64-linux
    /home/smoker/perl5/lib/perl5/5.25.9
    /home/smoker/perl5/lib/perl5/x86_64-linux
    /home/smoker/perl5/lib/perl5
    /perl/5.25.9/lib/site_perl/5.25.9/x86_64-linux
    /perl/5.25.9/lib/site_perl/5.25.9
    /perl/5.25.9/lib/5.25.9/x86_64-linux
    /perl/5.25.9/lib/5.25.9