Back
From: metabase:user:30f4dfbe-2aae-11df-837a-5e0a49663a4f
Subject: PASS Mail-Transport-Dbx-0.07 v5.10.0 NetBSD
Date: 2011-08-28T22:39:01Z
This distribution has been tested as part of the CPAN Testers
project, supporting the Perl programming language. See
http://wiki.cpantesters.org/ for more information or email
questions to cpan-testers-discuss@perl.org
--
Dear Tassilo von Parseval,
This is a computer-generated report for Mail-Transport-Dbx-0.07
on perl 5.10.0, created by CPAN-Reporter-1.2002.
Thank you for uploading your work to CPAN. Congratulations!
All tests were successful.
Sections of this report:
* Tester comments
* Program output
* Prerequisites
* Environment and other context
------------------------------
TESTER COMMENTS
------------------------------
Additional comments from tester:
this report is from an automated smoke testing program
and was not reviewed by a human for accuracy
------------------------------
PROGRAM OUTPUT
------------------------------
Output from '/usr/bin/make test':
PERL_DL_NONLAZY=1 /home/njh/perl5/perlbrew/perls/perl-5.10.0/bin/perl "-MExtUtils::Command::MM" "-e" "test_harness(0, 'blib/lib', 'blib/arch')" t/*.t
t/0_pod.t ........... ok
t/0_pod_coverage.t .. ok
t/1.t ............... ok
t/2.t ............... ok
t/3.t ............... ok
t/fixed.t ........... ok
All tests successful.
Files=6, Tests=60, 1 wallclock secs ( 0.05 usr 0.03 sys + 0.32 cusr 0.19 csys = 0.59 CPU)
Result: PASS
No tests defined for Mail::Transport::Dbx::libdbx extension.
------------------------------
PREREQUISITES
------------------------------
Prerequisite modules loaded:
build_requires:
Module Need Have
------------------- ---- ----
ExtUtils::MakeMaker 0 6.59
------------------------------
ENVIRONMENT AND OTHER CONTEXT
------------------------------
Environment variables:
AUTOMATED_TESTING = 1
LD_LIBRARY_PATH = :/usr/local/lib:/usr/lib/qt-3.3/lib:/usr/X11R6/lib
PATH = /home/njh/perl5/perlbrew/bin:/home/njh/perl5/perlbrew/perls/perl-5.10.0/bin:/home/njh/perl5/perlbrew/bin:/usr/bin:/bin:/usr/pkg/bin:/usr/local/bin:/home/njh/bin::/opt/intel/cc/9.1.038/bin:/opt/IBMJava2-13/bin:/usr/X11R6/bin:/home/njh/linux/bin:/usr/pkg/lib/perl5/site_perl/bin
PATH_WITHOUT_PERLBREW = /usr/bin:/bin:/usr/pkg/bin:/usr/local/bin:/home/njh/bin::/opt/intel/cc/9.1.038/bin:/opt/IBMJava2-13/bin:/usr/X11R6/bin
PERL5LIB = /home/njh/.cpan/build/HTML-Format-2.10-Vlm2EG/blib/arch:/home/njh/.cpan/build/HTML-Format-2.10-Vlm2EG/blib/lib:/home/njh/.cpan/build/File-Slurp-9999.19-MU8d5l/blib/arch:/home/njh/.cpan/build/File-Slurp-9999.19-MU8d5l/blib/lib:/home/njh/.cpan/build/Font-AFM-1.20-Jz4bmf/blib/arch:/home/njh/.cpan/build/Font-AFM-1.20-Jz4bmf/blib/lib:/home/njh/.cpan/build/User-Identity-0.93-5gnyA1/blib/arch:/home/njh/.cpan/build/User-Identity-0.93-5gnyA1/blib/lib:/home/njh/.cpan/build/Object-Realize-Later-0.18-WmwHWI/blib/arch:/home/njh/.cpan/build/Object-Realize-Later-0.18-WmwHWI/blib/lib:/home/njh/.cpan/build/IO-stringy-2.110-qddlP1/blib/arch:/home/njh/.cpan/build/IO-stringy-2.110-qddlP1/blib/lib
PERL5OPT =
PERL5_CPANPLUS_IS_RUNNING = 27548
PERL5_CPAN_IS_RUNNING = 27548
PERL5_CPAN_IS_RUNNING_IN_RECURSION = 15636,27548
PERLBREW_HOME = /home/njh/.perlbrew
PERLBREW_PATH = /home/njh/perl5/perlbrew/bin:/home/njh/perl5/perlbrew/perls/perl-5.10.0/bin
PERLBREW_PERL = perl-5.10.0
PERLBREW_ROOT = /home/njh/perl5/perlbrew
PERLBREW_VERSION = 0.27
PERL_CR_SMOKER_CURRENT = Mail-Box-2.101
PERL_EXTUTILS_AUTOINSTALL = --defaultdeps
PERL_MM_USE_DEFAULT = 1
SHELL = /usr/pkg/bin/bash
TERM = vt220
Perl special variables (and OS-specific diagnostics, for MSWin32):
$^X = /home/njh/perl5/perlbrew/perls/perl-5.10.0/bin/perl
$UID/$EUID = 500 / 500
$GID = 100 0 100
$EGID = 100 0 100
Perl module toolchain versions installed:
Module Have
------------------- --------
CPAN 1.9800
CPAN::Meta 2.112150
Cwd 3.33
ExtUtils::CBuilder 0.280202
ExtUtils::Command 1.17
ExtUtils::Install 1.54
ExtUtils::MakeMaker 6.59
ExtUtils::Manifest 1.60
ExtUtils::ParseXS 3.04
File::Spec 3.33
JSON 2.53
JSON::PP 2.27200
Module::Build 0.3800
Module::Signature n/a
Parse::CPAN::Meta 1.4401
Test::Harness 3.23
Test::More 0.98
YAML 0.73
YAML::Syck 1.17
version 0.94
--
Summary of my perl5 (revision 5 version 10 subversion 0) configuration:
Platform:
osname=netbsd, osvers=4.0, archname=i386-netbsd
uname='netbsd philips.bandsman.co.uk 4.0 netbsd 4.0 (generic) #0: sun dec 16 00:20:10 pst 2007 builds@wb34:homebuildsabnetbsd-4-0-releasei386200712160005z-objhomebuildsabnetbsd-4-0-releasesrcsysarchi386compilegeneric i386 '
config_args='-de -Dprefix=/home/njh/perl5/perlbrew/perls/perl-5.10.0'
hint=recommended, useposix=true, d_sigaction=define
useithreads=undef, usemultiplicity=undef
useperlio=define, d_sfio=undef, uselargefiles=define, usesocks=undef
use64bitint=undef, use64bitall=undef, uselongdouble=undef
usemymalloc=n, bincompat5005=undef
Compiler:
cc='cc', ccflags ='-fno-strict-aliasing -pipe -I/usr/pkg/include -I/usr/local/include',
optimize='-O',
cppflags='-fno-strict-aliasing -pipe -I/usr/pkg/include -I/usr/local/include'
ccversion='', gccversion='4.1.2 20061021 prerelease (NetBSD nb3 20061125)', gccosandvers=''
intsize=4, longsize=4, ptrsize=4, doublesize=8, byteorder=1234
d_longlong=define, longlongsize=8, d_longdbl=define, longdblsize=12
ivtype='long', ivsize=4, nvtype='double', nvsize=8, Off_t='off_t', lseeksize=8
alignbytes=4, prototype=define
Linker and Libraries:
ld='cc', ldflags =' -Wl,-rpath,/usr/pkg/lib -Wl,-rpath,/usr/local/lib -L/usr/pkg/lib -L/usr/local/lib'
libpth=/usr/pkg/lib /usr/local/lib /lib /usr/lib
libs=-lgdbm -lm -lcrypt -lutil -lc -lposix
perllibs=-lm -lcrypt -lutil -lc -lposix
libc=/lib/libc.so, so=so, useshrplib=false, libperl=libperl.a
gnulibc_version=''
Dynamic Linking:
dlsrc=dl_dlopen.xs, dlext=so, d_dlsymun=undef, ccdlflags='-Wl,-E '
cccdlflags='-DPIC -fPIC ', lddlflags='--whole-archive -shared -L/usr/pkg/lib -L/usr/local/lib'
Characteristics of this binary (from libperl):
Compile-time options: PERL_DONT_CREATE_GVSV PERL_MALLOC_WRAP
USE_LARGE_FILES USE_PERLIO
Built under netbsd
Compiled at Jul 15 2011 23:01:57
%ENV:
PERL5LIB="/home/njh/.cpan/build/HTML-Format-2.10-Vlm2EG/blib/arch:/home/njh/.cpan/build/HTML-Format-2.10-Vlm2EG/blib/lib:/home/njh/.cpan/build/File-Slurp-9999.19-MU8d5l/blib/arch:/home/njh/.cpan/build/File-Slurp-9999.19-MU8d5l/blib/lib:/home/njh/.cpan/build/Font-AFM-1.20-Jz4bmf/blib/arch:/home/njh/.cpan/build/Font-AFM-1.20-Jz4bmf/blib/lib:/home/njh/.cpan/build/User-Identity-0.93-5gnyA1/blib/arch:/home/njh/.cpan/build/User-Identity-0.93-5gnyA1/blib/lib:/home/njh/.cpan/build/Object-Realize-Later-0.18-WmwHWI/blib/arch:/home/njh/.cpan/build/Object-Realize-Later-0.18-WmwHWI/blib/lib:/home/njh/.cpan/build/IO-stringy-2.110-qddlP1/blib/arch:/home/njh/.cpan/build/IO-stringy-2.110-qddlP1/blib/lib"
PERL5OPT=""
PERL5_CPANPLUS_IS_RUNNING="27548"
PERL5_CPAN_IS_RUNNING="27548"
PERL5_CPAN_IS_RUNNING_IN_RECURSION="15636,27548"
PERLBREW_HOME="/home/njh/.perlbrew"
PERLBREW_PATH="/home/njh/perl5/perlbrew/bin:/home/njh/perl5/perlbrew/perls/perl-5.10.0/bin"
PERLBREW_PERL="perl-5.10.0"
PERLBREW_ROOT="/home/njh/perl5/perlbrew"
PERLBREW_VERSION="0.27"
PERL_CR_SMOKER_CURRENT="Mail-Box-2.101"
PERL_EXTUTILS_AUTOINSTALL="--defaultdeps"
PERL_MM_USE_DEFAULT="1"
@INC:
/home/njh/.cpan/build/HTML-Format-2.10-Vlm2EG/blib/arch
/home/njh/.cpan/build/HTML-Format-2.10-Vlm2EG/blib/lib
/home/njh/.cpan/build/File-Slurp-9999.19-MU8d5l/blib/arch
/home/njh/.cpan/build/File-Slurp-9999.19-MU8d5l/blib/lib
/home/njh/.cpan/build/Font-AFM-1.20-Jz4bmf/blib/arch
/home/njh/.cpan/build/Font-AFM-1.20-Jz4bmf/blib/lib
/home/njh/.cpan/build/User-Identity-0.93-5gnyA1/blib/arch
/home/njh/.cpan/build/User-Identity-0.93-5gnyA1/blib/lib
/home/njh/.cpan/build/Object-Realize-Later-0.18-WmwHWI/blib/arch
/home/njh/.cpan/build/Object-Realize-Later-0.18-WmwHWI/blib/lib
/home/njh/.cpan/build/IO-stringy-2.110-qddlP1/blib/arch
/home/njh/.cpan/build/IO-stringy-2.110-qddlP1/blib/lib
/home/njh/perl5/perlbrew/perls/perl-5.10.0/lib/5.10.0/i386-netbsd
/home/njh/perl5/perlbrew/perls/perl-5.10.0/lib/5.10.0
/home/njh/perl5/perlbrew/perls/perl-5.10.0/lib/site_perl/5.10.0/i386-netbsd
/home/njh/perl5/perlbrew/perls/perl-5.10.0/lib/site_perl/5.10.0
.