Sub-HandlesVia v0.050002 Perl 5 v5.41.14 amd64-midnightbsd
- Status
- Pass
- From
- Carlos Guevara
- Dist
-
Sub-HandlesVia v0.050002
- Platform
- Perl 5 v5.41.14 amd64-midnightbsd
- Date
- 2025-06-16 10:27:38
- ID
- 868e23a8-4a9c-11f0-907c-c63be9b7bffd
This distribution has been tested as part of the CPAN Testers
project, supporting the Perl programming language. See
http://wiki.cpantesters.org/ for more information or email
questions to cpan-testers-discuss@perl.org
--
Dear Toby Inkster,
This is a computer-generated report for Sub-HandlesVia-0.050002
on perl 5.41.14, created by CPAN-Reporter-1.2020.
Thank you for uploading your work to CPAN. Congratulations!
All tests were successful.
Sections of this report:
* Tester comments
* Program output
* Prerequisites
* Environment and other context
------------------------------
TESTER COMMENTS
------------------------------
Additional comments from tester:
this report is from an automated smoke testing program
and was not reviewed by a human for accuracy
------------------------------
PROGRAM OUTPUT
------------------------------
Output from '/usr/bin/make test':
PERL_DL_NONLAZY=1 "/usr/home/cpan/bin/perl/bin/perl5.41.14" "-MExtUtils::Command::MM" "-MTest::Harness" "-e" "undef *Test::Harness::Switches; test_harness(0, 'blib/lib', 'blib/arch')" t/*.t t/02moo/*.t t/03moo_mxtt/*.t t/04moose/*.t t/05moose_nativetypes/*.t t/06mouse/*.t t/07mouse_nativetypes/*.t t/30egpod/*.t t/40mite/*.t
#
# Perl 5.041014
# Exporter::Tiny 1.006002
# Type::Tiny/Type::Tiny::XS 2.008002/0.025
# Scalar::Util/List::Util/Sub::Util 1.69/1.69/1.69
#
# Class::Tiny 1.008
# Role::Tiny 2.002004
# Class::Method::Modifiers 2.15
# Moo/MooX::TypeTiny/Class::XSAccessor 2.005005/0.002003/1.19
# Moose 2.2207
# Mouse 2.5
#
# Test::More/Test::Fatal/Test::Requires 1.302214/0.017/0.11
#
# $AUTOMATED_TESTING "1"
# $NONINTERACTIVE_TESTING "1"
# $EXTENDED_TESTING undef
# $AUTHOR_TESTING undef
# $RELEASE_TESTING undef
#
# >>>> Type::Tiny is using Type::Tiny::XS
#
t/00begin.t ............................ ok
t/01basic.t ............................ ok
t/02moo.t .............................. ok
t/02moo/ext_attr.t ..................... ok
t/02moo/role.t ......................... ok
t/02moo/roles-multiple.t ............... ok
t/02moo/trait_array.t .................. ok
t/02moo/trait_bool.t ................... ok
t/02moo/trait_code.t ................... ok
t/02moo/trait_counter.t ................ ok
t/02moo/trait_hash.t ................... ok
t/02moo/trait_number.t ................. ok
t/02moo/trait_string.t ................. ok
t/03moo_mxtt.t ......................... ok
t/03moo_mxtt/role.t .................... ok
t/03moo_mxtt/trait_array.t ............. ok
t/03moo_mxtt/trait_bool.t .............. ok
t/03moo_mxtt/trait_code.t .............. ok
t/03moo_mxtt/trait_counter.t ........... ok
t/03moo_mxtt/trait_hash.t .............. ok
t/03moo_mxtt/trait_number.t ............ ok
t/03moo_mxtt/trait_string.t ............ ok
t/04moose.t ............................ ok
t/04moose/ext_attr.t ................... ok
t/04moose/role.t ....................... ok
t/04moose/roles-multiple.t ............. ok
t/04moose/trait_array.t ................ ok
t/04moose/trait_bool.t ................. ok
t/04moose/trait_code.t ................. ok
t/04moose/trait_counter.t .............. ok
t/04moose/trait_hash.t ................. ok
t/04moose/trait_number.t ............... ok
t/04moose/trait_string.t ............... ok
t/05moose_nativetypes.t ................ ok
t/05moose_nativetypes/role.t ........... ok
t/05moose_nativetypes/trait_array.t .... ok
t/05moose_nativetypes/trait_bool.t ..... ok
t/05moose_nativetypes/trait_code.t ..... ok
t/05moose_nativetypes/trait_counter.t .. ok
t/05moose_nativetypes/trait_hash.t ..... ok
t/05moose_nativetypes/trait_number.t ... ok
t/05moose_nativetypes/trait_string.t ... ok
t/06mouse.t ............................ ok
t/06mouse/ext_attr.t ................... ok
t/06mouse/role.t ....................... ok
t/06mouse/roles-multiple.t ............. skipped: TODO (issue #9)
t/06mouse/trait_array.t ................ ok
t/06mouse/trait_bool.t ................. ok
t/06mouse/trait_code.t ................. ok
t/06mouse/trait_counter.t .............. ok
t/06mouse/trait_hash.t ................. ok
t/06mouse/trait_number.t ............... ok
t/06mouse/trait_string.t ............... ok
t/07mouse_nativetypes.t ................ ok
t/07mouse_nativetypes/role.t ........... ok
t/07mouse_nativetypes/trait_array.t .... ok
t/07mouse_nativetypes/trait_bool.t ..... ok
t/07mouse_nativetypes/trait_code.t ..... ok
t/07mouse_nativetypes/trait_counter.t .. ok
t/07mouse_nativetypes/trait_hash.t ..... ok
t/07mouse_nativetypes/trait_number.t ... ok
t/07mouse_nativetypes/trait_string.t ... ok
t/08classtiny.t ........................ ok
t/09barebones.t ........................ ok
t/10barebones_eagerbuilder.t ........... ok
t/11delegation.t ....................... ok
t/12slotaccess.t ....................... skipped: Test requires module 'MooseX::InsideOut' but it's not found
t/14enum.t ............................. ok
t/15preludes.t ......................... ok
t/16stackqueue.t ....................... ok
t/20moosex_extended.t .................. skipped: test requires MooseX::Extended
t/30egpod/array.t ...................... ok
t/30egpod/bool.t ....................... ok
t/30egpod/code.t ....................... ok
t/30egpod/counter.t .................... ok
t/30egpod/hash.t ....................... ok
t/30egpod/number.t ..................... ok
t/30egpod/scalar.t ..................... ok
t/30egpod/string.t ..................... ok
t/31egpod_dummy.t ...................... ok
t/40mite/00-basic.t .................... ok
t/40mite/01-roles.t .................... ok
t/40mite/array.t ....................... ok
t/40mite/bool.t ........................ ok
t/40mite/code.t ........................ ok
t/40mite/counter.t ..................... ok
t/40mite/hash.t ........................ ok
t/40mite/number.t ...................... ok
t/40mite/scalar.t ...................... ok
t/40mite/string.t ...................... ok
t/50objectpad.t ........................ skipped: Test requires module 'Object::Pad' but it's not found
t/60detect.t ........................... ok
t/61moosemetagubbins.t ................. ok
t/62mousemetagubbins.t ................. ok
t/80beam.t ............................. skipped: Test requires module 'Beam::Wire' but it's not found
t/81mxpa.t ............................. skipped: Test requires module 'MooX::ProtectedAttributes' but it's not found
t/94cmp.t .............................. ok
t/95any.t .............................. ok
t/96foreach.t .......................... ok
t/97pickrandom.t ....................... ok
t/98apply.t ............................ ok
t/99headtail.t ......................... ok
All tests successful.
Files=102, Tests=9740, 21 wallclock secs ( 0.86 usr 0.17 sys + 17.48 cusr 1.79 csys = 20.30 CPU)
Result: PASS
------------------------------
PREREQUISITES
------------------------------
Prerequisite modules loaded:
requires:
Module Need Have
------------------------ -------- --------
Class::Method::Modifiers 0 2.15
Exporter::Shiny 0 1.006002
List::Util 1.54 1.69
perl 5.008001 5.041014
Role::Hooks 0.008 0.008
Role::Tiny 0 2.002004
Type::Tiny 1.004 2.008002
build_requires:
Module Need Have
------------------------ -------- --------
Test::Fatal 0 0.017
Test::More 0.96 1.302214
Test::Requires 0 0.11
Try::Tiny 0 0.32
configure_requires:
Module Need Have
------------------------ -------- --------
ExtUtils::MakeMaker 6.17 7.76
opt_requires:
Module Need Have
------------------------ -------- --------
Sub::Util 0 1.69
opt_build_requires:
Module Need Have
------------------------ -------- --------
Class::Tiny 0 1.008
Moo 0 2.005005
Moose 0 2.2207
! MooseX::Extended 0.22 n/a
MooX::TypeTiny 0 0.002003
Mouse 0 v2.5.11
! Object::Pad 0.70 n/a
------------------------------
ENVIRONMENT AND OTHER CONTEXT
------------------------------
Environment variables:
AUTOMATED_TESTING = 1
DATE_MANIP_TEST_DM5 = 1
LC_ALL = C
NONINTERACTIVE_TESTING = 1
NO_NETWORK_TESTING = 1
PATH = /home/cpan/bin/perl/bin:/home/cpan/bin:/sbin:/bin:/usr/sbin:/usr/bin:/usr/games:/usr/local/sbin:/usr/local/bin:/home/cpan/bin
PERL5LIB =
PERL5OPT =
PERL5_CPANPLUS_IS_RUNNING = 50207
PERL5_CPAN_IS_RUNNING = 50207
PERL_MM_USE_DEFAULT = 1
PERL_USE_UNSAFE_INC = 1
SHELL = /usr/local/bin/bash
TERM = screen
TMPDIR = /home/cpan/tmp
Perl special variables (and OS-specific diagnostics, for MSWin32):
$^X = /usr/home/cpan/bin/perl/bin/perl5.41.14
$UID/$EUID = 1002 / 1002
$GID = 1002 1002
$EGID = 1002 1002
Perl module toolchain versions installed:
Module Have
------------------- --------
CPAN 2.38
CPAN::Meta 2.150010
Cwd 3.94
ExtUtils::CBuilder 0.280241
ExtUtils::Command 7.76
ExtUtils::Install 2.22
ExtUtils::MakeMaker 7.76
ExtUtils::Manifest 1.75
ExtUtils::ParseXS 3.57
File::Spec 3.94
JSON 4.10
JSON::PP 4.16
Module::Build 0.4234
Module::Signature 0.90
Parse::CPAN::Meta 2.150010
Test2 1.302214
Test::Harness 3.50
Test::More 1.302214
YAML 1.31
YAML::Syck 1.34
version 0.9933
--
Summary of my perl5 (revision 5 version 41 subversion 14) configuration:
Commit id: 8c71d4a0b542607dbfe67a67fc2fee44f2452d5d
Platform:
osname=midnightbsd
osvers=3.2.1
archname=amd64-midnightbsd
uname='midnightbsd cjg-midnightbsd3 3.2.1 midnightbsd 3.2.1 #15n13132-0869ed7092(stable3.2)-dirty: wed nov 6 12:53:25 est 2024 root@m3264:usrobjusrsrcamd64.amd64sysgeneric amd64 '
config_args='-des -Dprefix=/home/cpan/bin/perl -Dscriptdir=/home/cpan/bin/perl/bin -Dusedevel -Duse64bitall'
hint=recommended
useposix=true
d_sigaction=define
useithreads=undef
usemultiplicity=undef
use64bitint=define
use64bitall=define
uselongdouble=undef
usemymalloc=n
default_inc_excludes_dot=define
Compiler:
cc='cc'
ccflags ='-DHAS_FPSETMASK -DHAS_FLOATINGPOINT_H -fno-strict-aliasing -pipe -fstack-protector-strong -I/usr/local/include'
optimize='-O'
cppflags='-DHAS_FPSETMASK -DHAS_FLOATINGPOINT_H -fno-strict-aliasing -pipe -fstack-protector-strong -I/usr/local/include'
ccversion=''
gccversion='MidnightBSD Clang 13.0.0 (git@github.com:llvm/llvm-project.git llvmorg-13.0.0-0-gd7b669b3a303)'
gccosandvers=''
intsize=4
longsize=8
ptrsize=8
doublesize=8
byteorder=12345678
doublekind=3
d_longlong=define
longlongsize=8
d_longdbl=define
longdblsize=16
longdblkind=3
ivtype='long'
ivsize=8
nvtype='double'
nvsize=8
Off_t='off_t'
lseeksize=8
alignbytes=8
prototype=define
Linker and Libraries:
ld='cc'
ldflags ='-Wl,-E -fstack-protector-strong -L/usr/local/lib'
libpth=/usr/lib /usr/local/lib /usr/lib/clang/13.0.0/lib
libs=-lpthread -lgdbm -ldl -lm -lcrypt -lutil -lc
perllibs=-lpthread -ldl -lm -lcrypt -lutil -lc
libc=
so=so
useshrplib=false
libperl=libperl.a
gnulibc_version=''
Dynamic Linking:
dlsrc=dl_dlopen.xs
dlext=so
d_dlsymun=undef
ccdlflags=' '
cccdlflags='-DPIC -fPIC'
lddlflags='-shared -L/usr/local/lib -fstack-protector-strong'
Characteristics of this binary (from libperl):
Compile-time options:
HAS_LONG_DOUBLE
HAS_STRTOLD
HAS_TIMES
PERLIO_LAYERS
PERL_COPY_ON_WRITE
PERL_DONT_CREATE_GVSV
PERL_HASH_FUNC_SIPHASH13
PERL_HASH_USE_SBOX32
PERL_MALLOC_WRAP
PERL_OP_PARENT
PERL_PRESERVE_IVUV
PERL_USE_DEVEL
PERL_USE_SAFE_PUTENV
USE_64_BIT_ALL
USE_64_BIT_INT
USE_LARGE_FILES
USE_LOCALE
USE_LOCALE_COLLATE
USE_LOCALE_CTYPE
USE_LOCALE_NUMERIC
USE_LOCALE_TIME
USE_PERLIO
USE_PERL_ATOF
Built under midnightbsd
Compiled at Jun 16 2025 02:07:12
%ENV:
PERL5LIB=""
PERL5OPT=""
PERL5_CPANPLUS_IS_RUNNING="50207"
PERL5_CPAN_IS_RUNNING="50207"
PERL_MM_USE_DEFAULT="1"
PERL_USE_UNSAFE_INC="1"
@INC:
/home/cpan/bin/perl/lib/site_perl/5.41.14/amd64-midnightbsd
/home/cpan/bin/perl/lib/site_perl/5.41.14
/home/cpan/bin/perl/lib/5.41.14/amd64-midnightbsd
/home/cpan/bin/perl/lib/5.41.14
.