App-Codeowners v0.46 Perl 5 v5.20.3 i86pc-solaris

Status
Pass
From
Nigel Horne
Dist
App-Codeowners v0.46
Platform
Perl 5 v5.20.3 i86pc-solaris
Date
2019-11-17 09:27:51
ID
86c06a7e-091c-11ea-9ead-f71706c4f5d0
This distribution has been tested as part of the CPAN Testers
project, supporting the Perl programming language.  See
http://wiki.cpantesters.org/ for more information or email
questions to cpan-testers-discuss@perl.org


--
Dear Charles McGarvey,

This is a computer-generated report for App-Codeowners-0.46
on perl 5.20.3, created by CPAN-Reporter-1.2018.

Thank you for uploading your work to CPAN.  Congratulations!
All tests were successful.

Sections of this report:

    * Tester comments
    * Program output
    * Prerequisites
    * Environment and other context

------------------------------
TESTER COMMENTS
------------------------------

Additional comments from tester:

this report is from an automated smoke testing program
and was not reviewed by a human for accuracy

------------------------------
PROGRAM OUTPUT
------------------------------

Output from '/usr/bin/make test':

PERL_DL_NONLAZY=1 /export/home/njh/perl5/perlbrew/perls/perl-5.20.3/bin/perl "-MExtUtils::Command::MM" "-MTest::Harness" "-e" "undef *Test::Harness::Switches; test_harness(0, 'blib/lib', 'blib/arch')" t/*.t
t/00-compile.t ........... ok
# 
# Versions for all modules listed in MYMETA.json (including optional ones):
# 
# === Configure Requires ===
# 
#     Module              Want Have
#     ------------------- ---- ----
#     ExtUtils::MakeMaker  any 6.98
# 
# === Build Requires ===
# 
#     Module              Want Have
#     ------------------- ---- ----
#     ExtUtils::MakeMaker  any 6.98
# 
# === Test Requires ===
# 
#     Module              Want     Have
#     ------------------- ---- --------
#     Capture::Tiny        any     0.48
#     ExtUtils::MakeMaker  any     6.98
#     File::Spec           any     3.75
#     File::pushd          any    1.016
#     FindBin              any     1.51
#     IO::Handle           any     1.35
#     IPC::Open3           any     1.16
#     Test::Exit           any     0.11
#     Test::More           any 1.302140
# 
# === Test Recommends ===
# 
#     Module         Want     Have
#     ---------- -------- --------
#     CPAN::Meta 2.120900 2.150010
# 
# === Runtime Requires ===
# 
#     Module             Want     Have
#     ----------------- ----- --------
#     Carp                any     1.50
#     Color::ANSI::Util  0.03    0.163
#     Encode              any     2.60
#     Exporter            any     5.71
#     Getopt::Long       2.39     2.51
#     IPC::Open2          any     1.04
#     Module::Load        any     0.32
#     Path::Tiny        0.089    0.108
#     Scalar::Util        any     1.52
#     Test::Builder       any 1.302140
#     Text::Gitignore     any     0.02
#     parent              any    0.228
#     strict              any     1.08
#     utf8                any  1.13_01
#     warnings            any     1.23
# 
# === Runtime Recommends ===
# 
#     Module                 Want    Have
#     ---------------------- ---- -------
#     Pod::Usage              any    1.69
#     Term::Detect::Software  any missing
#     Unicode::GCString       any missing
# 
# === Runtime Suggests ===
# 
#     Module           Want     Have
#     ---------------- ---- --------
#     JSON::MaybeXS     any 1.004000
#     Text::CSV         any     2.00
#     Text::Table::Any  any  missing
#     YAML              any     1.29
# 
t/00-report-prereqs.t .... ok
t/app-codeowners-util.t .. ok
t/app-codeowners.t ....... ok
t/file-codeowners.t ...... ok
All tests successful.
Files=5, Tests=27,  2 wallclock secs ( 0.05 usr  0.02 sys +  1.36 cusr  0.51 csys =  1.94 CPU)
Result: PASS

------------------------------
PREREQUISITES
------------------------------

Prerequisite modules loaded:

requires:

    Module              Need     Have    
    ------------------- -------- --------
    Carp                0        1.50    
    Color::ANSI::Util   0.03     0.163   
    Encode              0        2.60    
    Exporter            0        5.71    
    Getopt::Long        2.39     2.51    
    IPC::Open2          0        1.04    
    Module::Load        0        0.32    
    parent              0        0.228   
    Path::Tiny          0.089    0.108   
    perl                5.010001 5.020003
    Scalar::Util        0        1.52    
    strict              0        1.08    
    Test::Builder       0        1.302140
    Text::Gitignore     0        0.02    
    utf8                0        1.13_01 
    warnings            0        1.23    

build_requires:

    Module              Need     Have    
    ------------------- -------- --------
    Capture::Tiny       0        0.48    
    ExtUtils::MakeMaker 0        6.98    
    File::pushd         0        1.016   
    File::Spec          0        3.75    
    FindBin             0        1.51    
    IO::Handle          0        1.35    
    IPC::Open3          0        1.16    
    Test::Exit          0        0.11    
    Test::More          0        1.302140

configure_requires:

    Module              Need     Have    
    ------------------- -------- --------
    ExtUtils::MakeMaker 0        6.98    


------------------------------
ENVIRONMENT AND OTHER CONTEXT
------------------------------

Environment variables:

    AUTOMATED_TESTING = 1
    NONINTERACTIVE_TESTING = 1
    PATH = /export/home/njh/perl5/perlbrew/bin:/export/home/njh/perl5/perlbrew/perls/perl-5.20.3/bin:/export/home/njh/src/njh/smoker/bin:/usr/bin
    PERL5LIB = /export/home/njh/.cpan/build/Text-Gitignore-0.02-0/blib/arch:/export/home/njh/.cpan/build/Text-Gitignore-0.02-0/blib/lib:/export/home/njh/.cpan/build/Test-Exit-0.11-0/blib/arch:/export/home/njh/.cpan/build/Test-Exit-0.11-0/blib/lib:/export/home/njh/.cpan/build/Return-MultiLevel-0.05-0/blib/arch:/export/home/njh/.cpan/build/Return-MultiLevel-0.05-0/blib/lib:/export/home/njh/.cpan/build/Data-Munge-0.097-0/blib/arch:/export/home/njh/.cpan/build/Data-Munge-0.097-0/blib/lib:/export/home/njh/.cpan/build/Color-ANSI-Util-0.163-0/blib/arch:/export/home/njh/.cpan/build/Color-ANSI-Util-0.163-0/blib/lib:/export/home/njh/.cpan/build/Color-RGB-Util-0.599-0/blib/arch:/export/home/njh/.cpan/build/Color-RGB-Util-0.599-0/blib/lib:/export/home/njh/.cpan/build/Test-RandomResult-0.001-0/blib/arch:/export/home/njh/.cpan/build/Test-RandomResult-0.001-0/blib/lib
    PERL5OPT = 
    PERL5_CPANPLUS_IS_RUNNING = 11257
    PERL5_CPAN_IS_RUNNING = 11257
    PERL5_CPAN_IS_RUNNING_IN_RECURSION = 11239,11257
    PERLBREW_HOME = /export/home/njh/.perlbrew
    PERLBREW_MANPATH = /export/home/njh/perl5/perlbrew/perls/perl-5.20.3/man
    PERLBREW_PATH = /export/home/njh/perl5/perlbrew/bin:/export/home/njh/perl5/perlbrew/perls/perl-5.20.3/bin
    PERLBREW_PERL = perl-5.20.3
    PERLBREW_ROOT = /export/home/njh/perl5/perlbrew
    PERLBREW_SHELLRC_VERSION = 0.87
    PERLBREW_VERSION = 0.87
    PERL_MM_USE_DEFAULT = 1
    PERL_USE_UNSAFE_INC = 1
    SHELL = /usr/bin/bash
    TERM = dumb
    TMPDIR = /tmp/testwrapper.11243

Perl special variables (and OS-specific diagnostics, for MSWin32):

    $^X = /export/home/njh/perl5/perlbrew/perls/perl-5.20.3/bin/perl
    $UID/$EUID = 101 / 101
    $GID = 10 10
    $EGID = 10 10

Perl module toolchain versions installed:

    Module              Have    
    ------------------- --------
    CPAN                2.26    
    CPAN::Meta          2.150010
    Cwd                 3.75    
    ExtUtils::CBuilder  0.280217
    ExtUtils::Command   1.18    
    ExtUtils::Install   1.67    
    ExtUtils::MakeMaker 6.98    
    ExtUtils::Manifest  1.63    
    ExtUtils::ParseXS   3.24    
    File::Spec          3.75    
    JSON                4.02    
    JSON::PP            4.03    
    Module::Build       0.4224  
    Module::Signature   n/a     
    Parse::CPAN::Meta   2.150010
    Test::Harness       3.42    
    Test::More          1.302140
    YAML                1.29    
    YAML::Syck          1.31    
    version             0.9909  


--

Summary of my perl5 (revision 5 version 20 subversion 3) configuration:
   
  Platform:
    osname=solaris, osvers=2.11, archname=i86pc-solaris
    uname='sunos vultr1.bandsman.co.uk 5.11 illumos-b075503f22 i86pc i386 i86pc '
    config_args='-de -Dprefix=/export/home/njh/perl5/perlbrew/perls/perl-5.20.3 -Accflags=-O2 -xstrconst -D__EXTENSIONS__ -Aeval:scriptdir=/export/home/njh/perl5/perlbrew/perls/perl-5.20.3/bin'
    hint=recommended, useposix=true, d_sigaction=define
    useithreads=undef, usemultiplicity=undef
    use64bitint=undef, use64bitall=undef, uselongdouble=undef
    usemymalloc=n, bincompat5005=undef
  Compiler:
    cc='/opt/SUNWspro/bin/cc', ccflags ='-O2 -xstrconst -D__EXTENSIONS__ -I/usr/gnu/include -D_LARGEFILE_SOURCE -D_FILE_OFFSET_BITS=64 -DPERL_USE_SAFE_PUTENV',
    optimize='-O',
    cppflags='-O2 -xstrconst -D__EXTENSIONS__ -I/usr/gnu/include'
    ccversion='Sun C 5.10 SunOS_i386 2009/06/03', gccversion='', gccosandvers=''
    intsize=4, longsize=4, ptrsize=4, doublesize=8, byteorder=1234
    d_longlong=define, longlongsize=8, d_longdbl=define, longdblsize=12
    ivtype='long', ivsize=4, nvtype='double', nvsize=8, Off_t='off_t', lseeksize=8
    alignbytes=4, prototype=define
  Linker and Libraries:
    ld='/opt/SUNWspro/bin/cc', ldflags =' -L/usr/lib -L/usr/ccs/lib -L/opt/sunstudio12.1/prod/lib -L/lib -L/usr/gnu/lib '
    libpth=/usr/lib /usr/ccs/lib /opt/sunstudio12.1/prod/lib /lib /usr/gnu/lib
    libs=-lpthread -lsocket -lnsl -lgdbm -ldb -ldl -lm -lc
    perllibs=-lpthread -lsocket -lnsl -ldl -lm -lc
    libc=/lib/libc.so, so=so, useshrplib=true, libperl=libperl.so
    gnulibc_version=''
  Dynamic Linking:
    dlsrc=dl_dlopen.xs, dlext=so, d_dlsymun=undef, ccdlflags='  -R /export/home/njh/perl5/perlbrew/perls/perl-5.20.3/lib/5.20.3/i86pc-solaris/CORE'
    cccdlflags='-KPIC', lddlflags='-G -L/usr/lib -L/usr/ccs/lib -L/opt/sunstudio12.1/prod/lib -L/lib -L/usr/gnu/lib'


Characteristics of this binary (from libperl): 
  Compile-time options: HAS_TIMES PERLIO_LAYERS PERL_DONT_CREATE_GVSV
                        PERL_HASH_FUNC_ONE_AT_A_TIME_HARD PERL_MALLOC_WRAP
                        PERL_NEW_COPY_ON_WRITE PERL_PRESERVE_IVUV
                        PERL_USE_SAFE_PUTENV USE_LARGE_FILES USE_LOCALE
                        USE_LOCALE_COLLATE USE_LOCALE_CTYPE
                        USE_LOCALE_NUMERIC USE_PERLIO USE_PERL_ATOF
  Locally applied patches:
	Devel::PatchPerl 1.52
  Built under solaris
  Compiled at Sep 11 2018 11:45:12
  %ENV:
    PERL5LIB="/export/home/njh/.cpan/build/Text-Gitignore-0.02-0/blib/arch:/export/home/njh/.cpan/build/Text-Gitignore-0.02-0/blib/lib:/export/home/njh/.cpan/build/Test-Exit-0.11-0/blib/arch:/export/home/njh/.cpan/build/Test-Exit-0.11-0/blib/lib:/export/home/njh/.cpan/build/Return-MultiLevel-0.05-0/blib/arch:/export/home/njh/.cpan/build/Return-MultiLevel-0.05-0/blib/lib:/export/home/njh/.cpan/build/Data-Munge-0.097-0/blib/arch:/export/home/njh/.cpan/build/Data-Munge-0.097-0/blib/lib:/export/home/njh/.cpan/build/Color-ANSI-Util-0.163-0/blib/arch:/export/home/njh/.cpan/build/Color-ANSI-Util-0.163-0/blib/lib:/export/home/njh/.cpan/build/Color-RGB-Util-0.599-0/blib/arch:/export/home/njh/.cpan/build/Color-RGB-Util-0.599-0/blib/lib:/export/home/njh/.cpan/build/Test-RandomResult-0.001-0/blib/arch:/export/home/njh/.cpan/build/Test-RandomResult-0.001-0/blib/lib"
    PERL5OPT=""
    PERL5_CPANPLUS_IS_RUNNING="11257"
    PERL5_CPAN_IS_RUNNING="11257"
    PERL5_CPAN_IS_RUNNING_IN_RECURSION="11239,11257"
    PERLBREW_HOME="/export/home/njh/.perlbrew"
    PERLBREW_MANPATH="/export/home/njh/perl5/perlbrew/perls/perl-5.20.3/man"
    PERLBREW_PATH="/export/home/njh/perl5/perlbrew/bin:/export/home/njh/perl5/perlbrew/perls/perl-5.20.3/bin"
    PERLBREW_PERL="perl-5.20.3"
    PERLBREW_ROOT="/export/home/njh/perl5/perlbrew"
    PERLBREW_SHELLRC_VERSION="0.87"
    PERLBREW_VERSION="0.87"
    PERL_MM_USE_DEFAULT="1"
    PERL_USE_UNSAFE_INC="1"
  @INC:
    /export/home/njh/.cpan/build/Text-Gitignore-0.02-0/blib/arch
    /export/home/njh/.cpan/build/Text-Gitignore-0.02-0/blib/lib
    /export/home/njh/.cpan/build/Test-Exit-0.11-0/blib/arch
    /export/home/njh/.cpan/build/Test-Exit-0.11-0/blib/lib
    /export/home/njh/.cpan/build/Return-MultiLevel-0.05-0/blib/arch
    /export/home/njh/.cpan/build/Return-MultiLevel-0.05-0/blib/lib
    /export/home/njh/.cpan/build/Data-Munge-0.097-0/blib/arch
    /export/home/njh/.cpan/build/Data-Munge-0.097-0/blib/lib
    /export/home/njh/.cpan/build/Color-ANSI-Util-0.163-0/blib/arch
    /export/home/njh/.cpan/build/Color-ANSI-Util-0.163-0/blib/lib
    /export/home/njh/.cpan/build/Color-RGB-Util-0.599-0/blib/arch
    /export/home/njh/.cpan/build/Color-RGB-Util-0.599-0/blib/lib
    /export/home/njh/.cpan/build/Test-RandomResult-0.001-0/blib/arch
    /export/home/njh/.cpan/build/Test-RandomResult-0.001-0/blib/lib
    /export/home/njh/perl5/perlbrew/perls/perl-5.20.3/lib/site_perl/5.20.3/i86pc-solaris
    /export/home/njh/perl5/perlbrew/perls/perl-5.20.3/lib/site_perl/5.20.3
    /export/home/njh/perl5/perlbrew/perls/perl-5.20.3/lib/5.20.3/i86pc-solaris
    /export/home/njh/perl5/perlbrew/perls/perl-5.20.3/lib/5.20.3
    .