Math-GSL v0.40 Perl 5 v5.30.1 x86_64-linux-thread-multi-ld
- Status
- Pass
- From
- Andreas J. König (ANDK)
- Dist
-
Math-GSL v0.40
- Platform
- Perl 5 v5.30.1 x86_64-linux-thread-multi-ld
- Date
- 2019-12-03 10:41:56
- ID
- 86ce03ba-15b9-11ea-bb3e-f2b83d2c5c35
This distribution has been tested as part of the CPAN Testers
project, supporting the Perl programming language. See
http://wiki.cpantesters.org/ for more information or email
questions to cpan-testers-discuss@perl.org
--
Dear Jonathan Leto,
This is a computer-generated report for Math-GSL-0.40
on perl 5.30.1, created by CPAN-Reporter-1.2018.
Thank you for uploading your work to CPAN. Congratulations!
All tests were successful.
Sections of this report:
* Tester comments
* Program output
* Prerequisites
* Environment and other context
------------------------------
TESTER COMMENTS
------------------------------
Additional comments from tester:
this report is from an automated smoke testing program
and was not reviewed by a human for accuracy
------------------------------
PROGRAM OUTPUT
------------------------------
Output from './Build test':
Processing 2.5 XS files, GSL 2.5 (via gsl-config) at /usr
Compiler = cc (Debian 9.2.1-19) 9.2.1 20191109
Copyright (C) 2019 Free Software Foundation, Inc.
This is free software; see the source for copying conditions. There is NO
warranty; not even for MERCHANTABILITY or FITNESS FOR A PARTICULAR PURPOSE.
ccflags = -fPIC -I/usr/include -D_REENTRANT -D_GNU_SOURCE -fwrapv -fno-strict-aliasing -pipe -fstack-protector-strong -I/usr/local/include -D_LARGEFILE_SOURCE -D_FILE_OFFSET_BITS=64 -D_FORTIFY_SOURCE=2 -Wall -Wno-sometimes-uninitialized -Wno-unused-function -Wno-unused-value -Wno-unused-function -Wno-unused-variable -Wno-gnu -g -fPIC -fno-omit-frame-pointer -I/usr/include
ldflags = -shared -L/usr/lib/x86_64-linux-gnu -lgsl -lgslcblas -lm -fPIC -fno-omit-frame-pointer
PERL5LIB =
LD_LIBRARY_PATH =
# Testing Math::GSL 0.40 with GSL 2.5 on x86_64-linux-thread-multi-ld, Perl (/home/sand/src/perl/repoperls/installed-perls/host/k93msid/v5.30.1/8854/bin/perl) 5.030001
t/00-load.t ........ ok
t/BLAS.t ........... ok
t/BSpline.t ........ ok
t/CBLAS.t .......... ok
t/CDF.t ............ ok
t/Chebyshev.t ...... ok
t/Combination.t .... ok
t/Complex.t ........ ok
t/Const.t .......... ok
t/DHT.t ............ ok
t/Deriv.t .......... ok
t/Diff.t ........... ok
t/Eigen.t .......... ok
t/Errno.t .......... ok
t/FFT.t ............ ok
t/Fit.t ............ ok
#
# Elements start differing at index 2, delta = 9.99999999998398004e-08
# $x->[2] = 3.0010001
# $y->[2] = 3.0010002
#
# Elements start differing at index 2, delta = 0.00100000000000000002
# $x->[2] = 3
# $y->[2] = 3.001
t/GSL.t ............ ok
t/Heapsort.t ....... ok
t/Histogram.t ...... ok
t/Histogram2D.t .... ok
t/IEEEUtils.t ...... ok
t/Integration.t .... ok
t/Interp.t ......... ok
t/Linalg.t ......... ok
t/Machine.t ........ ok
#
# Elements start differing at index 1, delta = 1
# $x->[1] = 3
# $y->[1] = 2
t/Matrix.t ......... ok
#
# Elements start differing at index 1, delta = 1
# $x->[1] = 3
# $y->[1] = 4
#
# Elements start differing at index 1, delta = 1
# $x->[1] = 3
# $y->[1] = 2
t/MatrixComplex.t .. ok
t/Min.t ............ ok
t/Monte.t .......... ok
t/Multifit.t ....... ok
t/Multilarge.t ..... ok
t/Multimin.t ....... ok
t/Multiroots.t ..... ok
t/Multiset.t ....... ok
This is the end at t/NTuple.t line 14.
t/NTuple.t ......... ok
t/ODEIV.t .......... ok
t/Permutation.t .... ok
t/Poly.t ........... ok
t/PowInt.t ......... ok
t/QRNG.t ........... ok
t/RNG.t ............ ok
t/Randist.t ........ ok
t/Roots.t .......... ok
t/Rstat.t .......... ok
# GSL version=2.5
# result->err: 2.21777808290172659e-19
# result->val: 0.99995460213129761
t/SF.t ............. ok
t/Siman.t .......... ok
t/Sort.t ........... ok
t/SparseMatrix.t ... ok
t/Spline.t ......... ok
t/Statistics.t ..... ok
t/Sum.t ............ ok
t/Sys.t ............ ok
#
# Elements start differing at index 0, delta = 9
# $x->[0] = 1
# $y->[0] = 10
#
# Elements start differing at index 0, delta = 9
# $x->[0] = 1
# $y->[0] = 10
t/Vector.t ......... ok
t/VectorComplex.t .. ok
t/Wavelet.t ........ ok
t/Wavelet2D.t ...... ok
All tests successful.
Files=56, Tests=4177, 14 wallclock secs ( 0.31 usr 0.25 sys + 6.49 cusr 1.43 csys = 8.48 CPU)
Result: PASS
------------------------------
PREREQUISITES
------------------------------
Prerequisite modules loaded:
requires:
Module Need Have
--------------- ------- --------
Math::Complex 0 1.5901
parent 0 0.237
perl v5.8.1 5.030001
Scalar::Util 0 1.50
version 0.77 0.9924
build_requires:
Module Need Have
--------------- ------- --------
Test::Class 0.12 0.50
Test::Exception 0.21 0.43
Test::More 0 1.302169
Test::Most 0.31 0.35
Test::Taint 1.06 1.08
configure_requires:
Module Need Have
--------------- ------- --------
Alien::GSL 1.01 1.01
Module::Build 0.38 0.4229
PkgConfig 0.07720 0.23026
------------------------------
ENVIRONMENT AND OTHER CONTEXT
------------------------------
Environment variables:
AUTOMATED_TESTING = 1
LANG = en_US.UTF-8
PATH = /home/sand/bin:/usr/local/bin:/usr/bin:/bin:/usr/games:/usr/local/perl/bin:/usr/X11/bin:/sbin:/usr/sbin
PERL5LIB =
PERL5OPT =
PERL5_CPANPLUS_IS_RUNNING = 325168
PERL5_CPAN_IS_RUNNING = 325168
PERL_CANARY_STABILITY_NOPROMPT = 1
PERL_MM_USE_DEFAULT = 1
PERL_USE_UNSAFE_INC = 1
SHELL = /usr/bin/zsh
TERM = screen
Perl special variables (and OS-specific diagnostics, for MSWin32):
$^X = /home/sand/src/perl/repoperls/installed-perls/host/k93msid/v5.30.1/8854/bin/perl
$UID/$EUID = 1005 / 1005
$GID = 1005 1005
$EGID = 1005 1005
Perl module toolchain versions installed:
Module Have
------------------- --------
CPAN 2.27
CPAN::Meta 2.150010
Cwd 3.78
ExtUtils::CBuilder 0.280231
ExtUtils::Command 7.38
ExtUtils::Install 2.14
ExtUtils::MakeMaker 7.38
ExtUtils::Manifest 1.72
ExtUtils::ParseXS 3.40
File::Spec 3.78
JSON 4.02
JSON::PP 4.02
Module::Build 0.4229
Module::Signature 0.83
Parse::CPAN::Meta 2.150010
Test::Harness 3.42
Test::More 1.302169
YAML 1.29
YAML::Syck 1.31
version 0.9924
--
Summary of my perl5 (revision 5 version 30 subversion 1) configuration:
Derived from: 92dc8555fd2841214d65c8e754898f4079ec46bf
Platform:
osname=linux
osvers=5.3.0-2-amd64
archname=x86_64-linux-thread-multi-ld
uname='linux k93msid 5.3.0-2-amd64 #1 smp debian 5.3.9-3 (2019-11-19) x86_64 gnulinux '
config_args='-Dprefix=/home/sand/src/perl/repoperls/installed-perls/host/k93msid/v5.30.1/8854 -Dmyhostname=k93msid -Dinstallusrbinperl=n -Uversiononly -Dusedevel -des -Ui_db -Dlibswanted=cl pthread socket inet nsl gdbm dbm malloc dl ld sun m crypt sec util c cposix posix ucb BSD gdbm_compat -Duseithreads -Duselongdouble -DEBUGGING=-g'
hint=recommended
useposix=true
d_sigaction=define
useithreads=define
usemultiplicity=define
use64bitint=define
use64bitall=define
uselongdouble=define
usemymalloc=n
default_inc_excludes_dot=define
bincompat5005=undef
Compiler:
cc='cc'
ccflags ='-D_REENTRANT -D_GNU_SOURCE -fwrapv -fno-strict-aliasing -pipe -fstack-protector-strong -I/usr/local/include -D_LARGEFILE_SOURCE -D_FILE_OFFSET_BITS=64 -D_FORTIFY_SOURCE=2'
optimize='-O2 -g'
cppflags='-D_REENTRANT -D_GNU_SOURCE -fwrapv -fno-strict-aliasing -pipe -fstack-protector-strong -I/usr/local/include'
ccversion=''
gccversion='9.2.1 20191109'
gccosandvers=''
intsize=4
longsize=8
ptrsize=8
doublesize=8
byteorder=12345678
doublekind=3
d_longlong=define
longlongsize=8
d_longdbl=define
longdblsize=16
longdblkind=3
ivtype='long'
ivsize=8
nvtype='long double'
nvsize=16
Off_t='off_t'
lseeksize=8
alignbytes=16
prototype=define
Linker and Libraries:
ld='cc'
ldflags =' -fstack-protector-strong -L/usr/local/lib'
libpth=/usr/local/lib /usr/lib/gcc/x86_64-linux-gnu/9/include-fixed /usr/include/x86_64-linux-gnu /usr/lib /lib/x86_64-linux-gnu /lib/../lib /usr/lib/x86_64-linux-gnu /usr/lib/../lib /lib
libs=-lpthread -lnsl -ldl -lm -lcrypt -lutil -lc
perllibs=-lpthread -lnsl -ldl -lm -lcrypt -lutil -lc
libc=libc-2.29.so
so=so
useshrplib=false
libperl=libperl.a
gnulibc_version='2.29'
Dynamic Linking:
dlsrc=dl_dlopen.xs
dlext=so
d_dlsymun=undef
ccdlflags='-Wl,-E'
cccdlflags='-fPIC'
lddlflags='-shared -O2 -g -L/usr/local/lib -fstack-protector-strong'
Characteristics of this binary (from libperl):
Compile-time options:
HAS_TIMES
MULTIPLICITY
PERLIO_LAYERS
PERL_COPY_ON_WRITE
PERL_DONT_CREATE_GVSV
PERL_IMPLICIT_CONTEXT
PERL_MALLOC_WRAP
PERL_OP_PARENT
PERL_PRESERVE_IVUV
PERL_USE_DEVEL
USE_64_BIT_ALL
USE_64_BIT_INT
USE_ITHREADS
USE_LARGE_FILES
USE_LOCALE
USE_LOCALE_COLLATE
USE_LOCALE_CTYPE
USE_LOCALE_NUMERIC
USE_LOCALE_TIME
USE_LONG_DOUBLE
USE_PERLIO
USE_PERL_ATOF
USE_REENTRANT_API
USE_THREAD_SAFE_LOCALE
Locally applied patches:
uncommitted-changes
Built under linux
Compiled at Nov 22 2019 20:01:23
%ENV:
PERL5LIB=""
PERL5OPT=""
PERL5_CPANPLUS_IS_RUNNING="325168"
PERL5_CPAN_IS_RUNNING="325168"
PERL_CANARY_STABILITY_NOPROMPT="1"
PERL_MM_USE_DEFAULT="1"
PERL_USE_UNSAFE_INC="1"
@INC:
/home/sand/src/perl/repoperls/installed-perls/host/k93msid/v5.30.1/8854/lib/site_perl/5.30.1/x86_64-linux-thread-multi-ld
/home/sand/src/perl/repoperls/installed-perls/host/k93msid/v5.30.1/8854/lib/site_perl/5.30.1
/home/sand/src/perl/repoperls/installed-perls/host/k93msid/v5.30.1/8854/lib/5.30.1/x86_64-linux-thread-multi-ld
/home/sand/src/perl/repoperls/installed-perls/host/k93msid/v5.30.1/8854/lib/5.30.1
.