Carp-Parse-Redact v1.1.5 Perl 5 v5.27.3 x86_64-linux

Status
Pass
From
Andreas J. König (ANDK)
Dist
Carp-Parse-Redact v1.1.5
Platform
Perl 5 v5.27.3 x86_64-linux
Date
2017-11-13 20:30:45
ID
8711bcec-c8b1-11e7-826e-d5efb56a4d24
This distribution has been tested as part of the CPAN Testers
project, supporting the Perl programming language.  See
http://wiki.cpantesters.org/ for more information or email
questions to cpan-testers-discuss@perl.org


--
Dear Katherine Kirby,

This is a computer-generated report for Carp-Parse-Redact-1.1.5
on perl 5.27.3, created by CPAN-Reporter-1.2018.

Thank you for uploading your work to CPAN.  Congratulations!
All tests were successful.

Sections of this report:

    * Tester comments
    * Program output
    * Prerequisites
    * Environment and other context

------------------------------
TESTER COMMENTS
------------------------------

Additional comments from tester:

this report is from an automated smoke testing program
and was not reviewed by a human for accuracy

------------------------------
PROGRAM OUTPUT
------------------------------

Output from '/usr/bin/make test':

PERL_DL_NONLAZY=1 "/home/sand/src/perl/repoperls/installed-perls/host/k93msid/v5.27.3/d2d1/bin/perl" "-MExtUtils::Command::MM" "-MTest::Harness" "-e" "undef *Test::Harness::Switches; test_harness(0, 'blib/lib', 'blib/arch')" t/*.t t/CallerInformation-Redacted/*.t
# Carp::Parse::Redact 1.1.5, Perl 5.027003, /home/sand/src/perl/repoperls/installed-perls/host/k93msid/v5.27.3/d2d1/bin/perl
t/00-load.t .......................................................... ok
t/10-parse_stack_trace.t ............................................. ok
t/11-parse_stack_trace-regexp.t ...................................... ok
t/12-parse_stack_trace-indentation.t ................................. ok
# Carp::Parse::CallerInformation::Redacted 1.1.5, Perl 5.027003, /home/sand/src/perl/repoperls/installed-perls/host/k93msid/v5.27.3/d2d1/bin/perl
t/CallerInformation-Redacted/00-load.t ............................... ok
t/CallerInformation-Redacted/10-new.t ................................ ok
t/CallerInformation-Redacted/20-get_line.t ........................... ok
t/CallerInformation-Redacted/30-get_arguments_string.t ............... ok
t/CallerInformation-Redacted/40-get_arguments_list.t ................. ok
t/CallerInformation-Redacted/45-get_redacted_arguments_list.t ........ ok
t/CallerInformation-Redacted/50-get_redacted_line.t .................. ok
t/CallerInformation-Redacted/51-get_redacted_line-single_argument.t .. ok
t/manifest.t ......................................................... skipped: Author tests not required for installation
t/module_versions.t .................................................. skipped: Test::Dist::VersionSync 1.0.0 required for testing module versions in the distribution.
t/perlcritic.t ....................................................... skipped: Author tests not required for installation.
t/pod-coverage.t ..................................................... ok
t/pod.t .............................................................. ok
All tests successful.
Files=17, Tests=25,  8 wallclock secs ( 0.03 usr  0.11 sys +  1.42 cusr  0.32 csys =  1.88 CPU)
Result: PASS

------------------------------
PREREQUISITES
------------------------------

Prerequisite modules loaded:

requires:

    Module               Need Have    
    -------------------- ---- --------
    Carp                 0    1.43    
    Carp::Parse          0    1.0.7   
    Data::Dump           0    1.23    
    Data::Validate::Type 0    1.6.0   
    Test::Deep           0    1.127   
    Test::Exception      0    0.43    
    Test::More           0    1.302106

build_requires:

    Module               Need Have    
    -------------------- ---- --------
    ExtUtils::MakeMaker  0    7.30    

configure_requires:

    Module               Need Have    
    -------------------- ---- --------
    Module::Build        0.40 0.4224  


------------------------------
ENVIRONMENT AND OTHER CONTEXT
------------------------------

Environment variables:

    AUTOMATED_TESTING = 1
    LANG = en_US.UTF-8
    PATH = /home/sand/bin:/usr/local/bin:/usr/bin:/bin:/usr/games:/usr/local/perl/bin:/usr/X11/bin:/sbin:/usr/sbin
    PERL5LIB = /tmp/loop_over_bdir-20860-RC7SZ7/Carp-Parse-1.0.7-0/blib/arch:/tmp/loop_over_bdir-20860-RC7SZ7/Carp-Parse-1.0.7-0/blib/lib
    PERL5OPT = 
    PERL5_CPANPLUS_IS_RUNNING = 20918
    PERL5_CPAN_IS_RUNNING = 20918
    PERL5_CPAN_IS_RUNNING_IN_RECURSION = 2639,20918
    PERL_CANARY_STABILITY_NOPROMPT = 1
    PERL_MM_USE_DEFAULT = 1
    PERL_USE_UNSAFE_INC = 1
    SHELL = /usr/bin/zsh
    TERM = screen

Perl special variables (and OS-specific diagnostics, for MSWin32):

    $^X = /home/sand/src/perl/repoperls/installed-perls/host/k93msid/v5.27.3/d2d1/bin/perl
    $UID/$EUID = 1005 / 1005
    $GID = 1005 1005
    $EGID = 1005 1005

Perl module toolchain versions installed:

    Module              Have    
    ------------------- --------
    CPAN                2.19    
    CPAN::Meta          2.150010
    Cwd                 3.68    
    ExtUtils::CBuilder  0.280228
    ExtUtils::Command   7.30    
    ExtUtils::Install   2.14    
    ExtUtils::MakeMaker 7.30    
    ExtUtils::Manifest  1.70    
    ExtUtils::ParseXS   3.35    
    File::Spec          3.68    
    JSON                2.94    
    JSON::PP            2.94    
    Module::Build       0.4224  
    Module::Signature   0.81    
    Parse::CPAN::Meta   2.150010
    Test::Harness       3.39    
    Test::More          1.302106
    YAML                1.23_003
    YAML::Syck          1.30    
    version             0.9918  


--

Summary of my perl5 (revision 5 version 27 subversion 3) configuration:
  Commit id: 7c9c5138c6a704d1caf5908650193f777b81ad23
  Platform:
    osname=linux
    osvers=4.12.0-2-amd64
    archname=x86_64-linux
    uname='linux k93msid 4.12.0-2-amd64 #1 smp debian 4.12.13-1 (2017-09-19) x86_64 gnulinux '
    config_args='-Dprefix=/home/sand/src/perl/repoperls/installed-perls/host/k93msid/v5.27.3/d2d1 -Dmyhostname=k93msid -Dinstallusrbinperl=n -Uversiononly -Dusedevel -des -Ui_db -Dlibswanted=cl pthread socket inet nsl gdbm dbm malloc dl ld sun m crypt sec util c cposix posix ucb BSD gdbm_compat -Uuseithreads -Uuselongdouble -DDEBUGGING=both'
    hint=recommended
    useposix=true
    d_sigaction=define
    useithreads=undef
    usemultiplicity=undef
    use64bitint=define
    use64bitall=define
    uselongdouble=undef
    usemymalloc=n
    default_inc_excludes_dot=define
    bincompat5005=undef
  Compiler:
    cc='cc'
    ccflags ='-fwrapv -DDEBUGGING -fno-strict-aliasing -pipe -fstack-protector-strong -I/usr/local/include -D_LARGEFILE_SOURCE -D_FILE_OFFSET_BITS=64 -D_FORTIFY_SOURCE=2'
    optimize='-O2 -g'
    cppflags='-fwrapv -DDEBUGGING -fno-strict-aliasing -pipe -fstack-protector-strong -I/usr/local/include'
    ccversion=''
    gccversion='7.2.0'
    gccosandvers=''
    intsize=4
    longsize=8
    ptrsize=8
    doublesize=8
    byteorder=12345678
    doublekind=3
    d_longlong=define
    longlongsize=8
    d_longdbl=define
    longdblsize=16
    longdblkind=3
    ivtype='long'
    ivsize=8
    nvtype='double'
    nvsize=8
    Off_t='off_t'
    lseeksize=8
    alignbytes=8
    prototype=define
  Linker and Libraries:
    ld='cc'
    ldflags =' -fstack-protector-strong -L/usr/local/lib'
    libpth=/usr/local/lib /usr/lib/gcc/x86_64-linux-gnu/7/include-fixed /usr/include/x86_64-linux-gnu /usr/lib /lib/x86_64-linux-gnu /lib/../lib /usr/lib/x86_64-linux-gnu /usr/lib/../lib /lib
    libs=-lpthread -lnsl -ldl -lm -lcrypt -lutil -lc
    perllibs=-lpthread -lnsl -ldl -lm -lcrypt -lutil -lc
    libc=libc-2.24.so
    so=so
    useshrplib=false
    libperl=libperl.a
    gnulibc_version='2.24'
  Dynamic Linking:
    dlsrc=dl_dlopen.xs
    dlext=so
    d_dlsymun=undef
    ccdlflags='-Wl,-E'
    cccdlflags='-fPIC'
    lddlflags='-shared -O2 -g -L/usr/local/lib -fstack-protector-strong'


Characteristics of this binary (from libperl): 
  Compile-time options:
    DEBUGGING
    HAS_TIMES
    PERLIO_LAYERS
    PERL_COPY_ON_WRITE
    PERL_DONT_CREATE_GVSV
    PERL_MALLOC_WRAP
    PERL_OP_PARENT
    PERL_PRESERVE_IVUV
    PERL_USE_DEVEL
    USE_64_BIT_ALL
    USE_64_BIT_INT
    USE_LARGE_FILES
    USE_LOCALE
    USE_LOCALE_COLLATE
    USE_LOCALE_CTYPE
    USE_LOCALE_NUMERIC
    USE_LOCALE_TIME
    USE_PERLIO
    USE_PERL_ATOF
  Built under linux
  Compiled at Oct  1 2017 22:45:52
  %ENV:
    PERL5LIB="/tmp/loop_over_bdir-20860-RC7SZ7/Carp-Parse-1.0.7-0/blib/arch:/tmp/loop_over_bdir-20860-RC7SZ7/Carp-Parse-1.0.7-0/blib/lib"
    PERL5OPT=""
    PERL5_CPANPLUS_IS_RUNNING="20918"
    PERL5_CPAN_IS_RUNNING="20918"
    PERL5_CPAN_IS_RUNNING_IN_RECURSION="2639,20918"
    PERL_CANARY_STABILITY_NOPROMPT="1"
    PERL_MM_USE_DEFAULT="1"
    PERL_USE_UNSAFE_INC="1"
  @INC:
    /tmp/loop_over_bdir-20860-RC7SZ7/Carp-Parse-1.0.7-0/blib/arch
    /tmp/loop_over_bdir-20860-RC7SZ7/Carp-Parse-1.0.7-0/blib/lib
    /home/sand/src/perl/repoperls/installed-perls/host/k93msid/v5.27.3/d2d1/lib/site_perl/5.27.3/x86_64-linux
    /home/sand/src/perl/repoperls/installed-perls/host/k93msid/v5.27.3/d2d1/lib/site_perl/5.27.3
    /home/sand/src/perl/repoperls/installed-perls/host/k93msid/v5.27.3/d2d1/lib/5.27.3/x86_64-linux
    /home/sand/src/perl/repoperls/installed-perls/host/k93msid/v5.27.3/d2d1/lib/5.27.3
    .