CGI-Application-Plugin-RunmodeParseKeyword v0.15_01 Perl 5 v5.38.2 x86_64-linux-thread-multi

Status
Pass
From
Slaven Rezić
Dist
CGI-Application-Plugin-RunmodeParseKeyword v0.15_01
Platform
Perl 5 v5.38.2 x86_64-linux-thread-multi
Date
2023-12-28 15:26:53
ID
8715b780-a595-11ee-826d-d6036e8775ea
This distribution has been tested as part of the CPAN Testers
project, supporting the Perl programming language.  See
http://wiki.cpantesters.org/ for more information or email
questions to cpan-testers-discuss@perl.org


--
Dear Rhesa Rozendaal,

This is a computer-generated report for CGI-Application-Plugin-RunmodeParseKeyword-0.15_01
on perl 5.38.2, created by CPAN-Reporter-1.2019.

Thank you for uploading your work to CPAN.  Congratulations!
All tests were successful.

Sections of this report:

    * Tester comments
    * Program output
    * Prerequisites
    * Environment and other context

------------------------------
TESTER COMMENTS
------------------------------

Additional comments from tester:

none provided

------------------------------
PROGRAM OUTPUT
------------------------------

Output from '/usr/bin/make test':

PERL_DL_NONLAZY=1 "/opt/perl-5.38.2t/bin/perl" "-MExtUtils::Command::MM" "-MTest::Harness" "-e" "undef *Test::Harness::Switches; test_harness(0, 'blib/lib', 'blib/arch')" t/*.t
# Testing CGI::Application::Plugin::RunmodeParseKeyword 0.1501, Perl 5.038002, /opt/perl-5.38.2t/bin/perl
t/00-load.t ............. ok
# 
# Versions for all modules listed in MYMETA.json (including optional ones):
# 
# === Configure Requires ===
# 
#     Module              Want Have
#     ------------------- ---- ----
#     ExtUtils::MakeMaker  any 7.70
# 
# === Build Requires ===
# 
#     Module              Want Have
#     ------------------- ---- ----
#     ExtUtils::MakeMaker  any 7.70
# 
# === Test Requires ===
# 
#     Module              Want     Have
#     ------------------- ---- --------
#     ExtUtils::MakeMaker  any     7.70
#     File::Spec           any     3.88
#     Test::More           any 1.302194
# 
# === Test Recommends ===
# 
#     Module         Want     Have
#     ---------- -------- --------
#     CPAN::Meta 2.120900 2.150010
# 
# === Runtime Requires ===
# 
#     Module           Want Have
#     ---------------- ---- ----
#     CGI              4.21 4.60
#     CGI::Application 4.06 4.61
#     Parse::Keyword   0.09 0.09
#     Sub::Name        0.26 0.27
# 
t/00-report-prereqs.t ... ok
t/01-use.t .............. ok
t/02-subclass.t ......... ok
t/03-params.t ........... ok
t/04-multiline-proto.t .. ok
t/06-pk.t ............... ok
t/07-sugared.t .......... ok
t/08-syntax-errors.t .... ok
t/boilerplate.t ......... ok
t/pod-coverage.t ........ ok
t/pod.t ................. ok
All tests successful.

Test Summary Report
-------------------
t/boilerplate.t       (Wstat: 0 Tests: 3 Failed: 0)
  TODO passed:   1-3
Files=12, Tests=43,  1 wallclock secs ( 0.03 usr  0.03 sys +  0.96 cusr  0.31 csys =  1.33 CPU)
Result: PASS

------------------------------
PREREQUISITES
------------------------------

Prerequisite modules loaded:

requires:

    Module              Need Have    
    ------------------- ---- --------
    CGI                 4.21 4.60    
    CGI::Application    4.06 4.61    
    Parse::Keyword      0.09 0.09    
    Sub::Name           0.26 0.27    

build_requires:

    Module              Need Have    
    ------------------- ---- --------
    ExtUtils::MakeMaker 0    7.70    
    File::Spec          0    3.88    
    Test::More          0    1.302194

configure_requires:

    Module              Need Have    
    ------------------- ---- --------
    ExtUtils::MakeMaker 0    7.70    


------------------------------
ENVIRONMENT AND OTHER CONTEXT
------------------------------

Environment variables:

    LANG = en_US.UTF-8
    PATH = /usr/local/bin:/usr/bin:/bin:/usr/local/sbin:/usr/sbin:/sbin:/home/cpansand/bin/linux-gnu:/home/cpansand/bin/sh:/home/cpansand/bin:/usr/games:/home/cpansand/devel:/home/eserte/src/srezic-misc/scripts
    PERL5LIB = /home/cpansand/.cpan/build/2023122815/Parse-Keyword-0.09-5/blib/arch:/home/cpansand/.cpan/build/2023122815/Parse-Keyword-0.09-5/blib/lib:/home/cpansand/.cpan/build/2023122815/Devel-CallParser-0.002-5/blib/arch:/home/cpansand/.cpan/build/2023122815/Devel-CallParser-0.002-5/blib/lib:/home/cpansand/.cpan/build/2023122815/Devel-CallChecker-0.009-5/blib/arch:/home/cpansand/.cpan/build/2023122815/Devel-CallChecker-0.009-5/blib/lib:/home/cpansand/.cpan/build/2023122815/DynaLoader-Functions-0.004-5/blib/arch:/home/cpansand/.cpan/build/2023122815/DynaLoader-Functions-0.004-5/blib/lib:/home/cpansand/.cpan/build/2023122815/CGI-Application-4.61-5/blib/arch:/home/cpansand/.cpan/build/2023122815/CGI-Application-4.61-5/blib/lib:/home/cpansand/.cpan/build/2023122815/HTML-Template-2.97-4/blib/arch:/home/cpansand/.cpan/build/2023122815/HTML-Template-2.97-4/blib/lib:/home/cpansand/.cpan/build/2023122815/Class-ISA-0.36-5/blib/arch:/home/cpansand/.cpan/build/2023122815/Class-ISA-0.36-5/blib/lib
    PERL5OPT = 
    PERL5_CPANPLUS_IS_RUNNING = 1253780
    PERL5_CPAN_IS_RUNNING = 1253780
    PERL5_CPAN_IS_RUNNING_IN_RECURSION = 1249687,1253780
    PERLDOC = -MPod::Perldoc::ToTextOverstrike
    PERL_BATCH = yes
    PERL_CANARY_STABILITY_NOPROMPT = 1
    PERL_CPAN_REPORTER_CONFIG = /var/tmp/cpansmoker-1023/2023122815/cpanreporter_000_config.ini
    PERL_EXTUTILS_AUTOINSTALL = --defaultdeps
    PERL_USE_UNSAFE_INC = 1
    SHELL = /usr/bin/zsh
    TERM = screen
    TMPDIR = /var/tmp/cpansmoker-1023/2023122815

Perl special variables (and OS-specific diagnostics, for MSWin32):

    $^X = /opt/perl-5.38.2t/bin/perl
    $UID/$EUID = 1023 / 1023
    $GID = 1023 1023
    $EGID = 1023 1023

Perl module toolchain versions installed:

    Module              Have    
    ------------------- --------
    CPAN                2.36    
    CPAN::Meta          2.150010
    Cwd                 3.89    
    ExtUtils::CBuilder  0.280238
    ExtUtils::Command   7.70    
    ExtUtils::Install   2.22    
    ExtUtils::MakeMaker 7.70    
    ExtUtils::Manifest  1.73    
    ExtUtils::ParseXS   3.51    
    File::Spec          3.88    
    JSON                4.10    
    JSON::PP            4.16    
    Module::Build       0.4234  
    Module::Signature   n/a     
    Parse::CPAN::Meta   2.150010
    Test2               1.302194
    Test::Harness       3.44    
    Test::More          1.302194
    YAML                1.31    
    YAML::Syck          1.34    
    version             0.9929  


--

Summary of my perl5 (revision 5 version 38 subversion 2) configuration:
   
  Platform:
    osname=linux
    osvers=6.6.8-100.fc38.x86_64
    archname=x86_64-linux-thread-multi
    uname='linux fedora39-2gb-hil 6.6.8-100.fc38.x86_64 #1 smp preempt_dynamic thu dec 21 04:01:45 utc 2023 x86_64 gnulinux '
    config_args='-ds -e -Dprefix=/opt/perl-5.38.2t -Dusethreads -Dcf_email=srezic@cpan.org'
    hint=recommended
    useposix=true
    d_sigaction=define
    useithreads=define
    usemultiplicity=define
    use64bitint=define
    use64bitall=define
    uselongdouble=undef
    usemymalloc=n
    default_inc_excludes_dot=define
  Compiler:
    cc='cc'
    ccflags ='-D_REENTRANT -D_GNU_SOURCE -fwrapv -fno-strict-aliasing -pipe -fstack-protector-strong -I/usr/local/include -D_LARGEFILE_SOURCE -D_FILE_OFFSET_BITS=64 -D_FORTIFY_SOURCE=2'
    optimize='-O2'
    cppflags='-D_REENTRANT -D_GNU_SOURCE -fwrapv -fno-strict-aliasing -pipe -fstack-protector-strong -I/usr/local/include'
    ccversion=''
    gccversion='13.2.1 20231205 (Red Hat 13.2.1-6)'
    gccosandvers=''
    intsize=4
    longsize=8
    ptrsize=8
    doublesize=8
    byteorder=12345678
    doublekind=3
    d_longlong=define
    longlongsize=8
    d_longdbl=define
    longdblsize=16
    longdblkind=3
    ivtype='long'
    ivsize=8
    nvtype='double'
    nvsize=8
    Off_t='off_t'
    lseeksize=8
    alignbytes=8
    prototype=define
  Linker and Libraries:
    ld='cc'
    ldflags =' -fstack-protector-strong -L/usr/local/lib'
    libpth=/usr/local/lib /usr/lib /usr/lib64 /usr/local/lib64
    libs=-lpthread -ldb -ldl -lm -lcrypt -lutil -lc
    perllibs=-lpthread -ldl -lm -lcrypt -lutil -lc
    libc=/lib/../lib64/libc.so.6
    so=so
    useshrplib=false
    libperl=libperl.a
    gnulibc_version='2.38'
  Dynamic Linking:
    dlsrc=dl_dlopen.xs
    dlext=so
    d_dlsymun=undef
    ccdlflags='-Wl,-E'
    cccdlflags='-fPIC'
    lddlflags='-shared -O2 -L/usr/local/lib -fstack-protector-strong'


Characteristics of this binary (from libperl): 
  Compile-time options:
    HAS_LONG_DOUBLE
    HAS_STRTOLD
    HAS_TIMES
    MULTIPLICITY
    PERLIO_LAYERS
    PERL_COPY_ON_WRITE
    PERL_DONT_CREATE_GVSV
    PERL_HASH_FUNC_SIPHASH13
    PERL_HASH_USE_SBOX32
    PERL_MALLOC_WRAP
    PERL_OP_PARENT
    PERL_PRESERVE_IVUV
    PERL_USE_SAFE_PUTENV
    USE_64_BIT_ALL
    USE_64_BIT_INT
    USE_ITHREADS
    USE_LARGE_FILES
    USE_LOCALE
    USE_LOCALE_COLLATE
    USE_LOCALE_CTYPE
    USE_LOCALE_NUMERIC
    USE_LOCALE_TIME
    USE_PERLIO
    USE_PERL_ATOF
    USE_REENTRANT_API
    USE_THREAD_SAFE_LOCALE
  Built under linux
  Compiled at Dec 27 2023 08:41:53
  %ENV:
    PERL5LIB="/home/cpansand/.cpan/build/2023122815/Parse-Keyword-0.09-5/blib/arch:/home/cpansand/.cpan/build/2023122815/Parse-Keyword-0.09-5/blib/lib:/home/cpansand/.cpan/build/2023122815/Devel-CallParser-0.002-5/blib/arch:/home/cpansand/.cpan/build/2023122815/Devel-CallParser-0.002-5/blib/lib:/home/cpansand/.cpan/build/2023122815/Devel-CallChecker-0.009-5/blib/arch:/home/cpansand/.cpan/build/2023122815/Devel-CallChecker-0.009-5/blib/lib:/home/cpansand/.cpan/build/2023122815/DynaLoader-Functions-0.004-5/blib/arch:/home/cpansand/.cpan/build/2023122815/DynaLoader-Functions-0.004-5/blib/lib:/home/cpansand/.cpan/build/2023122815/CGI-Application-4.61-5/blib/arch:/home/cpansand/.cpan/build/2023122815/CGI-Application-4.61-5/blib/lib:/home/cpansand/.cpan/build/2023122815/HTML-Template-2.97-4/blib/arch:/home/cpansand/.cpan/build/2023122815/HTML-Template-2.97-4/blib/lib:/home/cpansand/.cpan/build/2023122815/Class-ISA-0.36-5/blib/arch:/home/cpansand/.cpan/build/2023122815/Class-ISA-0.36-5/blib/lib"
    PERL5OPT=""
    PERL5_CPANPLUS_IS_RUNNING="1253780"
    PERL5_CPAN_IS_RUNNING="1253780"
    PERL5_CPAN_IS_RUNNING_IN_RECURSION="1249687,1253780"
    PERLDOC="-MPod::Perldoc::ToTextOverstrike"
    PERL_BATCH="yes"
    PERL_CANARY_STABILITY_NOPROMPT="1"
    PERL_CPAN_REPORTER_CONFIG="/var/tmp/cpansmoker-1023/2023122815/cpanreporter_000_config.ini"
    PERL_EXTUTILS_AUTOINSTALL="--defaultdeps"
    PERL_USE_UNSAFE_INC="1"
  @INC:
    /home/cpansand/.cpan/build/2023122815/Parse-Keyword-0.09-5/blib/arch
    /home/cpansand/.cpan/build/2023122815/Parse-Keyword-0.09-5/blib/lib
    /home/cpansand/.cpan/build/2023122815/Devel-CallParser-0.002-5/blib/arch
    /home/cpansand/.cpan/build/2023122815/Devel-CallParser-0.002-5/blib/lib
    /home/cpansand/.cpan/build/2023122815/Devel-CallChecker-0.009-5/blib/arch
    /home/cpansand/.cpan/build/2023122815/Devel-CallChecker-0.009-5/blib/lib
    /home/cpansand/.cpan/build/2023122815/DynaLoader-Functions-0.004-5/blib/arch
    /home/cpansand/.cpan/build/2023122815/DynaLoader-Functions-0.004-5/blib/lib
    /home/cpansand/.cpan/build/2023122815/CGI-Application-4.61-5/blib/arch
    /home/cpansand/.cpan/build/2023122815/CGI-Application-4.61-5/blib/lib
    /home/cpansand/.cpan/build/2023122815/HTML-Template-2.97-4/blib/arch
    /home/cpansand/.cpan/build/2023122815/HTML-Template-2.97-4/blib/lib
    /home/cpansand/.cpan/build/2023122815/Class-ISA-0.36-5/blib/arch
    /home/cpansand/.cpan/build/2023122815/Class-ISA-0.36-5/blib/lib
    /opt/perl-5.38.2t/lib/site_perl/5.38.2/x86_64-linux-thread-multi
    /opt/perl-5.38.2t/lib/site_perl/5.38.2
    /opt/perl-5.38.2t/lib/5.38.2/x86_64-linux-thread-multi
    /opt/perl-5.38.2t/lib/5.38.2
    .