Template-Plugin-ForumCode v0.0.5 Perl 5 v5.22.4 x86_64-linux-gnu

Status
Pass
From
Dist
Template-Plugin-ForumCode v0.0.5
Platform
Perl 5 v5.22.4 x86_64-linux-gnu
Date
2019-06-25 00:38:19
ID
876220ce-96e1-11e9-8c9d-afff0f6f4aec
This distribution has been tested as part of the CPAN Testers
project, supporting the Perl programming language.  See
http://wiki.cpantesters.org/ for more information or email
questions to cpan-testers-discuss@perl.org


--
Dear CHISEL,

This is a computer-generated report for Template-Plugin-ForumCode-0.0.5
on perl 5.22.4, created by App::cpanminus::reporter 0.17 (1.7044).

Thank you for uploading your work to CPAN.  Congratulations!
All tests were successful.

Sections of this report:

    * Tester comments
    * Program output
    * Prerequisites
    * Environment and other context

------------------------------
TESTER COMMENTS
------------------------------

Additional comments from tester:

none provided

------------------------------
PROGRAM OUTPUT
------------------------------

Output from '':

Building and testing Template-Plugin-ForumCode-0.0.5
cp lib/HTML/ForumCode.pm blib/lib/HTML/ForumCode.pm
cp lib/HTML/ForumCode/Cookbook/Recipe2.pod blib/lib/HTML/ForumCode/Cookbook/Recipe2.pod
cp lib/HTML/ForumCode/Cookbook/Recipe1.pod blib/lib/HTML/ForumCode/Cookbook/Recipe1.pod
cp lib/Template/Plugin/ForumCode.pm blib/lib/Template/Plugin/ForumCode.pm
cp lib/HTML/ForumCode/Cookbook.pod blib/lib/HTML/ForumCode/Cookbook.pod
PERL_DL_NONLAZY=1 "/usr/local/bin/perl" "-MExtUtils::Command::MM" "-MTest::Harness" "-e" "undef *Test::Harness::Switches; test_harness(0, 'inc', 'blib/lib', 'blib/arch')" t/*.t
t/01.app.t ........................ ok
t/02.pod.t ........................ skipped: set TEST_POD to enable this test
t/03.podcoverage.t ................ skipped: set TEST_POD to enable this test
t/04.template-plugin-forumcode.t .. ok
t/05.html-forumcode.t ............. ok
All tests successful.
Files=5, Tests=93,  2 wallclock secs ( 0.07 usr  0.10 sys +  1.18 cusr  0.29 csys =  1.64 CPU)
Result: PASS

------------------------------
PREREQUISITES
------------------------------

Prerequisite modules loaded:

    No requirements found

------------------------------
ENVIRONMENT AND OTHER CONTEXT
------------------------------

Environment variables:

    PATH = /usr/local/sbin:/usr/local/bin:/usr/sbin:/usr/bin:/sbin:/bin
    PERL_CPAN_REPORTER_DIR = /etc/cpanm-reporter
    TERM = xterm

Perl special variables (and OS-specific diagnostics, for MSWin32):

    EGID = 0
    EUID = 0
    EXECUTABLE_NAME = /usr/local/bin/perl
    GID = 0
    UID = 0

Perl module toolchain versions installed:

    Module              Have      
    ------------------- ----------
    CPAN                2.11_01   
    CPAN::Meta          2.150010  
    Cwd                 3.56_02   
    ExtUtils::CBuilder  0.280221  
    ExtUtils::Command   1.20_01   
    ExtUtils::Install   2.04      
    ExtUtils::MakeMaker 7.04_02   
    ExtUtils::Manifest  1.70      
    ExtUtils::ParseXS   3.35      
    File::Spec          3.56_02   
    JSON                4.02      
    JSON::PP            2.27300_01
    Module::Build       0.4229    
    Module::Signature   n/a       
    Parse::CPAN::Meta   2.150010  
    Test::Harness       3.35_01   
    Test::More          1.302164  
    YAML                1.29      
    YAML::Syck          1.31      
    version             0.9924    


--

Summary of my perl5 (revision 5 version 22 subversion 4) configuration:
   
  Platform:
    osname=linux, osvers=4.4.0-127-generic, archname=x86_64-linux-gnu
    uname='linux 0c5eeb810b90 4.4.0-127-generic #153-ubuntu smp sat may 19 10:58:46 utc 2018 x86_64 gnulinux '
    config_args='-Darchname=x86_64-linux-gnu -Duse64bitall -Duseshrplib -Dvendorprefix=/usr/local -des'
    hint=recommended, useposix=true, d_sigaction=define
    useithreads=undef, usemultiplicity=undef
    use64bitint=define, use64bitall=define, uselongdouble=undef
    usemymalloc=n, bincompat5005=undef
  Compiler:
    cc='cc', ccflags ='-fwrapv -fno-strict-aliasing -pipe -fstack-protector-strong -I/usr/local/include -D_LARGEFILE_SOURCE -D_FILE_OFFSET_BITS=64',
    optimize='-O2',
    cppflags='-fwrapv -fno-strict-aliasing -pipe -fstack-protector-strong -I/usr/local/include'
    ccversion='', gccversion='6.3.0 20170516', gccosandvers=''
    intsize=4, longsize=8, ptrsize=8, doublesize=8, byteorder=12345678, doublekind=3
    d_longlong=define, longlongsize=8, d_longdbl=define, longdblsize=16, longdblkind=3
    ivtype='long', ivsize=8, nvtype='double', nvsize=8, Off_t='off_t', lseeksize=8
    alignbytes=8, prototype=define
  Linker and Libraries:
    ld='cc', ldflags =' -fstack-protector-strong -L/usr/local/lib'
    libpth=/usr/local/lib /usr/lib/gcc/x86_64-linux-gnu/6/include-fixed /usr/include/x86_64-linux-gnu /usr/lib /lib/x86_64-linux-gnu /lib/../lib /usr/lib/x86_64-linux-gnu /usr/lib/../lib /lib
    libs=-lpthread -lnsl -lgdbm -ldb -ldl -lm -lcrypt -lutil -lc -lgdbm_compat
    perllibs=-lpthread -lnsl -ldl -lm -lcrypt -lutil -lc
    libc=libc-2.24.so, so=so, useshrplib=true, libperl=libperl.so
    gnulibc_version='2.24'
  Dynamic Linking:
    dlsrc=dl_dlopen.xs, dlext=so, d_dlsymun=undef, ccdlflags='-Wl,-E -Wl,-rpath,/usr/local/lib/perl5/5.22.4/x86_64-linux-gnu/CORE'
    cccdlflags='-fPIC', lddlflags='-shared -O2 -L/usr/local/lib -fstack-protector-strong'


Characteristics of this binary (from libperl): 
  Compile-time options: HAS_TIMES PERLIO_LAYERS PERL_DONT_CREATE_GVSV
                        PERL_HASH_FUNC_ONE_AT_A_TIME_HARD PERL_MALLOC_WRAP
                        PERL_NEW_COPY_ON_WRITE PERL_PRESERVE_IVUV
                        USE_64_BIT_ALL USE_64_BIT_INT USE_LARGE_FILES
                        USE_LOCALE USE_LOCALE_COLLATE USE_LOCALE_CTYPE
                        USE_LOCALE_NUMERIC USE_LOCALE_TIME USE_PERLIO
                        USE_PERL_ATOF
  Built under linux
  Compiled at Jun  6 2018 02:52:14
  %ENV:
    PERL_CPAN_REPORTER_DIR="/etc/cpanm-reporter"
  @INC:
    /usr/local/lib/perl5/site_perl/5.22.4/x86_64-linux-gnu
    /usr/local/lib/perl5/site_perl/5.22.4
    /usr/local/lib/perl5/vendor_perl/5.22.4/x86_64-linux-gnu
    /usr/local/lib/perl5/vendor_perl/5.22.4
    /usr/local/lib/perl5/5.22.4/x86_64-linux-gnu
    /usr/local/lib/perl5/5.22.4
    .