Back
From: metabase:user:d17af2e9-6de4-1014-8fd6-2c1c47d6983c
Subject: PASS HTML-Format-2.09 v5.12.3
Date: 2011-07-15T19:14:56Z
This distribution has been tested as part of the CPAN Testers
project, supporting the Perl programming language. See
http://wiki.cpantesters.org/ for more information or email
questions to cpan-testers-discuss@perl.org
--
Dear NIGELM,
This is a computer-generated error report created automatically by
CPANPLUS, version 0.9105. Testers personal comments may appear
at the end of this report.
MAKE TEST passed:
t/00-compile.t ............... ok
# Testing with Perl 5.012003, D:\strawberry\perl\bin\perl.exe
# Carp version is 1.17
# Data::Dumper version is 2.128
# Encode version is 2.42
# English version is 1.04
# File::Find version is 1.15
# File::Slurp version is 9999.16
# File::Spec version is 3.33
# File::Temp version is 0.22
# Font::Metrics::Courier version is undefined
# Font::Metrics::CourierBold version is undefined
# Font::Metrics::CourierBoldOblique version is undefined
# Font::Metrics::CourierOblique version is undefined
# Font::Metrics::Helvetica version is undefined
# Font::Metrics::HelveticaBold version is undefined
# Font::Metrics::HelveticaBoldOblique version is undefined
# Font::Metrics::HelveticaOblique version is undefined
# Font::Metrics::TimesBold version is undefined
# Font::Metrics::TimesBoldItalic version is undefined
# Font::Metrics::TimesItalic version is undefined
# Font::Metrics::TimesRoman version is undefined
# HTML::Element version is 4.2
# HTML::TreeBuilder version is 4.2
# IO::File version is 1.14
# Module::Build version is 0.38
# Scalar::Util version is 1.23
# Test::More version is 0.98
# bytes version is 1.04
# integer version is 1.00
# utf8 version is 1.08
t/000-report-versions.t ...... ok
t/01_ps.t .................... ok
t/02_rtf.t ................... ok
t/03_text.t .................. ok
t/author-critic.t ............ skipped: these tests are for testing by the author
t/release-dist-manifest.t .... skipped: these tests are for release candidate testing
t/release-distmeta.t ......... skipped: these tests are for release candidate testing
t/release-eol.t .............. skipped: these tests are for release candidate testing
t/release-has-version.t ...... skipped: these tests are for release candidate testing
t/release-minimum-version.t .. skipped: these tests are for release candidate testing
t/release-no-tabs.t .......... skipped: these tests are for release candidate testing
t/release-pod-spell.t ........ skipped: these tests are for release candidate testing
t/release-pod-syntax.t ....... skipped: these tests are for release candidate testing
t/release-portability.t ...... skipped: these tests are for release candidate testing
t/release-synopsis.t ......... skipped: these tests are for release candidate testing
t/release-unused-vars.t ...... skipped: these tests are for release candidate testing
t/rt69426.t .................. ok
All tests successful.
Files=18, Tests=50, 1 wallclock secs ( 0.06 usr + 0.02 sys = 0.08 CPU)
Result: PASS
[MSG] [Fri Jul 15 21:14:56 2011] Sending test report for 'HTML-Format-2.09'
This report was machine-generated by CPANPLUS::Dist::YACSmoke 0.62.
------------------------------
ENVIRONMENT AND OTHER CONTEXT
------------------------------
Environment variables:
AUTOMATED_TESTING = 1
COMSPEC = C:\Windows\system32\cmd.exe
NUMBER_OF_PROCESSORS = 8
PATH = C:\WINDOWS\system32;C:\WINDOWS;D:\strawberry\c\bin;D:\strawberry\perl\site\bin;D:\strawberry\perl\bin
PERL5LIB = D:\strawberry\cpanplus\5.12.3\build\HTML-Format-2.09\blib;D:\strawberry\cpanplus\5.12.3\build\HTML-Format-2.09\blib\arch;D:\strawberry\cpanplus\5.12.3\build\HTML-Format-2.09\blib\lib;D:\strawberry\cpanplus\5.12.3\build\HTML-Tree-4.2\blib;D:\strawberry\cpanplus\5.12.3\build\HTML-Tree-4.2\blib\arch;D:\strawberry\cpanplus\5.12.3\build\HTML-Tree-4.2\blib\lib;D:\strawberry\cpanplus\5.12.3\build\Font-AFM-1.20\blib;D:\strawberry\cpanplus\5.12.3\build\Font-AFM-1.20\blib\arch;D:\strawberry\cpanplus\5.12.3\build\Font-AFM-1.20\blib\lib;
PERL5_CPANPLUS_IS_RUNNING = 2868
PERL5_CPANPLUS_IS_VERSION = 0.9105
PERL_EXTUTILS_AUTOINSTALL = --defaultdeps
PERL_JSON_BACKEND = JSON::XS
PERL_MM_USE_DEFAULT = 1
PERL_YAML_BACKEND = YAML
PROCESSOR_IDENTIFIER = Intel64 Family 6 Model 42 Stepping 7, GenuineIntel
TERM = dumb
Perl special variables (and OS-specific diagnostics, for MSWin32):
Perl: $^X = D:\strawberry\perl\bin\perl.exe
UID: $< = 0
EUID: $> = 0
GID: $( = 0
EGID: $) = 0
Win32::GetOSName = Win7
Win32::GetOSVersion = Service Pack 1, 6, 1, 7601, 2, 1, 0, 768, 1
Win32::IsAdminUser = 0
-------------------------------
--
Summary of my perl5 (revision 5 version 12 subversion 3) configuration:
Platform:
osname=MSWin32, osvers=6.1, archname=MSWin32-x64-multi-thread
uname='Win32 strawberryperl 5.12.3.0 #1 Sun May 15 09:43:50 2011 x64'
config_args='undef'
hint=recommended, useposix=true, d_sigaction=undef
useithreads=define, usemultiplicity=define
useperlio=define, d_sfio=undef, uselargefiles=define, usesocks=undef
use64bitint=define, use64bitall=undef, uselongdouble=undef
usemymalloc=n, bincompat5005=undef
Compiler:
cc='gcc', ccflags =' -s -O2 -DWIN32 -DHAVE_DES_FCRYPT -DWIN64 -DCONSERVATIVE -DUSE_SITECUSTOMIZE -DPERL_IMPLICIT_CONTEXT -DPERL_IMPLICIT_SYS -fno-strict-aliasing -mms-bitfields -DPERL_MSVCRT_READFIX',
optimize='-s -O2',
cppflags='-DWIN32'
ccversion='', gccversion='4.4.3', gccosandvers=''
intsize=4, longsize=4, ptrsize=8, doublesize=8, byteorder=12345678
d_longlong=define, longlongsize=8, d_longdbl=define, longdblsize=12
ivtype='long long', ivsize=8, nvtype='double', nvsize=8, Off_t='long long', lseeksize=8
alignbytes=8, prototype=define
Linker and Libraries:
ld='g++', ldflags ='-s -L"D:\strawberry\perl\lib\CORE" -L"D:\strawberry\c\lib"'
libpth=D:\strawberry\c\lib D:\strawberry\c\x86_64-w64-mingw32\lib
libs=-lmoldname -lkernel32 -luser32 -lgdi32 -lwinspool -lcomdlg32 -ladvapi32 -lshell32 -lole32 -loleaut32 -lnetapi32 -luuid -lws2_32 -lmpr -lwinmm -lversion -lodbc32 -lodbccp32 -lcomctl32
perllibs=-lmoldname -lkernel32 -luser32 -lgdi32 -lwinspool -lcomdlg32 -ladvapi32 -lshell32 -lole32 -loleaut32 -lnetapi32 -luuid -lws2_32 -lmpr -lwinmm -lversion -lodbc32 -lodbccp32 -lcomctl32
libc=, so=dll, useshrplib=true, libperl=libperl512.a
gnulibc_version=''
Dynamic Linking:
dlsrc=dl_win32.xs, dlext=dll, d_dlsymun=undef, ccdlflags=' '
cccdlflags=' ', lddlflags='-mdll -s -L"D:\strawberry\perl\lib\CORE" -L"D:\strawberry\c\lib"'
Characteristics of this binary (from libperl):
Compile-time options: MULTIPLICITY PERL_DONT_CREATE_GVSV
PERL_IMPLICIT_CONTEXT PERL_IMPLICIT_SYS
PERL_MALLOC_WRAP PL_OP_SLAB_ALLOC USE_64_BIT_INT
USE_ITHREADS USE_LARGE_FILES USE_PERLIO USE_PERL_ATOF
USE_SITECUSTOMIZE
Built under MSWin32
Compiled at May 15 2011 09:52:35
%ENV:
PERL5LIB="D:\strawberry\cpanplus\5.12.3\build\HTML-Format-2.09\blib;D:\strawberry\cpanplus\5.12.3\build\HTML-Format-2.09\blib\arch;D:\strawberry\cpanplus\5.12.3\build\HTML-Format-2.09\blib\lib;D:\strawberry\cpanplus\5.12.3\build\HTML-Tree-4.2\blib;D:\strawberry\cpanplus\5.12.3\build\HTML-Tree-4.2\blib\arch;D:\strawberry\cpanplus\5.12.3\build\HTML-Tree-4.2\blib\lib;D:\strawberry\cpanplus\5.12.3\build\Font-AFM-1.20\blib;D:\strawberry\cpanplus\5.12.3\build\Font-AFM-1.20\blib\arch;D:\strawberry\cpanplus\5.12.3\build\Font-AFM-1.20\blib\lib;"
PERL5_CPANPLUS_IS_RUNNING="2868"
PERL5_CPANPLUS_IS_VERSION="0.9105"
PERL_EXTUTILS_AUTOINSTALL="--defaultdeps"
PERL_JSON_BACKEND="JSON::XS"
PERL_MM_USE_DEFAULT="1"
PERL_YAML_BACKEND="YAML"
@INC:
D:\strawberry\cpanplus\5.12.3\build\HTML-Format-2.09\blib
D:\strawberry\cpanplus\5.12.3\build\HTML-Format-2.09\blib\arch
D:\strawberry\cpanplus\5.12.3\build\HTML-Format-2.09\blib\lib
D:\strawberry\cpanplus\5.12.3\build\HTML-Tree-4.2\blib
D:\strawberry\cpanplus\5.12.3\build\HTML-Tree-4.2\blib\arch
D:\strawberry\cpanplus\5.12.3\build\HTML-Tree-4.2\blib\lib
D:\strawberry\cpanplus\5.12.3\build\Font-AFM-1.20\blib
D:\strawberry\cpanplus\5.12.3\build\Font-AFM-1.20\blib\arch
D:\strawberry\cpanplus\5.12.3\build\Font-AFM-1.20\blib\lib
D:/strawberry/perl/site/lib
D:/strawberry/perl/vendor/lib
D:/strawberry/perl/lib
.