Perl-Critic v1.156 Perl 5 v5.40.1 x86_64-linux-thread-multi
- Status
- Pass
- From
- Daniel Èuteu
- Dist
-
Perl-Critic v1.156
- Platform
- Perl 5 v5.40.1 x86_64-linux-thread-multi
- Date
- 2025-03-06 15:27:35
- ID
- 87a8aeb8-fa9f-11ef-87aa-b32d70a07c33
This distribution has been tested as part of the CPAN Testers
project, supporting the Perl programming language. See
http://wiki.cpantesters.org/ for more information or email
questions to cpan-testers-discuss@perl.org
--
Dear Andy Lester,
This is a computer-generated report for Perl-Critic-1.156
on perl 5.40.1, created by CPAN-Reporter-1.2020.
Thank you for uploading your work to CPAN. Congratulations!
All tests were successful.
Sections of this report:
* Tester comments
* Program output
* Prerequisites
* Environment and other context
------------------------------
TESTER COMMENTS
------------------------------
Additional comments from tester:
none provided
------------------------------
PROGRAM OUTPUT
------------------------------
Output from './Build test':
# Testing Perl::Critic 1.156 with PPI 1.281 under Perl 5.040001, /usr/bin/perl
t/00_modules.t ................................ ok
t/00_versions.t ............................... ok
t/01_config.t ................................. ok
t/01_config_bad_perlcriticrc.t ................ ok
t/01_policy_config.t .......................... ok
t/02_policy.t ................................. ok
t/03_annotations.t ............................ ok
t/03_pragmas.t ................................ ok
t/04_options_processor.t ...................... ok
t/05_utils.t .................................. ok
t/05_utils_perl.t ............................. ok
t/05_utils_pod.t .............................. ok
t/05_utils_ppi.t .............................. ok
t/06_violation.t .............................. ok
t/07_command.t ................................ ok
t/07_perlcritic.t ............................. ok
t/08_document.t ............................... ok
t/09_theme.t .................................. ok
t/10_user_profile.t ........................... ok
t/11_policy_factory.t ......................... ok
t/12_policy_listing.t ......................... ok
t/12_theme_listing.t .......................... ok
t/13_bundled_policies.t ....................... ok
t/14_policy_parameter_behavior_boolean.t ...... ok
t/14_policy_parameter_behavior_enumeration.t .. ok
t/14_policy_parameter_behavior_integer.t ...... ok
t/14_policy_parameter_behavior_list_string.t .. ok
t/14_policy_parameter_behavior_string.t ....... ok
t/14_policy_parameters.t ...................... ok
t/15_statistics.t ............................. ok
t/16_roundtrip_defaults.t ..................... ok
t/20_policies.t ............................... skipped: Test::Perl::Critic required to test Perl::Critic itself
t/20_policy_pod_spelling.t .................... ok
t/20_policy_prohibit_evil_modules.t ........... ok
t/20_policy_prohibit_hard_tabs.t .............. ok
t/20_policy_prohibit_trailing_whitespace.t .... ok
t/20_policy_require_consistent_newlines.t ..... ok
t/20_policy_require_tidy_code.t ............... ok
Unhandled type: REGEXP at /usr/share/perl5/site_perl/Devel/Cycle.pm line 107.
t/92_memory_leaks.t ........................... ok
t/gh-734.t .................................... ok
All tests successful.
Files=40, Tests=5424, 49 wallclock secs ( 0.48 usr 0.08 sys + 43.85 cusr 3.67 csys = 48.08 CPU)
Result: PASS
------------------------------
PREREQUISITES
------------------------------
Prerequisite modules loaded:
requires:
Module Need Have
------------------------- -------- --------
B::Keywords 1.23 1.27
Carp 0 1.54
charnames 0 1.50
Config::Tiny 2 2.30
English 0 1.11
Exception::Class 1.23 1.45
Exporter 5.63 5.78
File::Basename 0 2.86
File::Find 0 1.44
File::Path 0 2.18
File::Spec 0 3.91
File::Spec::Unix 0 3.91
File::Temp 0 0.2311
File::Which 0 1.27
Getopt::Long 0 2.58
List::SomeUtils 0.55 0.59
List::Util 0 1.68
Module::Pluggable 3.1 6.3
overload 0 1.37
parent 0 0.244
perl 5.010001 5.040001
Perl::Tidy 0 20250214
Pod::PlainText 0 2.07
Pod::Select 0 1.67
Pod::Spell 1 1.27
Pod::Usage 0 2.03
PPI 1.277 1.281
PPI::Document 1.277 1.281
PPI::Document::File 1.277 1.281
PPI::Node 1.277 1.281
PPI::Token::Quote::Single 1.277 1.281
PPI::Token::Whitespace 1.277 1.281
PPIx::QuoteLike 0 0.023
PPIx::Regexp 0.027 0.088
PPIx::Regexp::Util 0.068 0.088
PPIx::Utils::Traversal 0.003 0.003
Readonly 2 2.05
Scalar::Util 0 1.68
strict 0 1.13
String::Format 1.18 1.18
Term::ANSIColor 2.02 5.01
Test::Builder 0.92 1.302209
Text::ParseWords 3 3.31
version 0.77 0.9933
warnings 0 1.70
build_requires:
Module Need Have
------------------------- -------- --------
lib 0 0.65
Test::More 0 1.302209
configure_requires:
Module Need Have
------------------------- -------- --------
B::Keywords 1.23 1.27
base 0 2.27
Carp 0 1.54
English 0 1.11
Exporter 5.63 5.78
lib 0 0.65
List::SomeUtils 0.55 0.59
Module::Build 0.4204 0.4234
------------------------------
ENVIRONMENT AND OTHER CONTEXT
------------------------------
Environment variables:
LANG = en_US.UTF-8
LANGUAGE =
LC_ADDRESS =
LC_COLLATE =
LC_CTYPE =
LC_IDENTIFICATION =
LC_MEASUREMENT =
LC_MESSAGES =
LC_MONETARY =
LC_NAME =
LC_NUMERIC =
LC_PAPER =
LC_TELEPHONE =
LC_TIME =
PATH = /usr/lib/ccache/bin:/usr/local/sbin:/usr/local/bin:/usr/bin:/opt/android-sdk/platform-tools:/usr/lib/jvm/default/bin:/usr/bin/site_perl:/usr/bin/vendor_perl:/usr/bin/core_perl:/usr/share/perl6/vendor/bin:/home/swampyx/.raku/bin:/opt/android-ndk/toolchains/llvm/prebuilt/linux-x86_64/bin
PERL5LIB = /tmp/cpan/Date-Manip-6.97-0/blib/arch:/tmp/cpan/Date-Manip-6.97-0/blib/lib:/tmp/cpan/Crypt-DSA-1.19-0/blib/arch:/tmp/cpan/Crypt-DSA-1.19-0/blib/lib:/tmp/cpan/Audio-File-Wav-0.01a-0/blib/arch:/tmp/cpan/Audio-File-Wav-0.01a-0/blib/lib
PERL5OPT =
PERL5_CPANPLUS_IS_RUNNING = 9778
PERL5_CPAN_IS_RUNNING = 9778
PERL_USE_UNSAFE_INC = 1
SHELL = /usr/bin/zsh
TERM = xterm
Perl special variables (and OS-specific diagnostics, for MSWin32):
$^X = /usr/bin/perl
$UID/$EUID = 0 / 0
$GID = 0 0 1 2 3 4 6 10 19
$EGID = 0 0 1 2 3 4 6 10 19
Perl module toolchain versions installed:
Module Have
------------------- --------
CPAN 2.38
CPAN::Meta 2.150010
Cwd 3.91
ExtUtils::CBuilder 0.280236
ExtUtils::Command 7.70
ExtUtils::Install 2.22
ExtUtils::MakeMaker 7.70
ExtUtils::Manifest 1.75
ExtUtils::ParseXS 3.51
File::Spec 3.91
JSON 4.10
JSON::PP 4.16
Module::Build 0.4234
Module::Signature 0.89
Parse::CPAN::Meta 2.150010
Test2 1.302209
Test::Harness 3.50
Test::More 1.302209
YAML 1.31
YAML::Syck n/a
version 0.9933
--
Summary of my perl5 (revision 5 version 40 subversion 1) configuration:
Platform:
osname=linux
osvers=5.12.15-arch1-1
archname=x86_64-linux-thread-multi
uname='archlinux'
config_args='-des -Dusethreads -Duseshrplib -Doptimize=-march=x86-64 -mtune=generic -O2 -pipe -fno-plt -fexceptions -Wp,-D_FORTIFY_SOURCE=3 -Wformat -Werror=format-security -fstack-clash-protection -fcf-protection -fno-omit-frame-pointer -mno-omit-leaf-frame-pointer -g -ffile-prefix-map=/build/perl/src=/usr/src/debug/perl -flto=auto -Dprefix=/usr -Dvendorprefix=/usr -Dprivlib=/usr/share/perl5/core_perl -Darchlib=/usr/lib/perl5/5.40/core_perl -Dsitelib=/usr/share/perl5/site_perl -Dsitearch=/usr/lib/perl5/5.40/site_perl -Dvendorlib=/usr/share/perl5/vendor_perl -Dvendorarch=/usr/lib/perl5/5.40/vendor_perl -Dscriptdir=/usr/bin/core_perl -Dsitescript=/usr/bin/site_perl -Dvendorscript=/usr/bin/vendor_perl -Dinc_version_list=none -Dman1ext=1perl -Dman3ext=3perl -Dlddlflags=-shared -Wl,-O1 -Wl,--sort-common -Wl,--as-needed -Wl,-z,relro -Wl,-z,now -Wl,-z,pack-relative-relocs -flto=auto -Dldflags=-Wl,-O1 -Wl,--sort-common -Wl,--as-needed -Wl,-z,relro -Wl,-z,now -Wl,-z,pack-relative-relocs -flto=auto -Dloclibpth=/usr/lib/db5.3 -Dlocincpth=/usr/include/db5.3'
hint=recommended
useposix=true
d_sigaction=define
useithreads=define
usemultiplicity=define
use64bitint=define
use64bitall=define
uselongdouble=undef
usemymalloc=n
default_inc_excludes_dot=define
Compiler:
cc='cc'
ccflags ='-D_REENTRANT -D_GNU_SOURCE -fwrapv -fno-strict-aliasing -pipe -fstack-protector-strong -I/usr/include/db5.3 -D_LARGEFILE_SOURCE -D_FILE_OFFSET_BITS=64'
optimize='-march=x86-64 -mtune=generic -O2 -pipe -fno-plt -fexceptions -Wp,-D_FORTIFY_SOURCE=3 -Wformat -Werror=format-security -fstack-clash-protection -fcf-protection -fno-omit-frame-pointer -mno-omit-leaf-frame-pointer -g -ffile-prefix-map=/build/perl/src=/usr/src/debug/perl -flto=auto'
cppflags='-D_REENTRANT -D_GNU_SOURCE -fwrapv -fno-strict-aliasing -pipe -fstack-protector-strong -I/usr/include/db5.3'
ccversion=''
gccversion='14.2.1 20250207'
gccosandvers=''
intsize=4
longsize=8
ptrsize=8
doublesize=8
byteorder=12345678
doublekind=3
d_longlong=define
longlongsize=8
d_longdbl=define
longdblsize=16
longdblkind=3
ivtype='long'
ivsize=8
nvtype='double'
nvsize=8
Off_t='off_t'
lseeksize=8
alignbytes=8
prototype=define
Linker and Libraries:
ld='cc'
ldflags ='-Wl,-O1 -Wl,--sort-common -Wl,--as-needed -Wl,-z,relro -Wl,-z,now -Wl,-z,pack-relative-relocs -flto=auto -fstack-protector-strong -L/usr/lib/db5.3'
libpth=/usr/local/lib /usr/lib /usr/lib/db5.3
libs=-lpthread -lgdbm -ldb -ldl -lm -lcrypt -lutil -lc -lgdbm_compat
perllibs=-lpthread -ldl -lm -lcrypt -lutil -lc
libc=/lib/../lib/libc.so.6
so=so
useshrplib=true
libperl=libperl.so
gnulibc_version='2.41'
Dynamic Linking:
dlsrc=dl_dlopen.xs
dlext=so
d_dlsymun=undef
ccdlflags='-Wl,-E -Wl,-rpath,/usr/lib/perl5/5.40/core_perl/CORE'
cccdlflags='-fPIC'
lddlflags='-shared -Wl,-O1 -Wl,--sort-common -Wl,--as-needed -Wl,-z,relro -Wl,-z,now -Wl,-z,pack-relative-relocs -flto=auto -L/usr/lib/db5.3 -fstack-protector-strong'
Characteristics of this binary (from libperl):
Compile-time options:
HAS_LONG_DOUBLE
HAS_STRTOLD
HAS_TIMES
MULTIPLICITY
PERLIO_LAYERS
PERL_COPY_ON_WRITE
PERL_DONT_CREATE_GVSV
PERL_HASH_FUNC_SIPHASH13
PERL_HASH_USE_SBOX32
PERL_MALLOC_WRAP
PERL_OP_PARENT
PERL_PRESERVE_IVUV
PERL_USE_SAFE_PUTENV
USE_64_BIT_ALL
USE_64_BIT_INT
USE_ITHREADS
USE_LARGE_FILES
USE_LOCALE
USE_LOCALE_COLLATE
USE_LOCALE_CTYPE
USE_LOCALE_NUMERIC
USE_LOCALE_TIME
USE_PERLIO
USE_PERL_ATOF
USE_REENTRANT_API
USE_THREAD_SAFE_LOCALE
Built under linux
Compiled at Feb 8 2025 15:18:39
%ENV:
PERL5LIB="/tmp/cpan/Date-Manip-6.97-0/blib/arch:/tmp/cpan/Date-Manip-6.97-0/blib/lib:/tmp/cpan/Crypt-DSA-1.19-0/blib/arch:/tmp/cpan/Crypt-DSA-1.19-0/blib/lib:/tmp/cpan/Audio-File-Wav-0.01a-0/blib/arch:/tmp/cpan/Audio-File-Wav-0.01a-0/blib/lib"
PERL5OPT=""
PERL5_CPANPLUS_IS_RUNNING="9778"
PERL5_CPAN_IS_RUNNING="9778"
PERL_USE_UNSAFE_INC="1"
@INC:
/tmp/cpan/Date-Manip-6.97-0/blib/arch
/tmp/cpan/Date-Manip-6.97-0/blib/lib
/tmp/cpan/Crypt-DSA-1.19-0/blib/arch
/tmp/cpan/Crypt-DSA-1.19-0/blib/lib
/tmp/cpan/Audio-File-Wav-0.01a-0/blib/arch
/tmp/cpan/Audio-File-Wav-0.01a-0/blib/lib
/usr/lib/perl5/5.40/site_perl
/usr/share/perl5/site_perl
/usr/lib/perl5/5.40/vendor_perl
/usr/share/perl5/vendor_perl
/usr/lib/perl5/5.40/core_perl
/usr/share/perl5/core_perl
.