Scalar-List-Utils v1.69 Perl 5 v5.18.4 darwin-thread-multi-2level

Status
Pass
From
Roland van Ipenburg (IPENBURG)
Dist
Scalar-List-Utils v1.69
Platform
Perl 5 v5.18.4 darwin-thread-multi-2level
Date
2025-04-15 10:58:14
ID
87b5dfda-19e8-11f0-a830-8166d6105fc1
This distribution has been tested as part of the CPAN Testers
project, supporting the Perl programming language.  See
http://wiki.cpantesters.org/ for more information or email
questions to cpan-testers-discuss@perl.org


--
Dear Paul Evans,

This is a computer-generated report for Scalar-List-Utils-1.69
on perl 5.18.4, created by CPAN-Reporter-1.2020.

Thank you for uploading your work to CPAN.  Congratulations!
All tests were successful.

Sections of this report:

    * Tester comments
    * Program output
    * Prerequisites
    * Environment and other context

------------------------------
TESTER COMMENTS
------------------------------

Additional comments from tester:

none provided

------------------------------
PROGRAM OUTPUT
------------------------------

Output from '/usr/bin/make test':

"/usr/bin/perl" -MExtUtils::Command::MM -e 'cp_nonempty' -- Util.bs blib/arch/auto/List/Util/Util.bs 644
PERL_DL_NONLAZY=1 "/usr/bin/perl" "-MExtUtils::Command::MM" "-MTest::Harness" "-e" "undef *Test::Harness::Switches; test_harness(0, 'blib/lib', 'blib/arch')" t/*.t
t/00version.t ......... ok
t/any-all.t ........... ok
t/blessed.t ........... ok
t/dualvar.t ........... ok
t/exotic_names.t ...... ok
t/first.t ............. ok
t/getmagic-once.t ..... ok
t/head-tail.t ......... ok
t/isvstring.t ......... ok
t/lln.t ............... ok
t/max.t ............... ok
t/maxstr.t ............ ok
t/mesh.t .............. ok
t/min.t ............... ok
t/minstr.t ............ ok
t/openhan.t ........... ok
t/pair.t .............. ok
t/product.t ........... ok
t/prototype.t ......... ok
t/readonly.t .......... ok
t/reduce.t ............ ok
t/reductions.t ........ ok
t/refaddr.t ........... ok
t/reftype.t ........... ok
t/rt-96343.t .......... ok
t/sample.t ............ ok
t/scalarutil-proto.t .. ok
t/shuffle.t ........... ok
t/stack-corruption.t .. ok
t/subname.t ........... ok
t/sum.t ............... ok
t/sum0.t .............. ok
t/tainted.t ........... ok
t/undefined-block.t ... ok
t/uniq.t .............. ok
t/uniqnum.t ........... ok
t/weak.t .............. ok
t/zip.t ............... ok
All tests successful.
Files=38, Tests=2166,  6 wallclock secs ( 0.38 usr  0.11 sys +  4.15 cusr  0.90 csys =  5.54 CPU)
Result: PASS

------------------------------
PREREQUISITES
------------------------------

Prerequisite modules loaded:

requires:

    Module              Need  Have    
    ------------------- ----- --------
    perl                5.006 5.018004

build_requires:

    Module              Need  Have    
    ------------------- ----- --------
    ExtUtils::MakeMaker 0     7.74    
    Test::More          0     1.302209

configure_requires:

    Module              Need  Have    
    ------------------- ----- --------
    ExtUtils::MakeMaker 0     7.74    


------------------------------
ENVIRONMENT AND OTHER CONTEXT
------------------------------

Environment variables:

    LANG = en_US.UTF-8
    LC_ALL = en_US.UTF-8
    LC_CTYPE = UTF-8
    PATH = /usr/bin:/opt/local/bin:/opt/local/sbin:/usr/local/bin:/usr/bin:/bin:/usr/sbin:/sbin:/usr/local/MacGPG2/bin:/usr/local/share/dotnet:/opt/X11/bin:~/.dotnet/tools:/Library/Apple/usr/bin
    PERL5LIB = /Users/roland/.cpan/build/Pod-Parser-1.67-0/blib/arch:/Users/roland/.cpan/build/Pod-Parser-1.67-0/blib/lib:/Users/roland/.cpan/build/Net-DNS-1.50-0/blib/arch:/Users/roland/.cpan/build/Net-DNS-1.50-0/blib/lib
    PERL5OPT = 
    PERL5_CPANPLUS_IS_RUNNING = 75147
    PERL5_CPAN_IS_RUNNING = 75147
    PERL_USE_UNSAFE_INC = 1
    SHELL = /bin/bash
    TEMP = /var/tmp/
    TERM = xterm-256color
    TMPDIR = /var/folders/7l/g84992vx2mv_vz02s8yt60sc0000gn/T/
    VERSIONER_PERL_VERSION = 5.18

Perl special variables (and OS-specific diagnostics, for MSWin32):

    $^X = /usr/bin/perl
    $UID/$EUID = 501 / 501
    $GID = 20 20 504 12 61 79 80 81 98 703 702 701 33 100 204 250 395 398 399 400
    $EGID = 20 20 504 12 61 79 80 81 98 703 702 701 33 100 204 250 395 398 399 400

Perl module toolchain versions installed:

    Module              Have    
    ------------------- --------
    CPAN                2.38    
    CPAN::Meta          2.150010
    Cwd                 3.75    
    ExtUtils::CBuilder  0.280236
    ExtUtils::Command   7.74    
    ExtUtils::Install   2.22    
    ExtUtils::MakeMaker 7.74    
    ExtUtils::Manifest  1.75    
    ExtUtils::ParseXS   3.35    
    File::Spec          3.75    
    JSON                4.10    
    JSON::PP            4.16    
    Module::Build       0.4224  
    Module::Signature   0.89    
    Parse::CPAN::Meta   2.150010
    Test2               1.302209
    Test::Harness       3.50    
    Test::More          1.302209
    YAML                1.31    
    YAML::Syck          1.29    
    version             0.9933  


--

Summary of my perl5 (revision 5 version 18 subversion 4) configuration:
   
  Platform:
    osname=darwin, osvers=19.0, archname=darwin-thread-multi-2level
    uname='darwin osx397.sd.apple.com 19.0 darwin kernel version 18.0.0: tue jul 9 11:12:08 pdt 2019; root:xnu-4903.201.2.100.7~1release_x86_64 x86_64 '
    config_args='-ds -e -Dprefix=/usr -Dccflags=-g  -pipe  -Dldflags= -Dman3ext=3pm -Duseithreads -Duseshrplib -Dinc_version_list=none -Dcc=cc'
    hint=recommended, useposix=true, d_sigaction=define
    useithreads=define, usemultiplicity=define
    useperlio=define, d_sfio=undef, uselargefiles=define, usesocks=undef
    use64bitint=define, use64bitall=define, uselongdouble=undef
    usemymalloc=n, bincompat5005=undef
  Compiler:
    cc='cc', ccflags =' -g -pipe -fno-common -DPERL_DARWIN -fno-strict-aliasing -fstack-protector',
    optimize='-Os',
    cppflags='-g -pipe -fno-common -DPERL_DARWIN -fno-strict-aliasing -fstack-protector'
    ccversion='', gccversion='4.2.1 Compatible Apple LLVM 11.0.3 (clang-1103.0.29.20) (-macos10.15-objc-selector-opts)', gccosandvers=''
    intsize=4, longsize=8, ptrsize=8, doublesize=8, byteorder=12345678
    d_longlong=define, longlongsize=8, d_longdbl=define, longdblsize=16
    ivtype='long', ivsize=8, nvtype='double', nvsize=8, Off_t='off_t', lseeksize=8
    alignbytes=8, prototype=define
  Linker and Libraries:
    ld='cc', ldflags =' -fstack-protector'
    libpth=/usr/lib /usr/local/lib
    libs= 
    perllibs=
    libc=, so=dylib, useshrplib=true, libperl=libperl.dylib
    gnulibc_version=''
  Dynamic Linking:
    dlsrc=dl_dlopen.xs, dlext=bundle, d_dlsymun=undef, ccdlflags=' '
    cccdlflags=' ', lddlflags=' -bundle -undefined dynamic_lookup -fstack-protector'


Characteristics of this binary (from libperl): 
  Compile-time options: HAS_TIMES MULTIPLICITY PERLIO_LAYERS
                        PERL_DONT_CREATE_GVSV
                        PERL_HASH_FUNC_ONE_AT_A_TIME_HARD
                        PERL_IMPLICIT_CONTEXT PERL_MALLOC_WRAP
                        PERL_PRESERVE_IVUV PERL_SAWAMPERSAND USE_64_BIT_ALL
                        USE_64_BIT_INT USE_ITHREADS USE_LARGE_FILES
                        USE_LOCALE USE_LOCALE_COLLATE USE_LOCALE_CTYPE
                        USE_LOCALE_NUMERIC USE_PERLIO USE_PERL_ATOF
                        USE_REENTRANT_API
  Locally applied patches:
	/Library/Perl/Updates/<version> comes before system perl directories
	installprivlib and installarchlib points to the Updates directory
  Built under darwin
  Compiled at Jun  5 2020 17:34:07
  %ENV:
    PERL5LIB="/Users/roland/.cpan/build/Pod-Parser-1.67-0/blib/arch:/Users/roland/.cpan/build/Pod-Parser-1.67-0/blib/lib:/Users/roland/.cpan/build/Net-DNS-1.50-0/blib/arch:/Users/roland/.cpan/build/Net-DNS-1.50-0/blib/lib"
    PERL5OPT=""
    PERL5_CPANPLUS_IS_RUNNING="75147"
    PERL5_CPAN_IS_RUNNING="75147"
    PERL_USE_UNSAFE_INC="1"
  @INC:
    /Users/roland/.cpan/build/Pod-Parser-1.67-0/blib/arch
    /Users/roland/.cpan/build/Pod-Parser-1.67-0/blib/lib
    /Users/roland/.cpan/build/Net-DNS-1.50-0/blib/arch
    /Users/roland/.cpan/build/Net-DNS-1.50-0/blib/lib
    /Library/Perl/5.18/darwin-thread-multi-2level
    /Library/Perl/5.18
    /Network/Library/Perl/5.18/darwin-thread-multi-2level
    /Network/Library/Perl/5.18
    /Library/Perl/Updates/5.18.4/darwin-thread-multi-2level
    /Library/Perl/Updates/5.18.4
    /System/Library/Perl/5.18/darwin-thread-multi-2level
    /System/Library/Perl/5.18
    /System/Library/Perl/Extras/5.18/darwin-thread-multi-2level
    /System/Library/Perl/Extras/5.18
    .