Soar-Production v0.03 Perl 5 v5.29.8 OpenBSD.amd64-openbsd-thread-multi

Status
Pass
From
Alceu Rodrigues de Freitas Junior
Dist
Soar-Production v0.03
Platform
Perl 5 v5.29.8 OpenBSD.amd64-openbsd-thread-multi
Date
2019-03-06 04:44:31
ID
881b918a-3fca-11e9-8391-b1aa41aa1439
This distribution has been tested as part of the CPAN Testers
project, supporting the Perl programming language.  See
http://wiki.cpantesters.org/ for more information or email
questions to cpan-testers-discuss@perl.org


--
Dear Nathan Gary Glenn,

This is a computer-generated report for Soar-Production-0.03
on perl 5.29.8, created by CPAN-Reporter-1.2018.

Thank you for uploading your work to CPAN.  Congratulations!
All tests were successful.

Sections of this report:

    * Tester comments
    * Program output
    * Prerequisites
    * Environment and other context

------------------------------
TESTER COMMENTS
------------------------------

Additional comments from tester:

this report is from an automated smoke testing program
and was not reviewed by a human for accuracy

------------------------------
PROGRAM OUTPUT
------------------------------

Output from './Build test':

t/0-use.t ........................ ok
t/00-compile.t ................... ok
# 
# 
# Generated by Dist::Zilla::Plugin::ReportVersions::Tiny v1.08
# perl: 5.029008 (wanted 5.010) on openbsd from /home/vegeta/perl5/perlbrew/perls/perl-blead/bin/perl5.29.8
# 
# Carp                                          => 1.50       (want any version)
# Data::Diver                                   => 1.0101     (want any version)
# Data::Dumper                                  => 2.173      (want any version)
# Exporter::Easy                                => 0.18       (want any version)
# File::Find                                    => 1.36       (want any version)
# File::Spec                                    => 3.75       (want any version)
# File::Spec::Functions                         => 3.75       (want any version)
# File::Temp                                    => 0.2309     (want any version)
# FindBin                                       => 1.51       (want any version)
# Module::Build                                 => 0.4224     (want 0.3601) 
# Parse::RecDescent                             => 1.967015   (want any version)
# Path::Tiny                                    => 0.108      (want any version)
# Pod::Coverage::TrustPod                       => 0.100005   (want any version)
# Test::Base                                    => 0.89       (want any version)
# Test::Base::Filter                            => <undef>    (want any version)
# Test::CPAN::Meta                              => 0.25       (want any version)
# Test::Deep                                    => 1.128      (want any version)
# Test::Exception                               => 0.43       (want any version)
# Test::LongString                              => 0.17       (want any version)
# Test::More                                    => 1.302162   (want 0.88)   
# Test::Pod                                     => 1.52       (want 1.41)   
# Test::Pod::Coverage                           => 1.10       (want 1.08)   
# Test::Warn                                    => 0.35       (want any version)
# strict                                        => 1.11       (want any version)
# utf8                                          => 1.21       (want any version)
# version                                       => 0.9924     (want 0.9901) 
# warnings                                      => 1.43       (want any version)
# 
# Thanks for using my code.  I hope it works for you.
# If not, please try and include this output in the bug report.
# That will help me reproduce the issue and solve your problem.
# 
t/000-report-versions-tiny.t ..... ok
t/1-basic.t ...................... ok
t/parser/00-use.t ................ ok
t/parser/01-bad_input.t .......... ok
t/parser/01_5-comments.t ......... ok
t/parser/02-split-productions.t .. ok
t/parser/03-production-names.t ... ok
t/parser/04-documentation.t ...... ok
t/parser/05-Flags.t .............. ok
t/parser/06-State.t .............. ok
t/parser/07-variables.t .......... ok
t/parser/08-attributes.t ......... ok
t/parser/09-int.t ................ ok
t/parser/10-float.t .............. ok
t/parser/11-string.t ............. ok
t/parser/12-quoted.t ............. ok
t/parser/13-disjunct.t ........... ok
t/parser/14-conjunct.t ........... ok
t/parser/15-predicate.t .......... ok
t/parser/16-preference.t ......... ok
t/parser/17-function.t ........... ok
t/parser/18-negative.t ........... ok
t/parser/19-conjunctiveCond.t .... ok
t/parser/20-test_data.t .......... ok
t/printer/0-use.t ................ ok
t/printer/1-test_data.t .......... ok
All tests successful.
Files=28, Tests=1816, 101 wallclock secs ( 0.13 usr  0.28 sys + 92.63 cusr  5.84 csys = 98.88 CPU)
Result: PASS

------------------------------
PREREQUISITES
------------------------------

Prerequisite modules loaded:

requires:

    Module                Need   Have    
    --------------------- ------ --------
    Carp                  0      1.50    
    Data::Dumper          0      2.173   
    Exporter::Easy        0      0.18    
    Parse::RecDescent     0      1.967015
    perl                  5.010  5.029008
    strict                0      1.11    
    warnings              0      1.43    

build_requires:

    Module                Need   Have    
    --------------------- ------ --------
    Data::Diver           0      1.0101  
    File::Find            0      1.36    
    File::Spec            0      3.75    
    File::Spec::Functions 0      3.75    
    File::Temp            0      0.2309  
    FindBin               0      1.51    
    Module::Build         0.3601 0.4224  
    Path::Tiny            0      0.108   
    Test::Base            0      0.89    
    Test::Base::Filter    0      0       
    Test::Deep            0      1.128   
    Test::Exception       0      0.43    
    Test::LongString      0      0.17    
    Test::More            0.88   1.302162
    Test::Warn            0      0.35    
    utf8                  0      1.21    

configure_requires:

    Module                Need   Have    
    --------------------- ------ --------
    Module::Build         0.3601 0.4224  


------------------------------
ENVIRONMENT AND OTHER CONTEXT
------------------------------

Environment variables:

    AUTOMATED_TESTING = 1
    DBD_MYSQL_TESTDB = test
    DBD_MYSQL_TESTHOST = localhost
    DBD_MYSQL_TESTPASSWORD = 
    DBD_MYSQL_TESTPORT = 3306
    DBD_MYSQL_TESTUSER = vegeta
    EXTENDED_TESTING = 1
    PATH = /home/vegeta/perl5/perlbrew/bin:/home/vegeta/perl5/perlbrew/perls/perl-blead/bin:/home/vegeta/bin:/usr/bin:/bin:/usr/sbin:/sbin:/usr/X11R6/bin:/usr/local/bin:/usr/local/sbin
    PERL5LIB = 
    PERL5OPT = 
    PERL5_CPANPLUS_IS_RUNNING = 63583
    PERL5_CPAN_IS_RUNNING = 63583
    PERL5_CPAN_IS_RUNNING_IN_RECURSION = 11134,63583
    PERLBREW_HOME = /home/vegeta/.perlbrew
    PERLBREW_MANPATH = /home/vegeta/perl5/perlbrew/perls/perl-blead/man
    PERLBREW_PATH = /home/vegeta/perl5/perlbrew/bin:/home/vegeta/perl5/perlbrew/perls/perl-blead/bin
    PERLBREW_PERL = perl-blead
    PERLBREW_ROOT = /home/vegeta/perl5/perlbrew
    PERLBREW_SHELLRC_VERSION = 0.86
    PERLBREW_VERSION = 0.86
    PERL_CR_SMOKER_CURRENT = Soar-Production-0.03
    PERL_EXTUTILS_AUTOINSTALL = --defaultdeps
    PERL_MM_USE_DEFAULT = 1
    PERL_USE_UNSAFE_INC = 1
    SHELL = /usr/local/bin/bash
    TERM = xterm

Perl special variables (and OS-specific diagnostics, for MSWin32):

    $^X = /home/vegeta/perl5/perlbrew/perls/perl-blead/bin/perl5.29.8
    $UID/$EUID = 1002 / 1002
    $GID = 1002 1002 1001
    $EGID = 1002 1002 1001

Perl module toolchain versions installed:

    Module              Have    
    ------------------- --------
    CPAN                2.25    
    CPAN::Meta          2.150010
    Cwd                 3.75    
    ExtUtils::CBuilder  0.280230
    ExtUtils::Command   7.35_10 
    ExtUtils::Install   2.14    
    ExtUtils::MakeMaker 7.35_10 
    ExtUtils::Manifest  1.71    
    ExtUtils::ParseXS   3.35    
    File::Spec          3.75    
    JSON                4.02    
    JSON::PP            4.02    
    Module::Build       0.4224  
    Module::Signature   n/a     
    Parse::CPAN::Meta   2.150010
    Test::Harness       3.42    
    Test::More          1.302162
    YAML                1.27    
    YAML::Syck          n/a     
    version             0.9924  


--

Summary of my perl5 (revision 5 version 29 subversion 8) configuration:
  Snapshot of: e8db349f5c61708301fd5463e49bfe95c448dd6d
  Platform:
    osname=openbsd
    osvers=6.4
    archname=OpenBSD.amd64-openbsd-thread-multi
    uname='openbsd cpan-smoker-openbsd 6.4 generic.mp#364 amd64 '
    config_args='-de -Dprefix=/home/vegeta/perl5/perlbrew/perls/perl-blead -Dman1dir=none -Dman3dir=none -Dusemultiplicity -Duse64bitall -Duse64bitint -Dusethreads -Dusedevel -Aeval:scriptdir=/home/vegeta/perl5/perlbrew/perls/perl-blead/bin'
    hint=recommended
    useposix=true
    d_sigaction=define
    useithreads=define
    usemultiplicity=define
    use64bitint=define
    use64bitall=define
    uselongdouble=undef
    usemymalloc=n
    default_inc_excludes_dot=define
    bincompat5005=undef
  Compiler:
    cc='cc'
    ccflags ='-pthread -fno-strict-aliasing -pipe -fstack-protector-strong -I/usr/local/include -D_FORTIFY_SOURCE=2'
    optimize='-O2'
    cppflags='-pthread -fno-strict-aliasing -pipe -fstack-protector-strong -I/usr/local/include'
    ccversion=''
    gccversion='4.2.1 Compatible OpenBSD Clang 6.0.0 (tags/RELEASE_600/final)'
    gccosandvers=''
    intsize=4
    longsize=8
    ptrsize=8
    doublesize=8
    byteorder=12345678
    doublekind=3
    d_longlong=define
    longlongsize=8
    d_longdbl=define
    longdblsize=16
    longdblkind=3
    ivtype='long'
    ivsize=8
    nvtype='double'
    nvsize=8
    Off_t='off_t'
    lseeksize=8
    alignbytes=8
    prototype=define
  Linker and Libraries:
    ld='cc'
    ldflags ='-pthread -Wl,-E  -fstack-protector-strong -L/usr/local/lib'
    libpth=/usr/lib /usr/local/lib
    libs=-lpthread -lm -lutil -lc
    perllibs=-lpthread -lm -lutil -lc
    libc=/usr/lib/libc.so.92.5
    so=so
    useshrplib=false
    libperl=libperl.a
    gnulibc_version=''
  Dynamic Linking:
    dlsrc=dl_dlopen.xs
    dlext=so
    d_dlsymun=undef
    ccdlflags=' '
    cccdlflags='-DPIC -fPIC '
    lddlflags='-shared -fPIC  -L/usr/local/lib -fstack-protector-strong'


Characteristics of this binary (from libperl): 
  Compile-time options:
    HAS_TIMES
    MULTIPLICITY
    PERLIO_LAYERS
    PERL_COPY_ON_WRITE
    PERL_DONT_CREATE_GVSV
    PERL_IMPLICIT_CONTEXT
    PERL_MALLOC_WRAP
    PERL_OP_PARENT
    PERL_PRESERVE_IVUV
    PERL_USE_DEVEL
    USE_64_BIT_ALL
    USE_64_BIT_INT
    USE_ITHREADS
    USE_LARGE_FILES
    USE_LOCALE
    USE_LOCALE_COLLATE
    USE_LOCALE_CTYPE
    USE_LOCALE_NUMERIC
    USE_LOCALE_TIME
    USE_PERLIO
    USE_PERL_ATOF
    USE_REENTRANT_API
    USE_THREAD_SAFE_LOCALE
  Locally applied patches:
    Devel::PatchPerl 1.52
  Built under openbsd
  Compiled at Jan 31 2019 01:07:38
  %ENV:
    PERL5LIB=""
    PERL5OPT=""
    PERL5_CPANPLUS_IS_RUNNING="63583"
    PERL5_CPAN_IS_RUNNING="63583"
    PERL5_CPAN_IS_RUNNING_IN_RECURSION="11134,63583"
    PERLBREW_HOME="/home/vegeta/.perlbrew"
    PERLBREW_MANPATH="/home/vegeta/perl5/perlbrew/perls/perl-blead/man"
    PERLBREW_PATH="/home/vegeta/perl5/perlbrew/bin:/home/vegeta/perl5/perlbrew/perls/perl-blead/bin"
    PERLBREW_PERL="perl-blead"
    PERLBREW_ROOT="/home/vegeta/perl5/perlbrew"
    PERLBREW_SHELLRC_VERSION="0.86"
    PERLBREW_VERSION="0.86"
    PERL_CR_SMOKER_CURRENT="Soar-Production-0.03"
    PERL_EXTUTILS_AUTOINSTALL="--defaultdeps"
    PERL_MM_USE_DEFAULT="1"
    PERL_USE_UNSAFE_INC="1"
  @INC:
    /home/vegeta/perl5/perlbrew/perls/perl-blead/lib/site_perl/5.29.8/OpenBSD.amd64-openbsd-thread-multi
    /home/vegeta/perl5/perlbrew/perls/perl-blead/lib/site_perl/5.29.8
    /home/vegeta/perl5/perlbrew/perls/perl-blead/lib/5.29.8/OpenBSD.amd64-openbsd-thread-multi
    /home/vegeta/perl5/perlbrew/perls/perl-blead/lib/5.29.8
    .