HTML-Rebase v0.05 Perl 5 v5.28.2 RC1 amd64-freebsd

Status
Pass
From
Slaven Rezić (SREZIC)
Dist
HTML-Rebase v0.05
Platform
Perl 5 v5.28.2 RC1 amd64-freebsd
Date
2019-04-10 10:00:55
ID
885f0d16-5b77-11e9-aba1-3c781f24ea8f
This distribution has been tested as part of the CPAN Testers
project, supporting the Perl programming language.  See
http://wiki.cpantesters.org/ for more information or email
questions to cpan-testers-discuss@perl.org


--
Dear Max Maischein,

This is a computer-generated report for HTML-Rebase-0.05
on perl 5.28.2, created by CPAN-Reporter-1.2018.

Thank you for uploading your work to CPAN.  Congratulations!
All tests were successful.

Sections of this report:

    * Tester comments
    * Program output
    * Prerequisites
    * Environment and other context

------------------------------
TESTER COMMENTS
------------------------------

Additional comments from tester:

none provided

------------------------------
PROGRAM OUTPUT
------------------------------

Output from '/usr/bin/make test':

PERL_DL_NONLAZY=1 "/usr/perl5.28.2-RC1p/bin/perl" "-MExtUtils::Command::MM" "-MTest::Harness" "-e" "undef *Test::Harness::Switches; test_harness(0, 'blib/lib', 'blib/arch')" t/00-load.t t/01-synopsis.t t/02-quotes.t t/03-base.t t/04-case.t t/05-rebase-css.t t/06-relative-url.t
# Testing HTML::Rebase 0.05, Perl 5.028002
# Carp 1.50
# Config 5.028002
# Cwd 3.74
# DynaLoader 1.45
# Encode 2.97
# Encode::Alias 2.24
# Encode::Config 2.05
# Encode::Encoding 2.08
# Encode::MIME::Name 1.03
# Exporter 5.73
# Exporter::Heavy 5.73
# ExtUtils::Liblist 7.34
# ExtUtils::Liblist::Kid 7.34
# ExtUtils::MM 7.34
# ExtUtils::MM_Any 7.34
# ExtUtils::MM_Unix 7.34
# ExtUtils::MY 7.34
# ExtUtils::MakeMaker 7.34
# ExtUtils::MakeMaker::Config 7.34
# ExtUtils::MakeMaker::Locale 7.34
# ExtUtils::MakeMaker::version 7.34
# Fcntl 1.13
# File::Basename 2.85
# File::Glob 1.31
# File::Path 2.15
# File::Spec 3.74
# File::Spec::Unix 3.74
# HTML::Rebase 0.05
# I18N::Langinfo 0.17
# Importer 0.025
# List::Util 1.5
# MIME::Charset 1.012.2
# POSIX 1.84
# PerlIO 1.10
# Scalar::Util 1.5
# Storable 3.08_01
# Storable::Limit <unknown>
# Term::ReadKey 2.38
# Term::Size::Any 0.002
# Term::Size::Perl 0.031
# Term::Size::Perl::Params 0.031
# Term::Table 0.013
# Term::Table::Cell 0.013
# Term::Table::HashBase 0.003
# Term::Table::LineBreak 0.013
# Term::Table::Util 0.013
# Test::Builder 1.302162
# Test::Builder::Formatter 1.302162
# Test::Builder::Module 1.302162
# Test::Builder::TodoDiag 1.302162
# Test::More 1.302162
# Test2::API 1.302162
# Test2::API::Context 1.302162
# Test2::API::Instance 1.302162
# Test2::API::Stack 1.302162
# Test2::Event 1.302162
# Test2::Event::Bail 1.302162
# Test2::Event::Diag 1.302162
# Test2::Event::Exception 1.302162
# Test2::Event::Fail 1.302162
# Test2::Event::Note 1.302162
# Test2::Event::Ok 1.302162
# Test2::Event::Pass 1.302162
# Test2::Event::Plan 1.302162
# Test2::Event::Skip 1.302162
# Test2::Event::Subtest 1.302162
# Test2::Event::V2 1.302162
# Test2::Event::Waiting 1.302162
# Test2::EventFacet 1.302162
# Test2::EventFacet::About 1.302162
# Test2::EventFacet::Amnesty 1.302162
# Test2::EventFacet::Assert 1.302162
# Test2::EventFacet::Control 1.302162
# Test2::EventFacet::Error 1.302162
# Test2::EventFacet::Hub 1.302162
# Test2::EventFacet::Info 1.302162
# Test2::EventFacet::Meta 1.302162
# Test2::EventFacet::Parent 1.302162
# Test2::EventFacet::Plan 1.302162
# Test2::EventFacet::Trace 1.302162
# Test2::Formatter 1.302162
# Test2::Formatter::TAP 1.302162
# Test2::Hub 1.302162
# Test2::Hub::Interceptor 1.302162
# Test2::Hub::Interceptor::Terminator 1.302162
# Test2::Hub::Subtest 1.302162
# Test2::Util 1.302162
# Test2::Util::ExternalMeta 1.302162
# Test2::Util::Facets2Legacy 1.302162
# Test2::Util::HashBase 1.302162
# Test2::Util::Trace 1.302162
# Tie::Hash 1.05
# URI 1.76
# URI::Escape 3.31
# URI::URL 5.04
# URI::WithBase 2.20
# Unicode::GCString 2013.10
# Unicode::LineBreak 2019.001
# Unicode::LineBreak::Constants <unknown>
# XSLoader 0.30
# base 2.27
# bytes 1.06
# constant 1.33
# mro 1.22
# overload 1.30
# overloading 0.02
# parent 0.236
# re 0.36
# strict 1.11
# vars 1.04
# version 0.9923
# version::regex 0.9923
# warnings 1.42
# warnings::register 1.04
t/00-load.t .......... ok
t/01-synopsis.t ...... ok
t/02-quotes.t ........ ok
t/03-base.t .......... ok
t/04-case.t .......... ok
t/05-rebase-css.t .... ok
t/06-relative-url.t .. ok
All tests successful.
Files=7, Tests=12,  1 wallclock secs ( 0.04 usr  0.02 sys +  0.86 cusr  0.27 csys =  1.20 CPU)
Result: PASS

------------------------------
PREREQUISITES
------------------------------

Prerequisite modules loaded:

requires:

    Module              Need  Have    
    ------------------- ----- --------
    Carp                0     1.50    
    Exporter            5     5.73    
    perl                5.006 5.028002
    URI::URL            0     5.04    
    URI::WithBase       0     2.20    

build_requires:

    Module              Need  Have    
    ------------------- ----- --------
    ExtUtils::MakeMaker 0     7.34    
    Test::More          0     1.302162

configure_requires:

    Module              Need  Have    
    ------------------- ----- --------
    ExtUtils::MakeMaker 0     7.34    


------------------------------
ENVIRONMENT AND OTHER CONTEXT
------------------------------

Environment variables:

    LC_ALL = de_DE.UTF-8
    PATH = /usr/local/bin:/usr/bin:/bin:/usr/local/sbin:/usr/sbin:/sbin:/home/cpansand/bin/freebsd12.0:/home/cpansand/bin/sh:/home/cpansand/bin:/usr/games:/home/cpansand/devel:/usr/home/eserte/src/srezic-misc/scripts
    PERL5LIB = /home/cpansand/.cpan/build/2019041009/Plack-Middleware-Statsd-v0.3.9-0/blib/arch:/home/cpansand/.cpan/build/2019041009/Plack-Middleware-Statsd-v0.3.9-0/blib/lib
    PERL5OPT = 
    PERL5_CPANPLUS_IS_RUNNING = 51107
    PERL5_CPAN_IS_RUNNING = 51107
    PERL5_CPAN_IS_RUNNING_IN_RECURSION = 78384,51107
    PERLDOC = -MPod::Perldoc::ToTextOverstrike
    PERL_BATCH = yes
    PERL_CANARY_STABILITY_NOPROMPT = 1
    PERL_CPAN_REPORTER_CONFIG = /var/tmp/cpansmoker-1023/2019040821/cpanreporter_001_config.ini
    PERL_EXTUTILS_AUTOINSTALL = --defaultdeps
    PERL_PARALLEL_SMOKER = yes
    PERL_USE_UNSAFE_INC = 1
    SHELL = /usr/local/bin/zsh
    TERM = screen
    TMPDIR = /var/tmp/cpansmoker-1023/2019040821

Perl special variables (and OS-specific diagnostics, for MSWin32):

    $^X = /usr/perl5.28.2-RC1p/bin/perl
    $UID/$EUID = 1023 / 1023
    $GID = 1023 1023
    $EGID = 1023 1023

Perl module toolchain versions installed:

    Module              Have    
    ------------------- --------
    CPAN                2.20    
    CPAN::Meta          2.150010
    Cwd                 3.74    
    ExtUtils::CBuilder  0.280231
    ExtUtils::Command   7.34    
    ExtUtils::Install   2.14    
    ExtUtils::MakeMaker 7.34    
    ExtUtils::Manifest  1.70    
    ExtUtils::ParseXS   3.39    
    File::Spec          3.74    
    JSON                4.02    
    JSON::PP            2.97001 
    Module::Build       0.4224  
    Module::Signature   0.83    
    Parse::CPAN::Meta   2.150010
    Test::Harness       3.42    
    Test::More          1.302162
    YAML                1.27    
    YAML::Syck          1.31    
    version             0.9923  


--

Summary of my perl5 (revision 5 version 28 subversion 2) configuration:
   
  Platform:
    osname=freebsd
    osvers=12.0-stable
    archname=amd64-freebsd
    uname='freebsd cloud1.bbbike.org 12.0-stable freebsd 12.0-stable 09c6161fb01(stable12) generic amd64 '
    config_args='-ds -e -Dprefix=/usr/perl5.28.2-RC1p -Dcf_email=srezic@cpan.org -Dnoextensions=GDBM_File -Doptimize=-O2 -pipe'
    hint=recommended
    useposix=true
    d_sigaction=define
    useithreads=undef
    usemultiplicity=undef
    use64bitint=define
    use64bitall=define
    uselongdouble=undef
    usemymalloc=n
    default_inc_excludes_dot=define
    bincompat5005=undef
  Compiler:
    cc='cc'
    ccflags ='-DHAS_FPSETMASK -DHAS_FLOATINGPOINT_H -fno-strict-aliasing -pipe -fstack-protector-strong -I/usr/local/include -D_FORTIFY_SOURCE=2'
    optimize='-O2 -pipe'
    cppflags='-DHAS_FPSETMASK -DHAS_FLOATINGPOINT_H -fno-strict-aliasing -pipe -fstack-protector-strong -I/usr/local/include'
    ccversion=''
    gccversion='4.2.1 Compatible FreeBSD Clang 7.0.1 (tags/RELEASE_701/final 349250)'
    gccosandvers=''
    intsize=4
    longsize=8
    ptrsize=8
    doublesize=8
    byteorder=12345678
    doublekind=3
    d_longlong=define
    longlongsize=8
    d_longdbl=define
    longdblsize=16
    longdblkind=3
    ivtype='long'
    ivsize=8
    nvtype='double'
    nvsize=8
    Off_t='off_t'
    lseeksize=8
    alignbytes=8
    prototype=define
  Linker and Libraries:
    ld='cc'
    ldflags ='-pthread -Wl,-E  -fstack-protector-strong -L/usr/local/lib'
    libpth=/usr/lib /usr/local/lib /usr/lib/clang/7.0.1/lib /usr/lib
    libs=-lpthread -lgdbm -ldl -lm -lcrypt -lutil -lc
    perllibs=-lpthread -ldl -lm -lcrypt -lutil -lc
    libc=
    so=so
    useshrplib=false
    libperl=libperl.a
    gnulibc_version=''
  Dynamic Linking:
    dlsrc=dl_dlopen.xs
    dlext=so
    d_dlsymun=undef
    ccdlflags=' '
    cccdlflags='-DPIC -fPIC'
    lddlflags='-shared  -L/usr/local/lib -fstack-protector-strong'


Characteristics of this binary (from libperl): 
  Compile-time options:
    HAS_TIMES
    PERLIO_LAYERS
    PERL_COPY_ON_WRITE
    PERL_DONT_CREATE_GVSV
    PERL_MALLOC_WRAP
    PERL_OP_PARENT
    PERL_PRESERVE_IVUV
    USE_64_BIT_ALL
    USE_64_BIT_INT
    USE_LARGE_FILES
    USE_LOCALE
    USE_LOCALE_COLLATE
    USE_LOCALE_CTYPE
    USE_LOCALE_NUMERIC
    USE_LOCALE_TIME
    USE_PERLIO
    USE_PERL_ATOF
  Locally applied patches:
    RC1
  Built under freebsd
  Compiled at Apr  6 2019 06:44:18
  %ENV:
    PERL5LIB="/home/cpansand/.cpan/build/2019041009/Plack-Middleware-Statsd-v0.3.9-0/blib/arch:/home/cpansand/.cpan/build/2019041009/Plack-Middleware-Statsd-v0.3.9-0/blib/lib"
    PERL5OPT=""
    PERL5_CPANPLUS_IS_RUNNING="51107"
    PERL5_CPAN_IS_RUNNING="51107"
    PERL5_CPAN_IS_RUNNING_IN_RECURSION="78384,51107"
    PERLDOC="-MPod::Perldoc::ToTextOverstrike"
    PERL_BATCH="yes"
    PERL_CANARY_STABILITY_NOPROMPT="1"
    PERL_CPAN_REPORTER_CONFIG="/var/tmp/cpansmoker-1023/2019040821/cpanreporter_001_config.ini"
    PERL_EXTUTILS_AUTOINSTALL="--defaultdeps"
    PERL_PARALLEL_SMOKER="yes"
    PERL_USE_UNSAFE_INC="1"
  @INC:
    /home/cpansand/.cpan/build/2019041009/Plack-Middleware-Statsd-v0.3.9-0/blib/arch
    /home/cpansand/.cpan/build/2019041009/Plack-Middleware-Statsd-v0.3.9-0/blib/lib
    /usr/perl5.28.2-RC1p/lib/site_perl/5.28.2/amd64-freebsd
    /usr/perl5.28.2-RC1p/lib/site_perl/5.28.2
    /usr/perl5.28.2-RC1p/lib/5.28.2/amd64-freebsd
    /usr/perl5.28.2-RC1p/lib/5.28.2
    .