Back
From: metabase:user:9c36dc84-a30f-11e0-a9fc-0a18abbd4f2f
Subject: PASS Web-Query-0.38 v5.20.2 OpenBSD
Date: 2016-07-28T01:13:46Z
This distribution has been tested as part of the CPAN Testers
project, supporting the Perl programming language. See
http://wiki.cpantesters.org/ for more information or email
questions to cpan-testers-discuss@perl.org
--
Dear Yanick Champoux,
This is a computer-generated report for Web-Query-0.38
on perl 5.20.2, created by CPAN-Reporter-1.2018.
Thank you for uploading your work to CPAN. Congratulations!
All tests were successful.
Sections of this report:
* Tester comments
* Program output
* Prerequisites
* Environment and other context
------------------------------
TESTER COMMENTS
------------------------------
Additional comments from tester:
this report is from an automated smoke testing program
and was not reviewed by a human for accuracy
------------------------------
PROGRAM OUTPUT
------------------------------
Output from '/usr/bin/make test':
PERL_DL_NONLAZY=1 "/usr/bin/perl" "-MExtUtils::Command::MM" "-MTest::Harness" "-e" "undef *Test::Harness::Switches; test_harness(0, 'blib/lib', 'blib/arch')" t/*.t
t/00-compile.t ...................... ok
#
# Versions for all modules listed in MYMETA.json (including optional ones):
#
# === Configure Requires ===
#
# Module Want Have
# ------------------- ---- -------
# ExtUtils::MakeMaker any 7.19_06
#
# === Build Requires ===
#
# Module Want Have
# ------------------- ---- -------
# ExtUtils::MakeMaker any 7.19_06
#
# === Test Requires ===
#
# Module Want Have
# ------------------- ---- --------
# Cwd any 3.62
# ExtUtils::MakeMaker any 7.19_06
# File::Spec any 3.62
# FindBin any 1.51
# IO::Handle any 1.35
# IPC::Open3 any 1.16
# Test::Exception any 0.43
# Test::More any 1.302045
# lib any 0.63
# utf8 any 1.13_01
#
# === Test Recommends ===
#
# Module Want Have
# ---------- -------- --------
# CPAN::Meta 2.120900 2.150006
#
# === Runtime Requires ===
#
# Module Want Have
# ------------------------- ---- -----
# Exporter any 5.72
# HTML::Entities any 3.69
# HTML::Selector::XPath 0.20 0.20
# HTML::TreeBuilder::LibXML any 0.25
# HTML::TreeBuilder::XPath any 0.14
# LWP::UserAgent any 6.15
# List::Util 1.44 1.45
# Scalar::Util any 1.45
# parent any 0.234
# strict any 1.08
# warnings any 1.23
#
t/00-report-prereqs.t ............... ok
t/00_compile.t ...................... ok
# testing Web::Query
# testing Web::Query::LibXML
t/01_src.t .......................... ok
# testing Web::Query
# testing Web::Query::LibXML
t/02_op.t ........................... ok
# testing Web::Query
# testing Web::Query::LibXML
t/03_traverse.t ..................... ok
# testing Web::Query
# testing Web::Query::LibXML
t/04_element.t ...................... ok
# testing Web::Query
# testing Web::Query::LibXML
t/05_html5.t ........................ ok
t/06_new_from_url_error_handling.t .. ok
# testing Web::Query
# testing Web::Query::LibXML
t/07_remove.t ....................... ok
t/08_indent.t ....................... ok
# testing Web::Query
# testing Web::Query::LibXML
t/09_as_html.t ...................... ok
t/10_subclass.t ..................... ok
# testing Web::Query
# testing Web::Query::LibXML
t/11_get_eq.t ....................... ok
# testing Web::Query
# testing Web::Query::LibXML
t/add.t ............................. ok
# testing Web::Query
# testing Web::Query::LibXML
t/after.t ........................... ok
# testing Web::Query
# testing Web::Query::LibXML
t/append.t .......................... ok
# testing Web::Query
# testing Web::Query::LibXML
t/attr.t ............................ ok
t/bad-url-with-options.t ............ ok
# testing Web::Query
# testing Web::Query::LibXML
t/before.t .......................... ok
t/bug-text-contents.t ............... ok
t/class.t ........................... ok
# testing Web::Query
# testing Web::Query::LibXML
t/clone.t ........................... ok
# testing Web::Query
# testing Web::Query::LibXML
t/contents.t ........................ ok
# testing Web::Query
# testing Web::Query::LibXML
t/detach.t .......................... ok
t/filter.t .......................... ok
# testing Web::Query
# testing Web::Query::LibXML
t/find.t ............................ ok
# testing Web::Query
# testing Web::Query::LibXML
t/has_class.t ....................... ok
# testing Web::Query
# testing Web::Query::LibXML
t/insert_after.t .................... ok
# testing Web::Query
# testing Web::Query::LibXML
t/insert_before.t ................... ok
t/match_and_not.t ................... ok
t/new.t ............................. ok
# testing Web::Query
# testing Web::Query::LibXML
t/next.t ............................ ok
# testing Web::Query
# testing Web::Query::LibXML
t/next_until.t ...................... ok
t/no_space_compacting.t ............. ok
t/node-types.t ...................... ok
# testing Web::Query
# testing Web::Query::LibXML
t/prepend.t ......................... ok
# testing Web::Query
# testing Web::Query::LibXML
t/prev.t ............................ ok
t/processing-instructions.t ......... ok
t/remove.t .......................... ok
# testing Web::Query
# testing Web::Query::LibXML
t/remove_class.t .................... ok
t/replace_with.t .................... ok
t/special-attributes.t .............. ok
t/split.t ........................... ok
# testing Web::Query
# testing Web::Query::LibXML
t/store_comments.t .................. ok
t/tagname.t ......................... ok
t/xpath.t ........................... ok
All tests successful.
Files=47, Tests=207, 12 wallclock secs ( 0.12 usr 0.32 sys + 6.09 cusr 4.14 csys = 10.67 CPU)
Result: PASS
------------------------------
PREREQUISITES
------------------------------
Prerequisite modules loaded:
requires:
Module Need Have
------------------------- -------- --------
Exporter 0 5.72
HTML::Entities 0 3.69
HTML::Selector::XPath 0.20 0.20
HTML::TreeBuilder::LibXML 0 0.25
HTML::TreeBuilder::XPath 0 0.14
List::Util 1.44 1.45
LWP::UserAgent 0 6.15
parent 0 0.234
perl 5.008005 5.020002
Scalar::Util 0 1.45
strict 0 1.08
warnings 0 1.23
build_requires:
Module Need Have
------------------------- -------- --------
Cwd 0 3.62
ExtUtils::MakeMaker 0 7.19_06
File::Spec 0 3.62
FindBin 0 1.51
IO::Handle 0 1.35
IPC::Open3 0 1.16
lib 0 0.63
Test::Exception 0 0.43
Test::More 0 1.302045
utf8 0 1.13_01
configure_requires:
Module Need Have
------------------------- -------- --------
ExtUtils::MakeMaker 0 7.19_06
opt_build_requires:
Module Need Have
------------------------- -------- --------
CPAN::Meta 2.120900 2.150006
------------------------------
ENVIRONMENT AND OTHER CONTEXT
------------------------------
Environment variables:
AUTOMATED_TESTING = 1
PATH = /home/arfreitas/bin:/home/arfreitas/perl5/bin:/usr/bin:/bin:/usr/sbin:/sbin:/usr/X11R6/bin:/usr/local/bin:/usr/local/sbin
PERL5LIB = /home/arfreitas/perl5/lib/perl5
PERL5OPT =
PERL5_CPANPLUS_IS_RUNNING = 14084
PERL5_CPAN_IS_RUNNING = 14084
PERL5_CPAN_IS_RUNNING_IN_RECURSION = 23665,14084
PERL_CR_SMOKER_CURRENT = Web-Query-0.38
PERL_EXTUTILS_AUTOINSTALL = --defaultdeps
PERL_LOCAL_LIB_ROOT = /home/arfreitas/perl5
PERL_MB_OPT = --install_base "/home/arfreitas/perl5"
PERL_MM_OPT = INSTALL_BASE=/home/arfreitas/perl5
PERL_MM_USE_DEFAULT = 1
SHELL = /usr/local/bin/bash
TERM = vt220
Perl special variables (and OS-specific diagnostics, for MSWin32):
$^X = /usr/bin/perl
$UID/$EUID = 1000 / 1000
$GID = 1000 1000 0
$EGID = 1000 1000 0
Perl module toolchain versions installed:
Module Have
------------------- --------
CPAN 2.15
CPAN::Meta 2.150006
Cwd 3.62
ExtUtils::CBuilder 0.280224
ExtUtils::Command 7.19_06
ExtUtils::Install 2.04
ExtUtils::MakeMaker 7.19_06
ExtUtils::Manifest 1.70
ExtUtils::ParseXS 3.30
File::Spec 3.62
JSON 2.90
JSON::PP 2.27400
Module::Build 0.4218
Module::Signature n/a
Parse::CPAN::Meta 1.4420
Test::Harness 3.36
Test::More 1.302045
YAML 1.18
YAML::Syck 1.29
version 0.9912
--
Summary of my perl5 (revision 5 version 20 subversion 2) configuration:
Platform:
osname=openbsd, osvers=5.9, archname=amd64-openbsd
uname='openbsd'
config_args='-dsE -Dopenbsd_distribution=defined -Dccflags=-DNO_LOCALE_NUMERIC -DNO_LOCALE_COLLATE -Dmksymlinks'
hint=recommended, useposix=true, d_sigaction=define
useithreads=undef, usemultiplicity=undef
use64bitint=define, use64bitall=define, uselongdouble=undef
usemymalloc=n, bincompat5005=undef
Compiler:
cc='cc', ccflags ='-DNO_LOCALE_NUMERIC -DNO_LOCALE_COLLATE -fno-strict-aliasing -fno-delete-null-pointer-checks -pipe -fstack-protector -I/usr/local/include',
optimize='-O2',
cppflags='-DNO_LOCALE_NUMERIC -DNO_LOCALE_COLLATE -fno-strict-aliasing -fno-delete-null-pointer-checks -pipe -fstack-protector -I/usr/local/include'
ccversion='', gccversion='4.2.1 20070719 ', gccosandvers='openbsd5.9'
intsize=4, longsize=8, ptrsize=8, doublesize=8, byteorder=12345678
d_longlong=define, longlongsize=8, d_longdbl=define, longdblsize=16
ivtype='long', ivsize=8, nvtype='double', nvsize=8, Off_t='off_t', lseeksize=8
alignbytes=8, prototype=define
Linker and Libraries:
ld='cc', ldflags ='-Wl,-E -fstack-protector -L/usr/local/lib'
libpth=/usr/lib /usr/local/lib
libs=-lm -lutil -lc
perllibs=-lm -lutil -lc
libc=/usr/lib/libc.a, so=so, useshrplib=true, libperl=libperl.so.17.1
gnulibc_version=''
Dynamic Linking:
dlsrc=dl_dlopen.xs, dlext=so, d_dlsymun=undef, ccdlflags='-Wl,-R/usr/libdata/perl5/amd64-openbsd/5.20.2/CORE'
cccdlflags='-DPIC -fPIC ', lddlflags='-shared -fPIC -fstack-protector -L/usr/local/lib'
Characteristics of this binary (from libperl):
Compile-time options: HAS_TIMES PERLIO_LAYERS PERL_DONT_CREATE_GVSV
PERL_HASH_FUNC_ONE_AT_A_TIME_HARD PERL_MALLOC_WRAP
PERL_NEW_COPY_ON_WRITE PERL_PRESERVE_IVUV
USE_64_BIT_ALL USE_64_BIT_INT USE_LARGE_FILES
USE_LOCALE USE_LOCALE_CTYPE USE_PERLIO USE_PERL_ATOF
Built under openbsd
Compiled at Feb 26 2016 01:02:08
%ENV:
PERL5LIB="/home/arfreitas/perl5/lib/perl5"
PERL5OPT=""
PERL5_CPANPLUS_IS_RUNNING="14084"
PERL5_CPAN_IS_RUNNING="14084"
PERL5_CPAN_IS_RUNNING_IN_RECURSION="23665,14084"
PERL_CR_SMOKER_CURRENT="Web-Query-0.38"
PERL_EXTUTILS_AUTOINSTALL="--defaultdeps"
PERL_LOCAL_LIB_ROOT="/home/arfreitas/perl5"
PERL_MB_OPT="--install_base "/home/arfreitas/perl5""
PERL_MM_OPT="INSTALL_BASE=/home/arfreitas/perl5"
PERL_MM_USE_DEFAULT="1"
@INC:
/home/arfreitas/perl5/lib/perl5/5.20.2/amd64-openbsd
/home/arfreitas/perl5/lib/perl5/5.20.2
/home/arfreitas/perl5/lib/perl5/amd64-openbsd
/home/arfreitas/perl5/lib/perl5
/usr/local/libdata/perl5/site_perl/amd64-openbsd
/usr/libdata/perl5/site_perl/amd64-openbsd
/usr/local/libdata/perl5/site_perl
/usr/libdata/perl5/site_perl
/usr/libdata/perl5/amd64-openbsd/5.20.2
/usr/local/libdata/perl5/amd64-openbsd/5.20.2
/usr/libdata/perl5
/usr/local/libdata/perl5
.