Starman v0.4017 Perl 5 v5.36.0 x86_64-linux-ld
- Status
- Pass
- From
- Slaven Rezić
- Dist
-
Starman v0.4017
- Platform
- Perl 5 v5.36.0 x86_64-linux-ld
- Date
- 2023-09-15 22:02:16
- ID
- 88790f10-5413-11ee-83f9-3c2c6e8775ea
This distribution has been tested as part of the CPAN Testers
project, supporting the Perl programming language. See
http://wiki.cpantesters.org/ for more information or email
questions to cpan-testers-discuss@perl.org
--
Dear Tatsuhiko Miyagawa,
This is a computer-generated report for Starman-0.4017
on perl 5.36.0, created by CPAN-Reporter-1.2018.
Thank you for uploading your work to CPAN. Congratulations!
All tests were successful.
Sections of this report:
* Tester comments
* Program output
* Prerequisites
* Environment and other context
------------------------------
TESTER COMMENTS
------------------------------
Additional comments from tester:
none provided
------------------------------
PROGRAM OUTPUT
------------------------------
Output from './Build test':
t/00_compile.t ........... ok
t/author-pod-syntax.t .... skipped: these tests are for testing by the author
2023/09/15-19:09:59 Starman::Server (type Net::Server::PreFork) starting! pid(1540746)
Binding to TCP port 45515 on host 127.0.0.1 with IPv4
Setting gid to "1023 1023 1023"
2023/09/15-19:09:59 Server closing!
t/chunked_req.t .......... ok
t/chunked_termination.t .. ok
2023/09/15-19:09:59 Starman::Server (type Net::Server::PreFork) starting! pid(1540754)
Binding to TCP port 36575 on host 127.0.0.1 with IPv4
Setting gid to "1023 1023 1023"
2023/09/15-19:09:59 Server closing!
t/chunked_zero_length.t .. ok
2023/09/15-19:09:59 Starman::Server (type Net::Server::PreFork) starting! pid(1540761)
Binding to TCP port 36333 on host 127.0.0.1 with IPv4
Setting gid to "1023 1023 1023"
2023/09/15-19:09:59 Server closing!
t/early-hints.t .......... ok
2023/09/15-19:10:00 Starman::Server (type Net::Server::PreFork) starting! pid(1540768)
Binding to TCP port 36983 on host 127.0.0.1 with IPv4
Setting gid to "1023 1023 1023"
2023/09/15-19:10:01 Server closing!
t/eintr.t ................ ok
2023/09/15-19:10:01 Starman::Server (type Net::Server::PreFork) starting! pid(1540776)
Binding to TCP port 41571 on host 127.0.0.1 with IPv4
Setting gid to "1023 1023 1023"
2023/09/15-19:10:01 Server closing!
t/expect.t ............... ok
2023/09/15-19:10:01 Starman::Server (type Net::Server::PreFork) starting! pid(1540783)
Binding to TCP port 32953 on host 127.0.0.1 with IPv4
Setting gid to "1023 1023 1023"
2023/09/15-19:10:01 Server closing!
2023/09/15-19:10:01 Starman::Server (type Net::Server::PreFork) starting! pid(1540789)
Binding to TCP port 40961 on host 127.0.0.1 with IPv4
Setting gid to "1023 1023 1023"
2023/09/15-19:10:01 Server closing!
t/harakiri.t ............. ok
2023/09/15-19:10:01 Starman::Server (type Net::Server::PreFork) starting! pid(1540817)
Binding to TCP port 43275 on host 127.0.0.1 with IPv4
Setting gid to "1023 1023 1023"
2023/09/15-19:10:01 Server closing!
t/lf_only_request.t ...... ok
2023/09/15-19:10:01 Starman::Server (type Net::Server::PreFork) starting! pid(1540824)
Binding to TCP port 37501 on host 127.0.0.1 with IPv4
Setting gid to "1023 1023 1023"
2023/09/15-19:10:01 Server closing!
t/no_chunked_head.t ...... ok
t/release-findbin.t ...... skipped: these tests are for release candidate testing
t/release-rand.t ......... skipped: these tests are for release candidate testing
2023/09/15-19:10:01 Starman::Server (type Net::Server::PreFork) starting! pid(1540838)
Binding to TCP port 42357 on host 127.0.0.1 with IPv4
Setting gid to "1023 1023 1023"
2023/09/15-19:10:01 Server closing!
t/single_zero.t .......... ok
2023/09/15-19:10:02 Starman::Server (type Net::Server::PreFork) starting! pid(1540845)
Resolved [localhost]:38637 to [127.0.0.1]:38637, IPv4
Binding to SSL port 38637 on host 127.0.0.1 with IPv4
Setting gid to "1023 1023 1023"
Could not finalize SSL connection with client handle (SSL accept attempt failed)
2023/09/15-19:10:02 Server closing!
t/ssl.t .................. ok
2023/09/15-19:10:02 Starman::Server (type Net::Server::PreFork) starting! pid(1540853)
Resolved [localhost]:46695 to [127.0.0.1]:46695, IPv4
Binding to SSL port 46695 on host 127.0.0.1 with IPv4
Setting gid to "1023 1023 1023"
Could not finalize SSL connection with client handle (SSL accept attempt failed)
2023/09/15-19:10:02 Server closing!
t/ssl_largebody.t ........ ok
2023/09/15-19:10:02 Starman::Server (type Net::Server::PreFork) starting! pid(1540861)
Binding to TCP port 42551 on host 127.0.0.1 with IPv4
Setting gid to "1023 1023 1023"
2023/09/15-19:10:02 Server closing!
t/suite.t ................ ok
All tests successful.
Files=17, Tests=125, 3 wallclock secs ( 0.04 usr 0.05 sys + 1.33 cusr 0.77 csys = 2.19 CPU)
Result: PASS
------------------------------
PREREQUISITES
------------------------------
Prerequisite modules loaded:
requires:
Module Need Have
------------------- -------- --------
Data::Dump 0 1.25
HTTP::Date 0 6.05
HTTP::Parser::XS 0 0.17
HTTP::Status 0 6.36
Net::Server 2.007 2.010
parent 0 0.238
perl 5.008001 5.036000
Plack 0.9971 1.0048
Test::TCP 2.00 2.22
build_requires:
Module Need Have
------------------- -------- --------
LWP::UserAgent 0 6.66
Test::More 0 1.302190
Test::Requires 0 0.11
configure_requires:
Module Need Have
------------------- -------- --------
Module::Build::Tiny 0.034 0.039
------------------------------
ENVIRONMENT AND OTHER CONTEXT
------------------------------
Environment variables:
LANG = C
PATH = /usr/local/bin:/usr/bin:/bin:/usr/local/sbin:/usr/sbin:/sbin:/home/cpansand/bin/linux-gnu:/home/cpansand/bin/sh:/home/cpansand/bin:/usr/games:/home/cpansand/devel:/home/eserte/src/srezic-misc/scripts
PERL5LIB =
PERL5OPT =
PERL5_CPANPLUS_IS_RUNNING = 1540716
PERL5_CPAN_IS_RUNNING = 1540716
PERL5_CPAN_IS_RUNNING_IN_RECURSION = 835774,1540716
PERLDOC = -MPod::Perldoc::ToTextOverstrike
PERL_BATCH = yes
PERL_CANARY_STABILITY_NOPROMPT = 1
PERL_CPAN_REPORTER_CONFIG = /var/tmp/cpansmoker-1023/2023091508/cpanreporter_000_config.ini
PERL_EXTUTILS_AUTOINSTALL = --defaultdeps
PERL_USE_UNSAFE_INC = 1
SHELL = /usr/bin/zsh
TERM = screen
TMPDIR = /var/tmp/cpansmoker-1023/2023091508
Perl special variables (and OS-specific diagnostics, for MSWin32):
$^X = /bbbike/opt/perl-5.36.0D/bin/perl
$UID/$EUID = 1023 / 1023
$GID = 1023 1023
$EGID = 1023 1023
Perl module toolchain versions installed:
Module Have
------------------- --------
CPAN 2.33
CPAN::Meta 2.150010
Cwd 3.84
ExtUtils::CBuilder 0.280236
ExtUtils::Command 7.64
ExtUtils::Install 2.20
ExtUtils::MakeMaker 7.64
ExtUtils::Manifest 1.73
ExtUtils::ParseXS 3.45
File::Spec 3.84
JSON 4.06
JSON::PP 4.07
Module::Build 0.4231
Module::Signature n/a
Parse::CPAN::Meta 2.150010
Test::Harness 3.44
Test::More 1.302190
YAML 1.30
YAML::Syck 1.34
version 0.9929
--
Summary of my perl5 (revision 5 version 36 subversion 0) configuration:
Platform:
osname=linux
osvers=5.10.0-13-amd64
archname=x86_64-linux-ld
uname='linux eserte 5.10.0-13-amd64 #1 smp debian 5.10.106-1 (2022-03-17) x86_64 gnulinux '
config_args='-ds -e -Dprefix=/opt/perl-5.36.0D -Duselongdouble -Dcf_email=srezic@cpan.org'
hint=recommended
useposix=true
d_sigaction=define
useithreads=undef
usemultiplicity=undef
use64bitint=define
use64bitall=define
uselongdouble=define
usemymalloc=n
default_inc_excludes_dot=define
Compiler:
cc='cc'
ccflags ='-fwrapv -fno-strict-aliasing -pipe -fstack-protector-strong -I/usr/local/include -D_LARGEFILE_SOURCE -D_FILE_OFFSET_BITS=64 -D_FORTIFY_SOURCE=2'
optimize='-O2'
cppflags='-fwrapv -fno-strict-aliasing -pipe -fstack-protector-strong -I/usr/local/include'
ccversion=''
gccversion='10.2.1 20210110'
gccosandvers=''
intsize=4
longsize=8
ptrsize=8
doublesize=8
byteorder=12345678
doublekind=3
d_longlong=define
longlongsize=8
d_longdbl=define
longdblsize=16
longdblkind=3
ivtype='long'
ivsize=8
nvtype='long double'
nvsize=16
Off_t='off_t'
lseeksize=8
alignbytes=16
prototype=define
Linker and Libraries:
ld='cc'
ldflags =' -fstack-protector-strong -L/usr/local/lib'
libpth=/usr/local/lib /usr/lib/x86_64-linux-gnu /usr/lib /lib/x86_64-linux-gnu /lib
libs=-lpthread -lnsl -lgdbm -ldb -ldl -lm -lcrypt -lutil -lc
perllibs=-lpthread -lnsl -ldl -lm -lcrypt -lutil -lc
libc=libc-2.31.so
so=so
useshrplib=false
libperl=libperl.a
gnulibc_version='2.31'
Dynamic Linking:
dlsrc=dl_dlopen.xs
dlext=so
d_dlsymun=undef
ccdlflags='-Wl,-E'
cccdlflags='-fPIC'
lddlflags='-shared -O2 -L/usr/local/lib -fstack-protector-strong'
Characteristics of this binary (from libperl):
Compile-time options:
HAS_TIMES
PERLIO_LAYERS
PERL_COPY_ON_WRITE
PERL_DONT_CREATE_GVSV
PERL_MALLOC_WRAP
PERL_OP_PARENT
PERL_PRESERVE_IVUV
USE_64_BIT_ALL
USE_64_BIT_INT
USE_LARGE_FILES
USE_LOCALE
USE_LOCALE_COLLATE
USE_LOCALE_CTYPE
USE_LOCALE_NUMERIC
USE_LOCALE_TIME
USE_LONG_DOUBLE
USE_PERLIO
USE_PERL_ATOF
Built under linux
Compiled at May 30 2022 19:47:12
%ENV:
PERL5LIB=""
PERL5OPT=""
PERL5_CPANPLUS_IS_RUNNING="1540716"
PERL5_CPAN_IS_RUNNING="1540716"
PERL5_CPAN_IS_RUNNING_IN_RECURSION="835774,1540716"
PERLDOC="-MPod::Perldoc::ToTextOverstrike"
PERL_BATCH="yes"
PERL_CANARY_STABILITY_NOPROMPT="1"
PERL_CPAN_REPORTER_CONFIG="/var/tmp/cpansmoker-1023/2023091508/cpanreporter_000_config.ini"
PERL_EXTUTILS_AUTOINSTALL="--defaultdeps"
PERL_USE_UNSAFE_INC="1"
@INC:
/opt/perl-5.36.0D/lib/site_perl/5.36.0/x86_64-linux-ld
/opt/perl-5.36.0D/lib/site_perl/5.36.0
/opt/perl-5.36.0D/lib/5.36.0/x86_64-linux-ld
/opt/perl-5.36.0D/lib/5.36.0
.