MooseX-amine v0.7 Perl 5 v5.32.1 i386-openbsd

Status
Pass
From
Alceu Rodrigues de Freitas Junior
Dist
MooseX-amine v0.7
Platform
Perl 5 v5.32.1 i386-openbsd
Date
2022-06-18 05:28:49
ID
8879f3e2-eec7-11ec-b737-db65ffa5fe2c
This distribution has been tested as part of the CPAN Testers
project, supporting the Perl programming language.  See
http://wiki.cpantesters.org/ for more information or email
questions to cpan-testers-discuss@perl.org


--
Dear John SJ Anderson,

This is a computer-generated report for MooseX-amine-0.7
on perl 5.32.1, created by CPAN-Reporter-1.2018.

Thank you for uploading your work to CPAN.  Congratulations!
All tests were successful.

Sections of this report:

    * Tester comments
    * Program output
    * Prerequisites
    * Environment and other context

------------------------------
TESTER COMMENTS
------------------------------

Additional comments from tester:

this report is from an automated smoke testing program
and was not reviewed by a human for accuracy

------------------------------
PROGRAM OUTPUT
------------------------------

Output from '/usr/bin/make test':

Skip blib/lib/auto/share/dist/MooseX-amine/public/css/sh_the.css (unchanged)
Skip blib/lib/auto/share/dist/MooseX-amine/public/css/sh_golden.min.css (unchanged)
Skip blib/lib/auto/share/dist/MooseX-amine/public/css/sh_navy.css (unchanged)
Skip blib/lib/auto/share/dist/MooseX-amine/public/css/sh_berries-dark.css (unchanged)
Skip blib/lib/auto/share/dist/MooseX-amine/public/css/sh_ide-kdev.min.css (unchanged)
Skip blib/lib/auto/share/dist/MooseX-amine/public/css/sh_peachpuff.min.css (unchanged)
Skip blib/lib/auto/share/dist/MooseX-amine/public/css/sh_zellner.css (unchanged)
Skip blib/lib/auto/share/dist/MooseX-amine/public/css/sh_vim.min.css (unchanged)
Skip blib/lib/auto/share/dist/MooseX-amine/public/css/sh_emacs.min.css (unchanged)
Skip blib/lib/auto/share/dist/MooseX-amine/public/css/sh_print.css (unchanged)
Skip blib/lib/auto/share/dist/MooseX-amine/public/css/sh_berries-light.css (unchanged)
Skip blib/lib/auto/share/dist/MooseX-amine/views/show.tt (unchanged)
Skip blib/lib/auto/share/dist/MooseX-amine/public/css/sh_matlab.min.css (unchanged)
Skip blib/lib/auto/share/dist/MooseX-amine/public/css/sh_zellner.min.css (unchanged)
Skip blib/lib/auto/share/dist/MooseX-amine/public/css/sh_blacknblue.min.css (unchanged)
Skip blib/lib/auto/share/dist/MooseX-amine/public/css/sh_ide-devcpp.min.css (unchanged)
Skip blib/lib/auto/share/dist/MooseX-amine/public/css/sh_berries-light.min.css (unchanged)
Skip blib/lib/auto/share/dist/MooseX-amine/public/css/sh_desert.css (unchanged)
Skip blib/lib/auto/share/dist/MooseX-amine/public/css/sh_typical.css (unchanged)
Skip blib/lib/auto/share/dist/MooseX-amine/public/css/sh_whitengrey.min.css (unchanged)
Skip blib/lib/auto/share/dist/MooseX-amine/public/css/sh_darkblue.min.css (unchanged)
Skip blib/lib/auto/share/dist/MooseX-amine/public/css/sh_ide-anjuta.min.css (unchanged)
Skip blib/lib/auto/share/dist/MooseX-amine/public/css/sh_desert.min.css (unchanged)
Skip blib/lib/auto/share/dist/MooseX-amine/public/css/sh_darkness.css (unchanged)
Skip blib/lib/auto/share/dist/MooseX-amine/public/css/sh_ide-kdev.css (unchanged)
Skip blib/lib/auto/share/dist/MooseX-amine/public/css/sh_navy.min.css (unchanged)
Skip blib/lib/auto/share/dist/MooseX-amine/public/css/sh_ide-eclipse.min.css (unchanged)
Skip blib/lib/auto/share/dist/MooseX-amine/public/css/sh_ide-msvcpp.css (unchanged)
Skip blib/lib/auto/share/dist/MooseX-amine/public/css/sh_emacs.css (unchanged)
Skip blib/lib/auto/share/dist/MooseX-amine/public/css/sh_night.css (unchanged)
Skip blib/lib/auto/share/dist/MooseX-amine/public/css/sh_kwrite.css (unchanged)
Skip blib/lib/auto/share/dist/MooseX-amine/public/css/sh_nedit.min.css (unchanged)
Skip blib/lib/auto/share/dist/MooseX-amine/public/css/sh_nedit.css (unchanged)
Skip blib/lib/auto/share/dist/MooseX-amine/public/css/sh_rand01.css (unchanged)
Skip blib/lib/auto/share/dist/MooseX-amine/public/js/sh_perl.min.js (unchanged)
Skip blib/lib/auto/share/dist/MooseX-amine/public/css/sh_acid.min.css (unchanged)
Skip blib/lib/auto/share/dist/MooseX-amine/public/css/sh_dull.min.css (unchanged)
Skip blib/lib/auto/share/dist/MooseX-amine/public/css/sh_bipolar.css (unchanged)
Skip blib/lib/auto/share/dist/MooseX-amine/public/css/sh_acid.css (unchanged)
Skip blib/lib/auto/share/dist/MooseX-amine/public/css/sh_the.min.css (unchanged)
Skip blib/lib/auto/share/dist/MooseX-amine/public/css/sh_kwrite.min.css (unchanged)
Skip blib/lib/auto/share/dist/MooseX-amine/public/css/sh_whatis.css (unchanged)
Skip blib/lib/auto/share/dist/MooseX-amine/public/css/sh_print.min.css (unchanged)
Skip blib/lib/auto/share/dist/MooseX-amine/public/js/sh_main.min.js (unchanged)
Skip blib/lib/auto/share/dist/MooseX-amine/public/css/sh_bipolar.min.css (unchanged)
Skip blib/lib/auto/share/dist/MooseX-amine/public/css/sh_ide-codewarrior.css (unchanged)
Skip blib/lib/auto/share/dist/MooseX-amine/public/css/sh_blacknblue.css (unchanged)
Skip blib/lib/auto/share/dist/MooseX-amine/public/css/sh_peachpuff.css (unchanged)
Skip blib/lib/auto/share/dist/MooseX-amine/public/css/sh_ide-codewarrior.min.css (unchanged)
Skip blib/lib/auto/share/dist/MooseX-amine/public/css/sh_whatis.min.css (unchanged)
Skip blib/lib/auto/share/dist/MooseX-amine/public/css/sh_night.min.css (unchanged)
Skip blib/lib/auto/share/dist/MooseX-amine/views/layouts/main.tt (unchanged)
Skip blib/lib/auto/share/dist/MooseX-amine/public/css/sh_darkness.min.css (unchanged)
Skip blib/lib/auto/share/dist/MooseX-amine/public/css/sh_ide-eclipse.css (unchanged)
Skip blib/lib/auto/share/dist/MooseX-amine/public/css/sh_pablo.min.css (unchanged)
Skip blib/lib/auto/share/dist/MooseX-amine/public/css/sh_neon.min.css (unchanged)
Skip blib/lib/auto/share/dist/MooseX-amine/public/css/sh_pablo.css (unchanged)
Skip blib/lib/auto/share/dist/MooseX-amine/public/css/sh_bright.min.css (unchanged)
Skip blib/lib/auto/share/dist/MooseX-amine/public/css/sh_neon.css (unchanged)
Skip blib/lib/auto/share/dist/MooseX-amine/public/css/sh_golden.css (unchanged)
Skip blib/lib/auto/share/dist/MooseX-amine/views/index.tt (unchanged)
Skip blib/lib/auto/share/dist/MooseX-amine/public/js/jquery.styleswitch.js (unchanged)
Skip blib/lib/auto/share/dist/MooseX-amine/public/js/jquery.cookie.js (unchanged)
Skip blib/lib/auto/share/dist/MooseX-amine/public/css/sh_vim-dark.css (unchanged)
Skip blib/lib/auto/share/dist/MooseX-amine/public/css/sh_contrast.min.css (unchanged)
Skip blib/lib/auto/share/dist/MooseX-amine/public/css/sh_contrast.css (unchanged)
Skip blib/lib/auto/share/dist/MooseX-amine/public/css/sh_rand01.min.css (unchanged)
Skip blib/lib/auto/share/dist/MooseX-amine/public/css/sh_greenlcd.css (unchanged)
Skip blib/lib/auto/share/dist/MooseX-amine/public/css/sh_ide-msvcpp.min.css (unchanged)
Skip blib/lib/auto/share/dist/MooseX-amine/public/css/sh_vim.css (unchanged)
Skip blib/lib/auto/share/dist/MooseX-amine/public/css/sh_ide-devcpp.css (unchanged)
Skip blib/lib/auto/share/dist/MooseX-amine/public/css/sh_ide-anjuta.css (unchanged)
Skip blib/lib/auto/share/dist/MooseX-amine/public/css/sh_easter.min.css (unchanged)
Skip blib/lib/auto/share/dist/MooseX-amine/public/css/sh_easter.css (unchanged)
Skip blib/lib/auto/share/dist/MooseX-amine/public/css/sh_darkblue.css (unchanged)
Skip blib/lib/auto/share/dist/MooseX-amine/public/css/sh_vim-dark.min.css (unchanged)
Skip blib/lib/auto/share/dist/MooseX-amine/public/css/sh_matlab.css (unchanged)
Skip blib/lib/auto/share/dist/MooseX-amine/public/css/sh_dull.css (unchanged)
Skip blib/lib/auto/share/dist/MooseX-amine/public/css/sh_vampire.css (unchanged)
Skip blib/lib/auto/share/dist/MooseX-amine/public/css/sh_vampire.min.css (unchanged)
Skip blib/lib/auto/share/dist/MooseX-amine/views/list.tt (unchanged)
Skip blib/lib/auto/share/dist/MooseX-amine/public/css/sh_whitengrey.css (unchanged)
Skip blib/lib/auto/share/dist/MooseX-amine/public/css/sh_bright.css (unchanged)
Skip blib/lib/auto/share/dist/MooseX-amine/public/css/sh_berries-dark.min.css (unchanged)
Skip blib/lib/auto/share/dist/MooseX-amine/public/css/sh_typical.min.css (unchanged)
Skip blib/lib/auto/share/dist/MooseX-amine/public/css/sh_greenlcd.min.css (unchanged)
PERL_DL_NONLAZY=1 "/usr/bin/perl" "-MExtUtils::Command::MM" "-MTest::Harness" "-e" "undef *Test::Harness::Switches; test_harness(0, 'blib/lib', 'blib/arch')" t/*.t
t/01-basic-object.t ............................. ok
t/02-basic-role.t ............................... ok
t/03-basic-object-with-role.t ................... ok
t/04-basic-object-overriding-role.t ............. ok
t/05-basic-object-include-all.t ................. ok
t/06-basic-object-by-path.t ..................... ok
t/11-inherit-object.t ........................... ok
t/12-inherit-object-with-role.t ................. ok
t/13-inherit-object-with-base-role.t ............ ok
t/14-inherit-object-with-role-with-base-role.t .. ok
t/15-inherit-object-base-common-role.t .......... ok
t/21-override-object.t .......................... ok
t/22-override-role.t ............................ ok
t/31-trap-fatals.t .............................. ok
t/author-pod-coverage.t ......................... skipped: these tests are for testing by the author
t/author-pod-syntax.t ........................... skipped: these tests are for testing by the author
All tests successful.
Files=16, Tests=36, 19 wallclock secs ( 0.07 usr  0.08 sys +  6.75 cusr  1.91 csys =  8.81 CPU)
Result: PASS

------------------------------
PREREQUISITES
------------------------------

Prerequisite modules loaded:

requires:

    Module                       Need  Have      
    ---------------------------- ----- ----------
    autodie                      0     2.34      
    Dancer                       0     1.3514_03 
    File::Find::Rule             0     0.34      
    File::ShareDir               0     1.118     
    File::Spec                   0     3.78      
    Hash::Merge                  0     0.302     
    List::Util                   0     1.62      
    Modern::Perl                 0     1.20220515
    Module::Info                 0     0.37      
    Moose                        2.000 2.2201    
    Moose::Meta::Class           0     2.2201    
    Moose::Meta::Role            0     2.2201    
    Moose::Util::TypeConstraints 0     2.2201    
    perl                         5.010 5.032001  
    PPI                          0     1.274     
    strict                       0     1.11      
    Template                     0     3.100     
    Test::Deep::NoTest           0     0         
    Try::Tiny                    0     0.31      
    warnings                     0     1.47      

build_requires:

    Module                       Need  Have      
    ---------------------------- ----- ----------
    ExtUtils::MakeMaker          0     7.65_01   
    lib                          0     0.65      
    Moose::Role                  0     2.2201    
    Pod::Coverage::TrustPod      0     0.100005  
    Test::More                   0     1.302190  
    Test::Pod                    1.41  1.52      
    Test::Pod::Coverage          1.08  1.10      
    Test::Trap                   0     0.3.4     

configure_requires:

    Module                       Need  Have      
    ---------------------------- ----- ----------
    ExtUtils::MakeMaker          0     7.65_01   
    File::ShareDir::Install      0.06  0.13      


------------------------------
ENVIRONMENT AND OTHER CONTEXT
------------------------------

Environment variables:

    AUTOMATED_TESTING = 1
    PATH = /home/goku/perl5/bin:/usr/bin:/bin:/usr/sbin:/sbin:/usr/X11R6/bin:/usr/local/bin:/usr/local/sbin
    PERL5LIB = /home/goku/perl5/lib/perl5
    PERL5OPT = 
    PERL5_CPANPLUS_IS_RUNNING = 68330
    PERL5_CPAN_IS_RUNNING = 68330
    PERL5_CPAN_IS_RUNNING_IN_RECURSION = 6441,68330
    PERL_CR_SMOKER_CURRENT = MooseX-amine-0.7
    PERL_EXTUTILS_AUTOINSTALL = --defaultdeps
    PERL_LOCAL_LIB_ROOT = /home/goku/perl5
    PERL_MB_OPT = --install_base "/home/goku/perl5"
    PERL_MM_OPT = INSTALL_BASE=/home/goku/perl5
    PERL_MM_USE_DEFAULT = 1
    PERL_USE_UNSAFE_INC = 1
    SHELL = /bin/ksh
    TERM = xterm-256color

Perl special variables (and OS-specific diagnostics, for MSWin32):

    $^X = /usr/bin/perl
    $UID/$EUID = 1001 / 1001
    $GID = 1002 1002 1001
    $EGID = 1002 1002 1001

Perl module toolchain versions installed:

    Module              Have    
    ------------------- --------
    CPAN                2.34    
    CPAN::Meta          2.150010
    Cwd                 3.78    
    ExtUtils::CBuilder  0.280236
    ExtUtils::Command   7.65_01 
    ExtUtils::Install   2.20    
    ExtUtils::MakeMaker 7.65_01 
    ExtUtils::Manifest  1.73    
    ExtUtils::ParseXS   3.44    
    File::Spec          3.78    
    JSON                4.06    
    JSON::PP            4.09    
    Module::Build       0.4231  
    Module::Signature   n/a     
    Parse::CPAN::Meta   2.150010
    Test::Harness       3.44    
    Test::More          1.302190
    YAML                1.30    
    YAML::Syck          1.34    
    version             0.9929  


--

Summary of my perl5 (revision 5 version 32 subversion 1) configuration:
   
  Platform:
    osname=openbsd
    osvers=7.1
    archname=i386-openbsd
    uname='openbsd'
    config_args='-dse -Dopenbsd_distribution=defined -Dmksymlinks'
    hint=recommended
    useposix=true
    d_sigaction=define
    useithreads=undef
    usemultiplicity=undef
    use64bitint=undef
    use64bitall=undef
    uselongdouble=undef
    usemymalloc=n
    default_inc_excludes_dot=define
    bincompat5005=undef
  Compiler:
    cc='cc'
    ccflags ='-DNO_LOCALE_NUMERIC -DNO_LOCALE_COLLATE -fno-strict-aliasing -fno-delete-null-pointer-checks -pipe -fstack-protector-strong -I/usr/local/include'
    optimize='-O2'
    cppflags='-DBIG_TIME -DNO_LOCALE_NUMERIC -DNO_LOCALE_COLLATE -fno-strict-aliasing -fno-delete-null-pointer-checks -pipe -fstack-protector-strong -I/usr/local/include'
    ccversion=''
    gccversion='OpenBSD Clang 13.0.0'
    gccosandvers=''
    intsize=4
    longsize=4
    ptrsize=4
    doublesize=8
    byteorder=1234
    doublekind=3
    d_longlong=define
    longlongsize=8
    d_longdbl=define
    longdblsize=12
    longdblkind=3
    ivtype='long'
    ivsize=4
    nvtype='double'
    nvsize=8
    Off_t='off_t'
    lseeksize=8
    alignbytes=4
    prototype=define
  Linker and Libraries:
    ld='cc'
    ldflags ='-Wl,-E  -fstack-protector-strong -L/usr/local/lib'
    libpth=/usr/lib /usr/lib/clang/13.0.0/lib /usr/lib
    libs=-lm -lc
    perllibs=-lm -lc
    libc=/usr/lib/libc.so.96.1
    so=so
    useshrplib=true
    libperl=libperl.so.22.0
    gnulibc_version=''
  Dynamic Linking:
    dlsrc=dl_dlopen.xs
    dlext=so
    d_dlsymun=undef
    ccdlflags='-Wl,-R/usr/libdata/perl5/i386-openbsd/CORE'
    cccdlflags='-DPIC -fpic '
    lddlflags='-shared -fpic  -fstack-protector-strong -L/usr/local/lib'


Characteristics of this binary (from libperl): 
  Compile-time options:
    HAS_TIMES
    PERLIO_LAYERS
    PERL_COPY_ON_WRITE
    PERL_DONT_CREATE_GVSV
    PERL_MALLOC_WRAP
    PERL_OP_PARENT
    PERL_PRESERVE_IVUV
    USE_LARGE_FILES
    USE_LOCALE
    USE_LOCALE_CTYPE
    USE_LOCALE_TIME
    USE_PERLIO
    USE_PERL_ATOF
  Built under openbsd
  %ENV:
    PERL5LIB="/home/goku/perl5/lib/perl5"
    PERL5OPT=""
    PERL5_CPANPLUS_IS_RUNNING="68330"
    PERL5_CPAN_IS_RUNNING="68330"
    PERL5_CPAN_IS_RUNNING_IN_RECURSION="6441,68330"
    PERL_CR_SMOKER_CURRENT="MooseX-amine-0.7"
    PERL_EXTUTILS_AUTOINSTALL="--defaultdeps"
    PERL_LOCAL_LIB_ROOT="/home/goku/perl5"
    PERL_MB_OPT="--install_base "/home/goku/perl5""
    PERL_MM_OPT="INSTALL_BASE=/home/goku/perl5"
    PERL_MM_USE_DEFAULT="1"
    PERL_USE_UNSAFE_INC="1"
  @INC:
    /home/goku/perl5/lib/perl5/i386-openbsd
    /home/goku/perl5/lib/perl5
    /usr/local/libdata/perl5/site_perl/i386-openbsd
    /usr/local/libdata/perl5/site_perl
    /usr/libdata/perl5/i386-openbsd
    /usr/libdata/perl5
    .