Back
From: metabase:user:314402c4-2aae-11df-837a-5e0a49663a4f
Subject: PASS Acme-CPANAuthors-You-re_using-0.08 v5.24.1 RC5 GNU/Linux
Date: 2017-01-07T02:25:19Z
This distribution has been tested as part of the CPAN Testers
project, supporting the Perl programming language. See
http://wiki.cpantesters.org/ for more information or email
questions to cpan-testers-discuss@perl.org
--
Dear Vincent Pit,
This is a computer-generated report for Acme-CPANAuthors-You-re_using-0.08
on perl 5.24.1, created by CPAN-Reporter-1.2018.
Thank you for uploading your work to CPAN. Congratulations!
All tests were successful.
Sections of this report:
* Tester comments
* Program output
* Prerequisites
* Environment and other context
------------------------------
TESTER COMMENTS
------------------------------
Additional comments from tester:
none provided
------------------------------
PROGRAM OUTPUT
------------------------------
Output from '/usr/bin/make test':
PERL_DL_NONLAZY=1 "/bbbike/perl-5.24.1-RC5/bin/perl" "-MExtUtils::Command::MM" "-MTest::Harness" "-e" "undef *Test::Harness::Switches; test_harness(0, 'blib/lib', 'blib/arch')" t/*.t
# Testing Acme::CPANAuthors::You're_using 0.08, Perl 5.024001, /bbbike/perl-5.24.1-RC5/bin/perl
t/00-load.t ............. ok
# Directories in @INC :
# /tmpfs/.cpan-build-cpansand/2017010700/Acme-CPANAuthors-You-re_using-0.08-TJC5Kp/blib/lib
# /tmpfs/.cpan-build-cpansand/2017010700/Acme-CPANAuthors-You-re_using-0.08-TJC5Kp/blib/arch
# /opt/perl-5.24.1-RC5/lib/site_perl/5.24.1/x86_64-linux
# /opt/perl-5.24.1-RC5/lib/site_perl/5.24.1
# /opt/perl-5.24.1-RC5/lib/5.24.1/x86_64-linux
# /opt/perl-5.24.1-RC5/lib/5.24.1
# Error evaling version line ' my $dummy = q# Hide from _packages_inside()
# #; package Module::Metadata::_version::p5087;
# use version;
# sub {
# local $Attr::Trait::VERSION;
# $Attr::Trait::VERSION = '0.40';use Moose::Role;around _process_options=>sub{my$orig=shift;my$c=shift;my($n,$o)=@_;$o->{is}||='rw';$o->{lazy}||=1 if defined$o->{default}or defined$o->{builder};$c->$orig(@_)};$INC{'Attr/Trait.pm'}=1};
# return $Attr::Trait::VERSION if defined $Attr::Trait::VERSION;
# return $Module::Metadata::_version::p5087::Attr::Trait::VERSION;
# };
# ' in /opt/perl-5.24.1-RC5/lib/site_perl/5.24.1/Mo/Moose.pm: Unmatched right curly bracket at (eval 5099) line 9, at end of line
# syntax error at (eval 5099) line 9, near ";
# }"
#
# Error evaling version line ' my $dummy = q# Hide from _packages_inside()
# #; package Module::Metadata::_version::p5098;
# use version;
# sub {
# local $Attr::Trait::VERSION;
# $Attr::Trait::VERSION = '0.40';use Mouse::Role;around _process_options=>sub{my$orig=shift;my$c=shift;my($n,$o)=@_;$o->{is}||='rw';$o->{lazy}||=1 if defined$o->{default}or defined$o->{builder};$c->$orig(@_)};$INC{'Attr/Trait.pm'}=1};
# return $Attr::Trait::VERSION if defined $Attr::Trait::VERSION;
# return $Module::Metadata::_version::p5098::Attr::Trait::VERSION;
# };
# ' in /opt/perl-5.24.1-RC5/lib/site_perl/5.24.1/Mo/Mouse.pm: Unmatched right curly bracket at (eval 5276) line 9, at end of line
# syntax error at (eval 5276) line 9, near ";
# }"
#
# Error evaling version line ' my $dummy = q# Hide from _packages_inside()
# #; package Module::Metadata::_version::p14622;
# use version;
# sub {
# local $VERSION;
# our \$VERSION = '$Lemonldap::NG::Manager::Build::Attributes::VERSION';;
# return $VERSION if defined $VERSION;
# return $Module::Metadata::_version::p14622::VERSION;
# };
# ' in /opt/perl-5.24.1-RC5/lib/site_perl/5.24.1/Lemonldap/NG/Manager/Build.pm: syntax error at (eval 14804) line 6, near "our \"
#
# 969 authors found
t/10-base.t ............. ok
# Error evaling version line ' my $dummy = q# Hide from _packages_inside()
# #; package Module::Metadata::_version::p5088;
# use version;
# sub {
# local $Attr::Trait::VERSION;
# $Attr::Trait::VERSION = '0.40';use Moose::Role;around _process_options=>sub{my$orig=shift;my$c=shift;my($n,$o)=@_;$o->{is}||='rw';$o->{lazy}||=1 if defined$o->{default}or defined$o->{builder};$c->$orig(@_)};$INC{'Attr/Trait.pm'}=1};
# return $Attr::Trait::VERSION if defined $Attr::Trait::VERSION;
# return $Module::Metadata::_version::p5088::Attr::Trait::VERSION;
# };
# ' in /opt/perl-5.24.1-RC5/lib/site_perl/5.24.1/Mo/Moose.pm: Unmatched right curly bracket at (eval 5109) line 9, at end of line
# syntax error at (eval 5109) line 9, near ";
# }"
#
# Error evaling version line ' my $dummy = q# Hide from _packages_inside()
# #; package Module::Metadata::_version::p5099;
# use version;
# sub {
# local $Attr::Trait::VERSION;
# $Attr::Trait::VERSION = '0.40';use Mouse::Role;around _process_options=>sub{my$orig=shift;my$c=shift;my($n,$o)=@_;$o->{is}||='rw';$o->{lazy}||=1 if defined$o->{default}or defined$o->{builder};$c->$orig(@_)};$INC{'Attr/Trait.pm'}=1};
# return $Attr::Trait::VERSION if defined $Attr::Trait::VERSION;
# return $Module::Metadata::_version::p5099::Attr::Trait::VERSION;
# };
# ' in /opt/perl-5.24.1-RC5/lib/site_perl/5.24.1/Mo/Mouse.pm: Unmatched right curly bracket at (eval 5286) line 9, at end of line
# syntax error at (eval 5286) line 9, near ";
# }"
#
# Error evaling version line ' my $dummy = q# Hide from _packages_inside()
# #; package Module::Metadata::_version::p14623;
# use version;
# sub {
# local $VERSION;
# our \$VERSION = '$Lemonldap::NG::Manager::Build::Attributes::VERSION';;
# return $VERSION if defined $VERSION;
# return $Module::Metadata::_version::p14623::VERSION;
# };
# ' in /opt/perl-5.24.1-RC5/lib/site_perl/5.24.1/Lemonldap/NG/Manager/Build.pm: syntax error at (eval 14814) line 6, near "our \"
#
t/11-naughty-version.t .. ok
All tests successful.
Files=3, Tests=8, 154 wallclock secs ( 0.01 usr 0.02 sys + 36.37 cusr 2.96 csys = 39.36 CPU)
Result: PASS
------------------------------
PREREQUISITES
------------------------------
Prerequisite modules loaded:
requires:
Module Need Have
------------------- -------- --------
Acme::CPANAuthors 0.16 0.26
File::Find 0 1.34
Module::Metadata 1.000017 1.000031
perl 5.006 5.024001
build_requires:
Module Need Have
------------------- -------- --------
Acme::CPANAuthors 0.16 0.26
ExtUtils::MakeMaker 0 7.24
File::Find 0 1.34
lib 0 0.63
Module::Metadata 1.000017 1.000031
Test::More 0 1.302073
configure_requires:
Module Need Have
------------------- -------- --------
ExtUtils::MakeMaker 0 7.24
------------------------------
ENVIRONMENT AND OTHER CONTEXT
------------------------------
Environment variables:
LANG = C
LC_ALL = de_DE.UTF-8
PATH = /usr/local/bin:/usr/bin:/bin:/usr/local/sbin:/usr/sbin:/sbin:/home/cpansand/bin/linux-gnu:/home/cpansand/bin/sh:/home/cpansand/bin:/usr/games:/home/cpansand/devel:/home/eserte/src/srezic-misc/scripts
PERL5LIB =
PERL5OPT =
PERL5_CPANPLUS_IS_RUNNING = 5888
PERL5_CPAN_IS_RUNNING = 5888
PERL5_CPAN_IS_RUNNING_IN_RECURSION = 21850,5888
PERLDOC = -MPod::Perldoc::ToTextOverstrike
PERL_BATCH = yes
PERL_CANARY_STABILITY_NOPROMPT = 1
PERL_CPAN_REPORTER_CONFIG = /var/tmp/cpansmoker-1023/2017010621/cpanreporter_000_config.ini
PERL_EXTUTILS_AUTOINSTALL = --defaultdeps
PERL_PARALLEL_SMOKER = yes
PERL_USE_UNSAFE_INC = 1
SHELL = /bin/zsh
TERM = screen
TMPDIR = /var/tmp/cpansmoker-1023/2017010621
Perl special variables (and OS-specific diagnostics, for MSWin32):
$^X = /bbbike/perl-5.24.1-RC5/bin/perl
$UID/$EUID = 1023 / 1023
$GID = 1023 1023
$EGID = 1023 1023
Perl module toolchain versions installed:
Module Have
------------------- ----------
CPAN 2.11_01
CPAN::Meta 2.150005
Cwd 3.63_01
ExtUtils::CBuilder 0.280225
ExtUtils::Command 7.24
ExtUtils::Install 2.04
ExtUtils::MakeMaker 7.24
ExtUtils::Manifest 1.70
ExtUtils::ParseXS 3.31
File::Spec 3.63_01
JSON 2.90
JSON::PP 2.27400
Module::Build 0.4220
Module::Signature 0.81
Parse::CPAN::Meta 1.4417_001
Test::Harness 3.36_01
Test::More 1.302073
YAML 1.21
YAML::Syck 1.29
version 0.9916
--
Summary of my perl5 (revision 5 version 24 subversion 1) configuration:
Platform:
osname=linux, osvers=3.16.0-4-amd64, archname=x86_64-linux
uname='linux eserte 3.16.0-4-amd64 #1 smp debian 3.16.36-1+deb8u2 (2016-10-19) x86_64 gnulinux '
config_args='-ds -e -Dprefix=/opt/perl-5.24.1-RC5 -Dcf_email=srezic@cpan.org'
hint=recommended, useposix=true, d_sigaction=define
useithreads=undef, usemultiplicity=undef
use64bitint=define, use64bitall=define, uselongdouble=undef
usemymalloc=n, bincompat5005=undef
Compiler:
cc='cc', ccflags ='-fwrapv -fno-strict-aliasing -pipe -fstack-protector-strong -I/usr/local/include -D_LARGEFILE_SOURCE -D_FILE_OFFSET_BITS=64 -D_FORTIFY_SOURCE=2',
optimize='-O2',
cppflags='-fwrapv -fno-strict-aliasing -pipe -fstack-protector-strong -I/usr/local/include'
ccversion='', gccversion='4.9.2', gccosandvers=''
intsize=4, longsize=8, ptrsize=8, doublesize=8, byteorder=12345678, doublekind=3
d_longlong=define, longlongsize=8, d_longdbl=define, longdblsize=16, longdblkind=3
ivtype='long', ivsize=8, nvtype='double', nvsize=8, Off_t='off_t', lseeksize=8
alignbytes=8, prototype=define
Linker and Libraries:
ld='cc', ldflags =' -fstack-protector-strong -L/usr/local/lib'
libpth=/usr/local/lib /usr/lib/gcc/x86_64-linux-gnu/4.9/include-fixed /usr/include/x86_64-linux-gnu /usr/lib /lib/x86_64-linux-gnu /lib/../lib /usr/lib/x86_64-linux-gnu /usr/lib/../lib /lib
libs=-lpthread -lnsl -lgdbm -ldb -ldl -lm -lcrypt -lutil -lc -lgdbm_compat
perllibs=-lpthread -lnsl -ldl -lm -lcrypt -lutil -lc
libc=libc-2.19.so, so=so, useshrplib=false, libperl=libperl.a
gnulibc_version='2.19'
Dynamic Linking:
dlsrc=dl_dlopen.xs, dlext=so, d_dlsymun=undef, ccdlflags='-Wl,-E'
cccdlflags='-fPIC', lddlflags='-shared -O2 -L/usr/local/lib -fstack-protector-strong'
Characteristics of this binary (from libperl):
Compile-time options: HAS_TIMES PERLIO_LAYERS PERL_COPY_ON_WRITE
PERL_DONT_CREATE_GVSV
PERL_HASH_FUNC_ONE_AT_A_TIME_HARD PERL_MALLOC_WRAP
PERL_PRESERVE_IVUV USE_64_BIT_ALL USE_64_BIT_INT
USE_LARGE_FILES USE_LOCALE USE_LOCALE_COLLATE
USE_LOCALE_CTYPE USE_LOCALE_NUMERIC USE_LOCALE_TIME
USE_PERLIO USE_PERL_ATOF
Locally applied patches:
RC5
Built under linux
Compiled at Jan 5 2017 19:07:03
%ENV:
PERL5LIB=""
PERL5OPT=""
PERL5_CPANPLUS_IS_RUNNING="5888"
PERL5_CPAN_IS_RUNNING="5888"
PERL5_CPAN_IS_RUNNING_IN_RECURSION="21850,5888"
PERLDOC="-MPod::Perldoc::ToTextOverstrike"
PERL_BATCH="yes"
PERL_CANARY_STABILITY_NOPROMPT="1"
PERL_CPAN_REPORTER_CONFIG="/var/tmp/cpansmoker-1023/2017010621/cpanreporter_000_config.ini"
PERL_EXTUTILS_AUTOINSTALL="--defaultdeps"
PERL_PARALLEL_SMOKER="yes"
PERL_USE_UNSAFE_INC="1"
@INC:
/opt/perl-5.24.1-RC5/lib/site_perl/5.24.1/x86_64-linux
/opt/perl-5.24.1-RC5/lib/site_perl/5.24.1
/opt/perl-5.24.1-RC5/lib/5.24.1/x86_64-linux
/opt/perl-5.24.1-RC5/lib/5.24.1
.