Report for Mojolicious-Command-generate-lexicont-0.05

Back
From: metabase:user:838e5b0a-2bb6-1016-a696-43a2537fa0c6
Subject: PASS Mojolicious-Command-generate-lexicont-0.05 v5.20.2 OpenBSD
Date: 2015-04-18T18:20:04Z

This distribution has been tested as part of the CPAN Testers
project, supporting the Perl programming language.  See
http://wiki.cpantesters.org/ for more information or email
questions to cpan-testers-discuss@perl.org


--
Dear Tetsuya Tatsumi,

This is a computer-generated report for Mojolicious-Command-generate-lexicont-0.05
on perl 5.20.2, created by CPAN-Reporter-1.2011.

Thank you for uploading your work to CPAN.  Congratulations!
All tests were successful.

Sections of this report:

    * Tester comments
    * Program output
    * Prerequisites
    * Environment and other context

------------------------------
TESTER COMMENTS
------------------------------

Additional comments from tester:

this report is from an automated smoke testing program
and was not reviewed by a human for accuracy

------------------------------
PROGRAM OUTPUT
------------------------------

Output from './Build test':

t/args_0_1.t ....................... ok
t/args_2.t ......................... ok
t/args_3.t ......................... ok
t/cannot_translate.t ............... ok
t/config_file_read_error.t ......... ok
t/json_1.t ......................... ok
t/json_2.t ......................... ok
t/json_3.t ......................... ok
t/lingua_translate_create_error.t .. ok
t/org.t ............................ ok
t/src_lexicon_notfound.t ........... ok
All tests successful.
Files=11, Tests=62,  7 wallclock secs ( 0.06 usr  0.06 sys +  4.82 cusr  1.18 csys =  6.12 CPU)
Result: PASS

------------------------------
PREREQUISITES
------------------------------

Prerequisite modules loaded:

requires:

    Module              Need     Have    
    ------------------- -------- --------
    Config::PL          0        0.02    
    Encode              0        2.60    
    Module::Load        0        0.32    
    Mojo::Base          0        0       
    perl                5.008005 5.020002

build_requires:

    Module              Need     Have    
    ------------------- -------- --------
    JSON                0        2.90    
    Mojolicious         0        6.05    
    Test::Exception     0        0.38    
    Test::More          0        1.001002
    Test::Warn          0        0.30    

configure_requires:

    Module              Need     Have    
    ------------------- -------- --------
    CPAN::Meta          0        2.150001
    CPAN::Meta::Prereqs 0        2.150001
    Module::Build       0.38     0.4211  


------------------------------
ENVIRONMENT AND OTHER CONTEXT
------------------------------

Environment variables:

    AUTOMATED_TESTING = 1
    PATH = /home/perluser/perl5/perlbrew/bin:/home/perluser/perl5/perlbrew/perls/perl-5.20.2/bin:/home/perluser/bin:/bin:/sbin:/usr/bin:/usr/sbin:/usr/X11R6/bin:/usr/local/bin:/usr/local/sbin:/usr/games:.
    PERL5LIB = /home/perluser/.cpan/build/Config-PL-0.02-7Wgafe/blib/arch:/home/perluser/.cpan/build/Config-PL-0.02-7Wgafe/blib/lib:/home/perluser/.cpan/build/Test-Warn-0.30-MZ9dw0/blib/arch:/home/perluser/.cpan/build/Test-Warn-0.30-MZ9dw0/blib/lib:/home/perluser/.cpan/build/Test-Exception-0.38-SUoABF/blib/arch:/home/perluser/.cpan/build/Test-Exception-0.38-SUoABF/blib/lib:/home/perluser/.cpan/build/Sub-Uplevel-0.25-hq0Ahl/blib/arch:/home/perluser/.cpan/build/Sub-Uplevel-0.25-hq0Ahl/blib/lib:/home/perluser/.cpan/build/Mojolicious-6.05-ZrWePD/blib/arch:/home/perluser/.cpan/build/Mojolicious-6.05-ZrWePD/blib/lib
    PERL5OPT = 
    PERL5_CPANPLUS_IS_RUNNING = 25807
    PERL5_CPAN_IS_RUNNING = 25807
    PERL5_CPAN_IS_RUNNING_IN_RECURSION = 29044,25807
    PERLBREW_BASHRC_VERSION = 0.71
    PERLBREW_HOME = /home/perluser/.perlbrew
    PERLBREW_MANPATH = /home/perluser/perl5/perlbrew/perls/perl-5.20.2/man
    PERLBREW_PATH = /home/perluser/perl5/perlbrew/bin:/home/perluser/perl5/perlbrew/perls/perl-5.20.2/bin
    PERLBREW_PERL = perl-5.20.2
    PERLBREW_ROOT = /home/perluser/perl5/perlbrew
    PERLBREW_VERSION = 0.71
    PERL_CR_SMOKER_CURRENT = Mojolicious-Command-generate-lexicont-0.05
    PERL_EXTUTILS_AUTOINSTALL = --defaultdeps
    PERL_MM_USE_DEFAULT = 1
    SHELL = /bin/ksh
    TERM = xterm

Perl special variables (and OS-specific diagnostics, for MSWin32):

    $^X = /home/perluser/perl5/perlbrew/perls/perl-5.20.2/bin/perl
    $UID/$EUID = 1000 / 1000
    $GID = 1000 1000
    $EGID = 1000 1000

Perl module toolchain versions installed:

    Module              Have    
    ------------------- --------
    CPAN                2.10    
    CPAN::Meta          2.150001
    Cwd                 3.48_01 
    ExtUtils::CBuilder  0.280217
    ExtUtils::Command   1.18    
    ExtUtils::Install   1.67    
    ExtUtils::MakeMaker 6.98    
    ExtUtils::Manifest  1.63    
    ExtUtils::ParseXS   3.24    
    File::Spec          3.48_01 
    JSON                2.90    
    JSON::PP            2.27203 
    Module::Build       0.4211  
    Module::Signature   n/a     
    Parse::CPAN::Meta   1.4414  
    Test::Harness       3.30    
    Test::More          1.001002
    YAML                1.14    
    YAML::Syck          n/a     
    version             0.9909  


--

Summary of my perl5 (revision 5 version 20 subversion 2) configuration:
   
  Platform:
    osname=openbsd, osvers=5.5, archname=OpenBSD.amd64-openbsd
    uname='openbsd openbsd-test.manor.solimano.org 5.5 generic#271 amd64 '
    config_args='-de -Dprefix=/home/perluser/perl5/perlbrew/perls/perl-5.20.2 -Aeval:scriptdir=/home/perluser/perl5/perlbrew/perls/perl-5.20.2/bin'
    hint=recommended, useposix=true, d_sigaction=define
    useithreads=undef, usemultiplicity=undef
    use64bitint=define, use64bitall=define, uselongdouble=undef
    usemymalloc=n, bincompat5005=undef
  Compiler:
    cc='cc', ccflags ='-fno-strict-aliasing -pipe -fstack-protector -I/usr/local/include',
    optimize='-O2',
    cppflags='-fno-strict-aliasing -pipe -fstack-protector -I/usr/local/include'
    ccversion='', gccversion='4.2.1 20070719 ', gccosandvers='openbsd5.5'
    intsize=4, longsize=8, ptrsize=8, doublesize=8, byteorder=12345678
    d_longlong=define, longlongsize=8, d_longdbl=define, longdblsize=16
    ivtype='long', ivsize=8, nvtype='double', nvsize=8, Off_t='off_t', lseeksize=8
    alignbytes=8, prototype=define
  Linker and Libraries:
    ld='cc', ldflags ='-Wl,-E  -fstack-protector -L/usr/local/lib'
    libpth=/usr/lib /usr/local/lib
    libs=-lm -lutil -lc
    perllibs=-lm -lutil -lc
    libc=/usr/lib/libc.so.73.1, so=so, useshrplib=false, libperl=libperl.a
    gnulibc_version=''
  Dynamic Linking:
    dlsrc=dl_dlopen.xs, dlext=so, d_dlsymun=undef, ccdlflags=' '
    cccdlflags='-DPIC -fPIC ', lddlflags='-shared -fPIC  -L/usr/local/lib -fstack-protector'


Characteristics of this binary (from libperl): 
  Compile-time options: HAS_TIMES PERLIO_LAYERS PERL_DONT_CREATE_GVSV
                        PERL_HASH_FUNC_ONE_AT_A_TIME_HARD PERL_MALLOC_WRAP
                        PERL_NEW_COPY_ON_WRITE PERL_PRESERVE_IVUV
                        USE_64_BIT_ALL USE_64_BIT_INT USE_LARGE_FILES
                        USE_LOCALE USE_LOCALE_COLLATE USE_LOCALE_CTYPE
                        USE_LOCALE_NUMERIC USE_PERLIO USE_PERL_ATOF
  Built under openbsd
  Compiled at Mar 15 2015 15:02:08
  %ENV:
    PERL5LIB="/home/perluser/.cpan/build/Config-PL-0.02-7Wgafe/blib/arch:/home/perluser/.cpan/build/Config-PL-0.02-7Wgafe/blib/lib:/home/perluser/.cpan/build/Test-Warn-0.30-MZ9dw0/blib/arch:/home/perluser/.cpan/build/Test-Warn-0.30-MZ9dw0/blib/lib:/home/perluser/.cpan/build/Test-Exception-0.38-SUoABF/blib/arch:/home/perluser/.cpan/build/Test-Exception-0.38-SUoABF/blib/lib:/home/perluser/.cpan/build/Sub-Uplevel-0.25-hq0Ahl/blib/arch:/home/perluser/.cpan/build/Sub-Uplevel-0.25-hq0Ahl/blib/lib:/home/perluser/.cpan/build/Mojolicious-6.05-ZrWePD/blib/arch:/home/perluser/.cpan/build/Mojolicious-6.05-ZrWePD/blib/lib"
    PERL5OPT=""
    PERL5_CPANPLUS_IS_RUNNING="25807"
    PERL5_CPAN_IS_RUNNING="25807"
    PERL5_CPAN_IS_RUNNING_IN_RECURSION="29044,25807"
    PERLBREW_BASHRC_VERSION="0.71"
    PERLBREW_HOME="/home/perluser/.perlbrew"
    PERLBREW_MANPATH="/home/perluser/perl5/perlbrew/perls/perl-5.20.2/man"
    PERLBREW_PATH="/home/perluser/perl5/perlbrew/bin:/home/perluser/perl5/perlbrew/perls/perl-5.20.2/bin"
    PERLBREW_PERL="perl-5.20.2"
    PERLBREW_ROOT="/home/perluser/perl5/perlbrew"
    PERLBREW_VERSION="0.71"
    PERL_CR_SMOKER_CURRENT="Mojolicious-Command-generate-lexicont-0.05"
    PERL_EXTUTILS_AUTOINSTALL="--defaultdeps"
    PERL_MM_USE_DEFAULT="1"
  @INC:
    /home/perluser/.cpan/build/Config-PL-0.02-7Wgafe/blib/arch
    /home/perluser/.cpan/build/Config-PL-0.02-7Wgafe/blib/lib
    /home/perluser/.cpan/build/Test-Warn-0.30-MZ9dw0/blib/arch
    /home/perluser/.cpan/build/Test-Warn-0.30-MZ9dw0/blib/lib
    /home/perluser/.cpan/build/Test-Exception-0.38-SUoABF/blib/arch
    /home/perluser/.cpan/build/Test-Exception-0.38-SUoABF/blib/lib
    /home/perluser/.cpan/build/Sub-Uplevel-0.25-hq0Ahl/blib/arch
    /home/perluser/.cpan/build/Sub-Uplevel-0.25-hq0Ahl/blib/lib
    /home/perluser/.cpan/build/Mojolicious-6.05-ZrWePD/blib/arch
    /home/perluser/.cpan/build/Mojolicious-6.05-ZrWePD/blib/lib
    /home/perluser/perl5/perlbrew/perls/perl-5.20.2/lib/site_perl/5.20.2/OpenBSD.amd64-openbsd
    /home/perluser/perl5/perlbrew/perls/perl-5.20.2/lib/site_perl/5.20.2
    /home/perluser/perl5/perlbrew/perls/perl-5.20.2/lib/5.20.2/OpenBSD.amd64-openbsd
    /home/perluser/perl5/perlbrew/perls/perl-5.20.2/lib/5.20.2
    .