Back
From: metabase:user:30977d10-2aae-11df-837a-5e0a49663a4f
Subject: PASS Catalyst-Plugin-Devel-ModuleVersions-0.100330 v5.15.2 GNU/Linux
Date: 2011-10-11T17:07:43Z
This distribution has been tested as part of the CPAN Testers
project, supporting the Perl programming language. See
http://wiki.cpantesters.org/ for more information or email
questions to cpan-testers-discuss@perl.org
--
Dear Andreas Marienborg,
This is a computer-generated report for Catalyst-Plugin-Devel-ModuleVersions-0.100330
on perl 5.15.2, created by CPAN-Reporter-1.2002.
Thank you for uploading your work to CPAN. Congratulations!
All tests were successful.
Sections of this report:
* Tester comments
* Program output
* Prerequisites
* Environment and other context
------------------------------
TESTER COMMENTS
------------------------------
Additional comments from tester:
this report is from an automated smoke testing program
and was not reviewed by a human for accuracy
------------------------------
PROGRAM OUTPUT
------------------------------
Output from '/usr/bin/make test':
PERL_DL_NONLAZY=1 /home/trushel/perl/perl5152m/bin/perl "-MExtUtils::Command::MM" "-e" "test_harness(0, 'blib/lib', 'blib/arch')" t/*.t t/author/*.t
t/00-load.t ............... ok
t/author/pod-coverage.t ... ok
t/author/pod.t ............ ok
[debug] Debug messages enabled
[debug] Statistics enabled
[debug] Loaded plugins:
.-----------------------------------------------------------------------------------------------------------------------------------------------------------------------------.
| Catalyst::Plugin::Devel::ModuleVersions 0.100330 |
'-----------------------------------------------------------------------------------------------------------------------------------------------------------------------------'
[debug] Loaded dispatcher "Catalyst::Dispatcher"
[debug] Loaded engine "Catalyst::Engine"
[debug] Found home "/home/trushel/cpan/build/5.15.2-m/Catalyst-Plugin-Devel-ModuleVersions-0.100330-Fv8M9T/t/lib/TestApp"
[debug] Loaded components:
.------------------------------------------------------------------------------------------------------------------------------------------------------------------+----------.
| Class | Type |
+------------------------------------------------------------------------------------------------------------------------------------------------------------------+----------+
| TestApp::Controller::Root | instance |
'------------------------------------------------------------------------------------------------------------------------------------------------------------------+----------'
[debug] Loaded Private actions:
.-------------------------------------------+------------------------------------------------------------------------------------+--------------------------------------------.
| Private | Class | Method |
+-------------------------------------------+------------------------------------------------------------------------------------+--------------------------------------------+
| /main | TestApp::Controller::Root | main |
'-------------------------------------------+------------------------------------------------------------------------------------+--------------------------------------------'
[debug] Loaded Path actions:
.--------------------------------------------------------------------------------------+--------------------------------------------------------------------------------------.
| Path | Private |
+--------------------------------------------------------------------------------------+--------------------------------------------------------------------------------------+
| /... | /main |
'--------------------------------------------------------------------------------------+--------------------------------------------------------------------------------------'
[info] Application powered by Catalyst 5.90002
[info] *** Request 1 (0.077/s) [30629] [Sun Oct 9 22:25:32 2011] ***
[debug] "GET" request for "/" from "127.0.0.1"
[debug] Path is "/"
[error] Caught exception in TestApp::Controller::Root->main "forced debug at /home/trushel/cpan/build/5.15.2-m/Catalyst-Plugin-Devel-ModuleVersions-0.100330-Fv8M9T/t/lib/TestApp/Controller/Root.pm line 11."
[debug] Response Code: 500; Content-Type: text/html; charset=utf-8; Content-Length: 18155
[info] Request took 0.076867s (13.009/s)
.-------------------------------------------------------------------------------------------------------------------------------------------------------------+-----------.
| Action | Time |
+-------------------------------------------------------------------------------------------------------------------------------------------------------------+-----------+
| /main | 0.000112s |
'-------------------------------------------------------------------------------------------------------------------------------------------------------------+-----------'
t/live-test.t ............. ok
t/release-pod-coverage.t .. skipped: these tests are for release candidate testing
t/release-pod-syntax.t .... skipped: these tests are for release candidate testing
All tests successful.
Files=6, Tests=6, 48 wallclock secs ( 0.04 usr 0.02 sys + 1.57 cusr 0.23 csys = 1.86 CPU)
Result: PASS
------------------------------
PREREQUISITES
------------------------------
Prerequisite modules loaded:
requires:
Module Need Have
------------------------------ ---- ----------
base 0 2.15
Catalyst 0 5.90002
Catalyst::Test 0 0
FindBin 0 1.51
Getopt::Long 0 2.3802
mro 0 1.08
MRO::Compat 0 0.11
ok 0 0.02
Pod::Usage 0 1.36
Test::MockObject 0 1.20110612
Test::More 0 0.98
Test::WWW::Mechanize::Catalyst 0 0.55
! TestApp 0 n/a
build_requires:
Module Need Have
------------------------------ ---- ----------
ExtUtils::MakeMaker 0 6.59
------------------------------
ENVIRONMENT AND OTHER CONTEXT
------------------------------
Environment variables:
AUTOMATED_TESTING = 1
LANG = en_US.UTF-8
PATH = /usr/local/sbin:/usr/local/bin:/usr/sbin:/usr/bin:/sbin:/bin
PERL5LIB =
PERL5OPT =
PERL5_CPANPLUS_IS_RUNNING = 30464
PERL5_CPAN_IS_RUNNING = 30464
PERL5_CPAN_IS_RUNNING_IN_RECURSION = 31444,30464
PERL_CR_SMOKER_CURRENT = Catalyst-Plugin-Devel-ModuleVersions-0.100330
PERL_EXTUTILS_AUTOINSTALL = --defaultdeps
PERL_MM_USE_DEFAULT = 1
SHELL = /bin/bash
TERM = xterm
Perl special variables (and OS-specific diagnostics, for MSWin32):
$^X = /home/trushel/perl/perl5152m/bin/perl
$UID/$EUID = 138375 / 138375
$GID = 5762 4 20 21 24 25 26 30 44 46 104 105 119 122 431 5762
$EGID = 5762 4 20 21 24 25 26 30 44 46 104 105 119 122 431 5762
Perl module toolchain versions installed:
Module Have
------------------- --------
CPAN 1.9800
CPAN::Meta 2.112150
Cwd 3.33
ExtUtils::CBuilder 0.280202
ExtUtils::Command 1.17
ExtUtils::Install 1.54
ExtUtils::MakeMaker 6.59
ExtUtils::Manifest 1.60
ExtUtils::ParseXS 3.04_03
File::Spec 3.33
JSON 2.53
JSON::PP 2.27200
Module::Build 0.39_01
Module::Signature n/a
Parse::CPAN::Meta 1.4401
Test::Harness 3.23
Test::More 0.98
YAML 0.73
YAML::Syck n/a
version 0.94
--
Summary of my perl5 (revision 5 version 15 subversion 2) configuration:
Platform:
osname=linux, osvers=2.6.32-33-generic, archname=x86_64-linux-multi
uname='linux trushel-glaptop 2.6.32-33-generic #72-ubuntu smp fri jul 29 21:07:13 utc 2011 x86_64 gnulinux '
config_args=''
hint=recommended, useposix=true, d_sigaction=define
useithreads=undef, usemultiplicity=define
useperlio=define, d_sfio=undef, uselargefiles=define, usesocks=undef
use64bitint=define, use64bitall=define, uselongdouble=undef
usemymalloc=n, bincompat5005=undef
Compiler:
cc='cc', ccflags ='-fno-strict-aliasing -pipe -fstack-protector -I/usr/local/include -D_LARGEFILE_SOURCE -D_FILE_OFFSET_BITS=64',
optimize='-O2',
cppflags='-fno-strict-aliasing -pipe -fstack-protector -I/usr/local/include'
ccversion='', gccversion='4.4.3', gccosandvers=''
intsize=4, longsize=8, ptrsize=8, doublesize=8, byteorder=12345678
d_longlong=define, longlongsize=8, d_longdbl=define, longdblsize=16
ivtype='long', ivsize=8, nvtype='double', nvsize=8, Off_t='off_t', lseeksize=8
alignbytes=8, prototype=define
Linker and Libraries:
ld='cc', ldflags =' -fstack-protector -L/usr/local/lib'
libpth=/usr/local/lib /lib/../lib /usr/lib/../lib /lib /usr/lib /usr/lib/x86_64-linux-gnu /lib64 /usr/lib64
libs=-lnsl -ldb -ldl -lm -lcrypt -lutil -lc
perllibs=-lnsl -ldl -lm -lcrypt -lutil -lc
libc=/lib/libc-2.11.1.so, so=so, useshrplib=false, libperl=libperl.a
gnulibc_version='2.11.1'
Dynamic Linking:
dlsrc=dl_dlopen.xs, dlext=so, d_dlsymun=undef, ccdlflags='-Wl,-E'
cccdlflags='-fPIC', lddlflags='-shared -O2 -L/usr/local/lib -fstack-protector'
Characteristics of this binary (from libperl):
Compile-time options: HAS_TIMES MULTIPLICITY PERLIO_LAYERS
PERL_DONT_CREATE_GVSV PERL_IMPLICIT_CONTEXT
PERL_MALLOC_WRAP PERL_PRESERVE_IVUV USE_64_BIT_ALL
USE_64_BIT_INT USE_LARGE_FILES USE_LOCALE
USE_LOCALE_COLLATE USE_LOCALE_CTYPE
USE_LOCALE_NUMERIC USE_PERLIO USE_PERL_ATOF
Built under linux
Compiled at Aug 22 2011 23:17:48
%ENV:
PERL5LIB=""
PERL5OPT=""
PERL5_CPANPLUS_IS_RUNNING="30464"
PERL5_CPAN_IS_RUNNING="30464"
PERL5_CPAN_IS_RUNNING_IN_RECURSION="31444,30464"
PERL_CR_SMOKER_CURRENT="Catalyst-Plugin-Devel-ModuleVersions-0.100330"
PERL_EXTUTILS_AUTOINSTALL="--defaultdeps"
PERL_MM_USE_DEFAULT="1"
@INC:
/home/trushel/perl/perl5152m/lib/site_perl/5.15.2/x86_64-linux-multi
/home/trushel/perl/perl5152m/lib/site_perl/5.15.2
/home/trushel/perl/perl5152m/lib/5.15.2/x86_64-linux-multi
/home/trushel/perl/perl5152m/lib/5.15.2
.