Report for Data-FormValidator-4.81

Back
From: metabase:user:b53c7f44-4c0e-11e4-9ced-a04ade49192c
Subject: PASS Data-FormValidator-4.81 v5.14.1 GNU/Linux
Date: 2015-04-12T18:05:43Z

This distribution has been tested as part of the CPAN Testers
project, supporting the Perl programming language.  See
http://wiki.cpantesters.org/ for more information or email
questions to cpan-testers-discuss@perl.org


--
Dear Mark Stosberg,

This is a computer-generated report for Data-FormValidator-4.81
on perl 5.14.1, created by CPAN-Reporter-1.2011.

Thank you for uploading your work to CPAN.  Congratulations!
All tests were successful.

Sections of this report:

    * Tester comments
    * Program output
    * Prerequisites
    * Environment and other context

------------------------------
TESTER COMMENTS
------------------------------

Additional comments from tester:

this report is from an automated smoke testing program
and was not reviewed by a human for accuracy

------------------------------
PROGRAM OUTPUT
------------------------------

Output from './Build test':

t/00_base.t .............................. ok
t/02_code_ref.t .......................... ok
CGI::param called in list context from package Data::FormValidator::Results line 1074, this can lead to vulnerabilities. See the warning in "Fetching the value or values of a single named parameter" at /opt/perl492-32-O0-5.14.1/lib/site_perl/5.14.1/CGI.pm line 408.
t/03_dependency.t ........................ ok
t/04_arrayify_undef.t .................... ok
t/05_valid_ip_address.t .................. ok
t/06_regexp_map.t ........................ ok
t/09_require_some.t ...................... ok
t/11_procedural_match.t .................. ok
t/13_validator_packages.t ................ ok
t/15_literal_param_constraints.t ......... ok
CGI::param called in list context from package Data::FormValidator::Results line 1074, this can lead to vulnerabilities. See the warning in "Fetching the value or values of a single named parameter" at /opt/perl492-32-O0-5.14.1/lib/site_perl/5.14.1/CGI.pm line 408.
t/16_cgi_object.t ........................ ok
t/17_multi_valued_keys.t ................. ok
t/18_constraint_refs.t ................... ok
t/19_refs_as_values.t .................... ok
t/20_careful_exception_handling.t ........ ok
t/21_multiple_fields.t ................... ok
t/25_results.t ........................... ok
t/26_qr.t ................................ ok
t/27_qualify_ref_happy_death.t ........... ok
t/28_defaults_for_new.t .................. ok
t/30_filter_definedness.t ................ ok
t/FV_length.t ............................ ok
t/any_errors.t ........................... ok
t/check_profile_syntax.t ................. ok
t/closure_msgs.t ......................... ok
t/constraint_method.t .................... ok
t/constraint_method_string.t ............. ok
t/constraint_method_zero.t ............... ok
t/constraint_regexp_map_profile_reuse.t .. ok
t/constraints_builtin.t .................. ok
t/constraints_builtin_closure.t .......... ok
t/constraints_factory.t .................. ok
t/constraints_invalid_once_only.t ........ ok
t/constraints_num_values.t ............... ok
t/constraints_regexp_map_interaction.t ... ok
t/constraints_reuse.t .................... ok
t/credit_card.t .......................... ok
t/dates.t ................................ ok
t/dates_closure.t ........................ ok
t/dependency_coderef.t ................... ok
CGI::param called in list context from package Data::FormValidator::Results line 1074, this can lead to vulnerabilities. See the warning in "Fetching the value or values of a single named parameter" at /opt/perl492-32-O0-5.14.1/lib/site_perl/5.14.1/CGI.pm line 408.
CGI::param called in list context from package Data::FormValidator::Results line 1074, this can lead to vulnerabilities. See the warning in "Fetching the value or values of a single named parameter" at /opt/perl492-32-O0-5.14.1/lib/site_perl/5.14.1/CGI.pm line 408.
t/dependency_groups.t .................... ok
t/filter_constraints.t ................... ok
t/filters_builtin.t ...................... ok
t/filters_shouldnt_modify.t .............. ok
t/get_filtered_data.t .................... ok
CGI::param called in list context from package Data::FormValidator::Results line 1074, this can lead to vulnerabilities. See the warning in "Fetching the value or values of a single named parameter" at /opt/perl492-32-O0-5.14.1/lib/site_perl/5.14.1/CGI.pm line 408.
CGI::param called in list context from package Data::FormValidator::Results line 1074, this can lead to vulnerabilities. See the warning in "Fetching the value or values of a single named parameter" at /opt/perl492-32-O0-5.14.1/lib/site_perl/5.14.1/CGI.pm line 408.
t/get_input_data.t ....................... ok
CGI::param called in list context from package Data::FormValidator::Results line 1074, this can lead to vulnerabilities. See the warning in "Fetching the value or values of a single named parameter" at /opt/perl492-32-O0-5.14.1/lib/site_perl/5.14.1/CGI.pm line 408.
CGI::param called in list context from package Data::FormValidator::Results line 1074, this can lead to vulnerabilities. See the warning in "Fetching the value or values of a single named parameter" at /opt/perl492-32-O0-5.14.1/lib/site_perl/5.14.1/CGI.pm line 408.
CGI::param called in list context from package Data::FormValidator::Results line 1074, this can lead to vulnerabilities. See the warning in "Fetching the value or values of a single named parameter" at /opt/perl492-32-O0-5.14.1/lib/site_perl/5.14.1/CGI.pm line 408.
CGI::param called in list context from package Data::FormValidator::Results line 1074, this can lead to vulnerabilities. See the warning in "Fetching the value or values of a single named parameter" at /opt/perl492-32-O0-5.14.1/lib/site_perl/5.14.1/CGI.pm line 408.
CGI::param called in list context from package Data::FormValidator::Results line 1074, this can lead to vulnerabilities. See the warning in "Fetching the value or values of a single named parameter" at /opt/perl492-32-O0-5.14.1/lib/site_perl/5.14.1/CGI.pm line 408.
CGI::param called in list context from package Data::FormValidator::Results line 1074, this can lead to vulnerabilities. See the warning in "Fetching the value or values of a single named parameter" at /opt/perl492-32-O0-5.14.1/lib/site_perl/5.14.1/CGI.pm line 408.
CGI::param called in list context from package Data::FormValidator::Results line 1074, this can lead to vulnerabilities. See the warning in "Fetching the value or values of a single named parameter" at /opt/perl492-32-O0-5.14.1/lib/site_perl/5.14.1/CGI.pm line 408.
CGI::param called in list context from package Data::FormValidator::Results line 1074, this can lead to vulnerabilities. See the warning in "Fetching the value or values of a single named parameter" at /opt/perl492-32-O0-5.14.1/lib/site_perl/5.14.1/CGI.pm line 408.
CGI::param called in list context from package Data::FormValidator::Results line 1074, this can lead to vulnerabilities. See the warning in "Fetching the value or values of a single named parameter" at /opt/perl492-32-O0-5.14.1/lib/site_perl/5.14.1/CGI.pm line 408.
CGI::param called in list context from package Data::FormValidator::Results line 1074, this can lead to vulnerabilities. See the warning in "Fetching the value or values of a single named parameter" at /opt/perl492-32-O0-5.14.1/lib/site_perl/5.14.1/CGI.pm line 408.
CGI::param called in list context from package Data::FormValidator::Results line 1074, this can lead to vulnerabilities. See the warning in "Fetching the value or values of a single named parameter" at /opt/perl492-32-O0-5.14.1/lib/site_perl/5.14.1/CGI.pm line 408.
CGI::param called in list context from package Data::FormValidator::Results line 1074, this can lead to vulnerabilities. See the warning in "Fetching the value or values of a single named parameter" at /opt/perl492-32-O0-5.14.1/lib/site_perl/5.14.1/CGI.pm line 408.
CGI::param called in list context from package Data::FormValidator::Results line 1074, this can lead to vulnerabilities. See the warning in "Fetching the value or values of a single named parameter" at /opt/perl492-32-O0-5.14.1/lib/site_perl/5.14.1/CGI.pm line 408.
CGI::param called in list context from package Data::FormValidator::Results line 1074, this can lead to vulnerabilities. See the warning in "Fetching the value or values of a single named parameter" at /opt/perl492-32-O0-5.14.1/lib/site_perl/5.14.1/CGI.pm line 408.
CGI::param called in list context from package Data::FormValidator::Results line 1074, this can lead to vulnerabilities. See the warning in "Fetching the value or values of a single named parameter" at /opt/perl492-32-O0-5.14.1/lib/site_perl/5.14.1/CGI.pm line 408.
t/missing_optional.t ..................... ok
t/msgs.t ................................. ok
t/multiple_constraints.t ................. ok
CGI::param called in list context from package Data::FormValidator::Results line 1074, this can lead to vulnerabilities. See the warning in "Fetching the value or values of a single named parameter" at /opt/perl492-32-O0-5.14.1/lib/site_perl/5.14.1/CGI.pm line 408.
CGI::param called in list context from package Data::FormValidator::Results line 1074, this can lead to vulnerabilities. See the warning in "Fetching the value or values of a single named parameter" at /opt/perl492-32-O0-5.14.1/lib/site_perl/5.14.1/CGI.pm line 408.
CGI::param called in list context from package Data::FormValidator::Results line 1074, this can lead to vulnerabilities. See the warning in "Fetching the value or values of a single named parameter" at /opt/perl492-32-O0-5.14.1/lib/site_perl/5.14.1/CGI.pm line 408.
CGI::param called in list context from package Data::FormValidator::Results line 1074, this can lead to vulnerabilities. See the warning in "Fetching the value or values of a single named parameter" at /opt/perl492-32-O0-5.14.1/lib/site_perl/5.14.1/CGI.pm line 408.
CGI::param called in list context from package Data::FormValidator::Results line 1074, this can lead to vulnerabilities. See the warning in "Fetching the value or values of a single named parameter" at /opt/perl492-32-O0-5.14.1/lib/site_perl/5.14.1/CGI.pm line 408.
CGI::param called in list context from package Data::FormValidator::Results line 1074, this can lead to vulnerabilities. See the warning in "Fetching the value or values of a single named parameter" at /opt/perl492-32-O0-5.14.1/lib/site_perl/5.14.1/CGI.pm line 408.
t/params_not_mentioned.t ................. ok
t/pod.t .................................. ok
t/procedural_valid.t ..................... ok
t/profile_checking.t ..................... ok
t/regexp_common.t ........................ ok
t/regexp_common_closure.t ................ ok
t/rename_builtin_constraints.t ........... ok
t/results_success.t ...................... ok
t/simple.t ............................... ok
t/tt_and_overload.t ...................... ok
t/undefined_arrayref.t ................... ok
t/unknown.t .............................. ok
t/untaint.t .............................. ok
# Skipping CGI::Simple Tests
# testing with CGI.pm version: 4.14
# Running tests with CGI
CGI::param called in list context from package Data::FormValidator::Results line 1074, this can lead to vulnerabilities. See the warning in "Fetching the value or values of a single named parameter" at /opt/perl492-32-O0-5.14.1/lib/site_perl/5.14.1/CGI.pm line 408.
CGI::param called in list context from package Data::FormValidator::Results line 1074, this can lead to vulnerabilities. See the warning in "Fetching the value or values of a single named parameter" at /opt/perl492-32-O0-5.14.1/lib/site_perl/5.14.1/CGI.pm line 408.
CGI::param called in list context from package Data::FormValidator::Results line 1074, this can lead to vulnerabilities. See the warning in "Fetching the value or values of a single named parameter" at /opt/perl492-32-O0-5.14.1/lib/site_perl/5.14.1/CGI.pm line 408.
CGI::param called in list context from package Data::FormValidator::Results line 1074, this can lead to vulnerabilities. See the warning in "Fetching the value or values of a single named parameter" at /opt/perl492-32-O0-5.14.1/lib/site_perl/5.14.1/CGI.pm line 408.
CGI::param called in list context from package Data::FormValidator::Results line 1074, this can lead to vulnerabilities. See the warning in "Fetching the value or values of a single named parameter" at /opt/perl492-32-O0-5.14.1/lib/site_perl/5.14.1/CGI.pm line 408.
CGI::param called in list context from package Data::FormValidator::Results line 1074, this can lead to vulnerabilities. See the warning in "Fetching the value or values of a single named parameter" at /opt/perl492-32-O0-5.14.1/lib/site_perl/5.14.1/CGI.pm line 408.
CGI::param called in list context from package Data::FormValidator::Results line 1074, this can lead to vulnerabilities. See the warning in "Fetching the value or values of a single named parameter" at /opt/perl492-32-O0-5.14.1/lib/site_perl/5.14.1/CGI.pm line 408.
CGI::param called in list context from package Data::FormValidator::Results line 1074, this can lead to vulnerabilities. See the warning in "Fetching the value or values of a single named parameter" at /opt/perl492-32-O0-5.14.1/lib/site_perl/5.14.1/CGI.pm line 408.
CGI::param called in list context from package Data::FormValidator::Results line 1074, this can lead to vulnerabilities. See the warning in "Fetching the value or values of a single named parameter" at /opt/perl492-32-O0-5.14.1/lib/site_perl/5.14.1/CGI.pm line 408.
CGI::param called in list context from package Data::FormValidator::Results line 1074, this can lead to vulnerabilities. See the warning in "Fetching the value or values of a single named parameter" at /opt/perl492-32-O0-5.14.1/lib/site_perl/5.14.1/CGI.pm line 408.
CGI::param called in list context from package Data::FormValidator::Results line 1074, this can lead to vulnerabilities. See the warning in "Fetching the value or values of a single named parameter" at /opt/perl492-32-O0-5.14.1/lib/site_perl/5.14.1/CGI.pm line 408.
CGI::param called in list context from package Data::FormValidator::Results line 1074, this can lead to vulnerabilities. See the warning in "Fetching the value or values of a single named parameter" at /opt/perl492-32-O0-5.14.1/lib/site_perl/5.14.1/CGI.pm line 408.
CGI::param called in list context from package Data::FormValidator::Results line 1074, this can lead to vulnerabilities. See the warning in "Fetching the value or values of a single named parameter" at /opt/perl492-32-O0-5.14.1/lib/site_perl/5.14.1/CGI.pm line 408.
CGI::param called in list context from package Data::FormValidator::Results line 1074, this can lead to vulnerabilities. See the warning in "Fetching the value or values of a single named parameter" at /opt/perl492-32-O0-5.14.1/lib/site_perl/5.14.1/CGI.pm line 408.
CGI::param called in list context from package Data::FormValidator::Results line 1074, this can lead to vulnerabilities. See the warning in "Fetching the value or values of a single named parameter" at /opt/perl492-32-O0-5.14.1/lib/site_perl/5.14.1/CGI.pm line 408.
CGI::param called in list context from package Data::FormValidator::Results line 1074, this can lead to vulnerabilities. See the warning in "Fetching the value or values of a single named parameter" at /opt/perl492-32-O0-5.14.1/lib/site_perl/5.14.1/CGI.pm line 408.
CGI::param called in list context from package Data::FormValidator::Results line 1074, this can lead to vulnerabilities. See the warning in "Fetching the value or values of a single named parameter" at /opt/perl492-32-O0-5.14.1/lib/site_perl/5.14.1/CGI.pm line 408.
CGI::param called in list context from package Data::FormValidator::Results line 1074, this can lead to vulnerabilities. See the warning in "Fetching the value or values of a single named parameter" at /opt/perl492-32-O0-5.14.1/lib/site_perl/5.14.1/CGI.pm line 408.
CGI::param called in list context from package Data::FormValidator::Results line 1074, this can lead to vulnerabilities. See the warning in "Fetching the value or values of a single named parameter" at /opt/perl492-32-O0-5.14.1/lib/site_perl/5.14.1/CGI.pm line 408.
CGI::param called in list context from package Data::FormValidator::Results line 1074, this can lead to vulnerabilities. See the warning in "Fetching the value or values of a single named parameter" at /opt/perl492-32-O0-5.14.1/lib/site_perl/5.14.1/CGI.pm line 408.
CGI::param called in list context from package Data::FormValidator::Results line 1074, this can lead to vulnerabilities. See the warning in "Fetching the value or values of a single named parameter" at /opt/perl492-32-O0-5.14.1/lib/site_perl/5.14.1/CGI.pm line 408.
CGI::param called in list context from package Data::FormValidator::Results line 1074, this can lead to vulnerabilities. See the warning in "Fetching the value or values of a single named parameter" at /opt/perl492-32-O0-5.14.1/lib/site_perl/5.14.1/CGI.pm line 408.
CGI::param called in list context from package Data::FormValidator::Results line 1074, this can lead to vulnerabilities. See the warning in "Fetching the value or values of a single named parameter" at /opt/perl492-32-O0-5.14.1/lib/site_perl/5.14.1/CGI.pm line 408.
CGI::param called in list context from package Data::FormValidator::Results line 1074, this can lead to vulnerabilities. See the warning in "Fetching the value or values of a single named parameter" at /opt/perl492-32-O0-5.14.1/lib/site_perl/5.14.1/CGI.pm line 408.
CGI::param called in list context from package Data::FormValidator::Results line 1074, this can lead to vulnerabilities. See the warning in "Fetching the value or values of a single named parameter" at /opt/perl492-32-O0-5.14.1/lib/site_perl/5.14.1/CGI.pm line 408.
CGI::param called in list context from package Data::FormValidator::Results line 1074, this can lead to vulnerabilities. See the warning in "Fetching the value or values of a single named parameter" at /opt/perl492-32-O0-5.14.1/lib/site_perl/5.14.1/CGI.pm line 408.
CGI::param called in list context from package Data::FormValidator::Results line 1074, this can lead to vulnerabilities. See the warning in "Fetching the value or values of a single named parameter" at /opt/perl492-32-O0-5.14.1/lib/site_perl/5.14.1/CGI.pm line 408.
CGI::param called in list context from package Data::FormValidator::Results line 1074, this can lead to vulnerabilities. See the warning in "Fetching the value or values of a single named parameter" at /opt/perl492-32-O0-5.14.1/lib/site_perl/5.14.1/CGI.pm line 408.
CGI::param called in list context from package Data::FormValidator::Results line 1074, this can lead to vulnerabilities. See the warning in "Fetching the value or values of a single named parameter" at /opt/perl492-32-O0-5.14.1/lib/site_perl/5.14.1/CGI.pm line 408.
CGI::param called in list context from package Data::FormValidator::Results line 1074, this can lead to vulnerabilities. See the warning in "Fetching the value or values of a single named parameter" at /opt/perl492-32-O0-5.14.1/lib/site_perl/5.14.1/CGI.pm line 408.
CGI::param called in list context from package Data::FormValidator::Results line 1074, this can lead to vulnerabilities. See the warning in "Fetching the value or values of a single named parameter" at /opt/perl492-32-O0-5.14.1/lib/site_perl/5.14.1/CGI.pm line 408.
CGI::param called in list context from package Data::FormValidator::Results line 1074, this can lead to vulnerabilities. See the warning in "Fetching the value or values of a single named parameter" at /opt/perl492-32-O0-5.14.1/lib/site_perl/5.14.1/CGI.pm line 408.
CGI::param called in list context from package Data::FormValidator::Results line 1074, this can lead to vulnerabilities. See the warning in "Fetching the value or values of a single named parameter" at /opt/perl492-32-O0-5.14.1/lib/site_perl/5.14.1/CGI.pm line 408.
CGI::param called in list context from package Data::FormValidator::Results line 1074, this can lead to vulnerabilities. See the warning in "Fetching the value or values of a single named parameter" at /opt/perl492-32-O0-5.14.1/lib/site_perl/5.14.1/CGI.pm line 408.
CGI::param called in list context from package Data::FormValidator::Results line 1074, this can lead to vulnerabilities. See the warning in "Fetching the value or values of a single named parameter" at /opt/perl492-32-O0-5.14.1/lib/site_perl/5.14.1/CGI.pm line 408.
CGI::param called in list context from package Data::FormValidator::Results line 1074, this can lead to vulnerabilities. See the warning in "Fetching the value or values of a single named parameter" at /opt/perl492-32-O0-5.14.1/lib/site_perl/5.14.1/CGI.pm line 408.
CGI::param called in list context from package Data::FormValidator::Results line 1074, this can lead to vulnerabilities. See the warning in "Fetching the value or values of a single named parameter" at /opt/perl492-32-O0-5.14.1/lib/site_perl/5.14.1/CGI.pm line 408.
CGI::param called in list context from package Data::FormValidator::Results line 1074, this can lead to vulnerabilities. See the warning in "Fetching the value or values of a single named parameter" at /opt/perl492-32-O0-5.14.1/lib/site_perl/5.14.1/CGI.pm line 408.
CGI::param called in list context from package Data::FormValidator::Results line 1074, this can lead to vulnerabilities. See the warning in "Fetching the value or values of a single named parameter" at /opt/perl492-32-O0-5.14.1/lib/site_perl/5.14.1/CGI.pm line 408.
CGI::param called in list context from package Data::FormValidator::Results line 1074, this can lead to vulnerabilities. See the warning in "Fetching the value or values of a single named parameter" at /opt/perl492-32-O0-5.14.1/lib/site_perl/5.14.1/CGI.pm line 408.
CGI::param called in list context from package Data::FormValidator::Results line 1074, this can lead to vulnerabilities. See the warning in "Fetching the value or values of a single named parameter" at /opt/perl492-32-O0-5.14.1/lib/site_perl/5.14.1/CGI.pm line 408.
CGI::param called in list context from package Data::FormValidator::Results line 1074, this can lead to vulnerabilities. See the warning in "Fetching the value or values of a single named parameter" at /opt/perl492-32-O0-5.14.1/lib/site_perl/5.14.1/CGI.pm line 408.
CGI::param called in list context from package Data::FormValidator::Results line 1074, this can lead to vulnerabilities. See the warning in "Fetching the value or values of a single named parameter" at /opt/perl492-32-O0-5.14.1/lib/site_perl/5.14.1/CGI.pm line 408.
CGI::param called in list context from package Data::FormValidator::Results line 1074, this can lead to vulnerabilities. See the warning in "Fetching the value or values of a single named parameter" at /opt/perl492-32-O0-5.14.1/lib/site_perl/5.14.1/CGI.pm line 408.
CGI::param called in list context from package Data::FormValidator::Results line 1074, this can lead to vulnerabilities. See the warning in "Fetching the value or values of a single named parameter" at /opt/perl492-32-O0-5.14.1/lib/site_perl/5.14.1/CGI.pm line 408.
CGI::param called in list context from package Data::FormValidator::Results line 1074, this can lead to vulnerabilities. See the warning in "Fetching the value or values of a single named parameter" at /opt/perl492-32-O0-5.14.1/lib/site_perl/5.14.1/CGI.pm line 408.
CGI::param called in list context from package Data::FormValidator::Results line 1074, this can lead to vulnerabilities. See the warning in "Fetching the value or values of a single named parameter" at /opt/perl492-32-O0-5.14.1/lib/site_perl/5.14.1/CGI.pm line 408.
CGI::param called in list context from package Data::FormValidator::Results line 1074, this can lead to vulnerabilities. See the warning in "Fetching the value or values of a single named parameter" at /opt/perl492-32-O0-5.14.1/lib/site_perl/5.14.1/CGI.pm line 408.
CGI::param called in list context from package Data::FormValidator::Results line 1074, this can lead to vulnerabilities. See the warning in "Fetching the value or values of a single named parameter" at /opt/perl492-32-O0-5.14.1/lib/site_perl/5.14.1/CGI.pm line 408.
CGI::param called in list context from package Data::FormValidator::Results line 1074, this can lead to vulnerabilities. See the warning in "Fetching the value or values of a single named parameter" at /opt/perl492-32-O0-5.14.1/lib/site_perl/5.14.1/CGI.pm line 408.
CGI::param called in list context from package Data::FormValidator::Results line 1074, this can lead to vulnerabilities. See the warning in "Fetching the value or values of a single named parameter" at /opt/perl492-32-O0-5.14.1/lib/site_perl/5.14.1/CGI.pm line 408.
CGI::param called in list context from package Data::FormValidator::Results line 1074, this can lead to vulnerabilities. See the warning in "Fetching the value or values of a single named parameter" at /opt/perl492-32-O0-5.14.1/lib/site_perl/5.14.1/CGI.pm line 408.
CGI::param called in list context from package Data::FormValidator::Results line 1074, this can lead to vulnerabilities. See the warning in "Fetching the value or values of a single named parameter" at /opt/perl492-32-O0-5.14.1/lib/site_perl/5.14.1/CGI.pm line 408.
CGI::param called in list context from package Data::FormValidator::Results line 1074, this can lead to vulnerabilities. See the warning in "Fetching the value or values of a single named parameter" at /opt/perl492-32-O0-5.14.1/lib/site_perl/5.14.1/CGI.pm line 408.
CGI::param called in list context from package Data::FormValidator::Results line 1074, this can lead to vulnerabilities. See the warning in "Fetching the value or values of a single named parameter" at /opt/perl492-32-O0-5.14.1/lib/site_perl/5.14.1/CGI.pm line 408.
CGI::param called in list context from package Data::FormValidator::Results line 1074, this can lead to vulnerabilities. See the warning in "Fetching the value or values of a single named parameter" at /opt/perl492-32-O0-5.14.1/lib/site_perl/5.14.1/CGI.pm line 408.
CGI::param called in list context from package Data::FormValidator::Results line 1074, this can lead to vulnerabilities. See the warning in "Fetching the value or values of a single named parameter" at /opt/perl492-32-O0-5.14.1/lib/site_perl/5.14.1/CGI.pm line 408.
CGI::param called in list context from package Data::FormValidator::Results line 1074, this can lead to vulnerabilities. See the warning in "Fetching the value or values of a single named parameter" at /opt/perl492-32-O0-5.14.1/lib/site_perl/5.14.1/CGI.pm line 408.
CGI::param called in list context from package Data::FormValidator::Results line 1074, this can lead to vulnerabilities. See the warning in "Fetching the value or values of a single named parameter" at /opt/perl492-32-O0-5.14.1/lib/site_perl/5.14.1/CGI.pm line 408.
CGI::param called in list context from package Data::FormValidator::Results line 1074, this can lead to vulnerabilities. See the warning in "Fetching the value or values of a single named parameter" at /opt/perl492-32-O0-5.14.1/lib/site_perl/5.14.1/CGI.pm line 408.
CGI::param called in list context from package Data::FormValidator::Results line 1074, this can lead to vulnerabilities. See the warning in "Fetching the value or values of a single named parameter" at /opt/perl492-32-O0-5.14.1/lib/site_perl/5.14.1/CGI.pm line 408.
CGI::param called in list context from package Data::FormValidator::Results line 1074, this can lead to vulnerabilities. See the warning in "Fetching the value or values of a single named parameter" at /opt/perl492-32-O0-5.14.1/lib/site_perl/5.14.1/CGI.pm line 408.
CGI::param called in list context from package Data::FormValidator::Results line 1074, this can lead to vulnerabilities. See the warning in "Fetching the value or values of a single named parameter" at /opt/perl492-32-O0-5.14.1/lib/site_perl/5.14.1/CGI.pm line 408.
CGI::param called in list context from package Data::FormValidator::Results line 1074, this can lead to vulnerabilities. See the warning in "Fetching the value or values of a single named parameter" at /opt/perl492-32-O0-5.14.1/lib/site_perl/5.14.1/CGI.pm line 408.
CGI::param called in list context from package Data::FormValidator::Results line 1074, this can lead to vulnerabilities. See the warning in "Fetching the value or values of a single named parameter" at /opt/perl492-32-O0-5.14.1/lib/site_perl/5.14.1/CGI.pm line 408.
CGI::param called in list context from package Data::FormValidator::Results line 1074, this can lead to vulnerabilities. See the warning in "Fetching the value or values of a single named parameter" at /opt/perl492-32-O0-5.14.1/lib/site_perl/5.14.1/CGI.pm line 408.
CGI::param called in list context from package Data::FormValidator::Results line 1074, this can lead to vulnerabilities. See the warning in "Fetching the value or values of a single named parameter" at /opt/perl492-32-O0-5.14.1/lib/site_perl/5.14.1/CGI.pm line 408.
CGI::param called in list context from package Data::FormValidator::Results line 1074, this can lead to vulnerabilities. See the warning in "Fetching the value or values of a single named parameter" at /opt/perl492-32-O0-5.14.1/lib/site_perl/5.14.1/CGI.pm line 408.
CGI::param called in list context from package Data::FormValidator::Results line 1074, this can lead to vulnerabilities. See the warning in "Fetching the value or values of a single named parameter" at /opt/perl492-32-O0-5.14.1/lib/site_perl/5.14.1/CGI.pm line 408.
CGI::param called in list context from package Data::FormValidator::Results line 1074, this can lead to vulnerabilities. See the warning in "Fetching the value or values of a single named parameter" at /opt/perl492-32-O0-5.14.1/lib/site_perl/5.14.1/CGI.pm line 408.
CGI::param called in list context from package Data::FormValidator::Results line 1074, this can lead to vulnerabilities. See the warning in "Fetching the value or values of a single named parameter" at /opt/perl492-32-O0-5.14.1/lib/site_perl/5.14.1/CGI.pm line 408.
CGI::param called in list context from package Data::FormValidator::Results line 1074, this can lead to vulnerabilities. See the warning in "Fetching the value or values of a single named parameter" at /opt/perl492-32-O0-5.14.1/lib/site_perl/5.14.1/CGI.pm line 408.
CGI::param called in list context from package Data::FormValidator::Results line 1074, this can lead to vulnerabilities. See the warning in "Fetching the value or values of a single named parameter" at /opt/perl492-32-O0-5.14.1/lib/site_perl/5.14.1/CGI.pm line 408.
CGI::param called in list context from package Data::FormValidator::Results line 1074, this can lead to vulnerabilities. See the warning in "Fetching the value or values of a single named parameter" at /opt/perl492-32-O0-5.14.1/lib/site_perl/5.14.1/CGI.pm line 408.
CGI::param called in list context from package Data::FormValidator::Results line 1074, this can lead to vulnerabilities. See the warning in "Fetching the value or values of a single named parameter" at /opt/perl492-32-O0-5.14.1/lib/site_perl/5.14.1/CGI.pm line 408.
CGI::param called in list context from package Data::FormValidator::Results line 1074, this can lead to vulnerabilities. See the warning in "Fetching the value or values of a single named parameter" at /opt/perl492-32-O0-5.14.1/lib/site_perl/5.14.1/CGI.pm line 408.
CGI::param called in list context from package Data::FormValidator::Results line 1074, this can lead to vulnerabilities. See the warning in "Fetching the value or values of a single named parameter" at /opt/perl492-32-O0-5.14.1/lib/site_perl/5.14.1/CGI.pm line 408.
CGI::param called in list context from package Data::FormValidator::Results line 1074, this can lead to vulnerabilities. See the warning in "Fetching the value or values of a single named parameter" at /opt/perl492-32-O0-5.14.1/lib/site_perl/5.14.1/CGI.pm line 408.
CGI::param called in list context from package Data::FormValidator::Results line 1074, this can lead to vulnerabilities. See the warning in "Fetching the value or values of a single named parameter" at /opt/perl492-32-O0-5.14.1/lib/site_perl/5.14.1/CGI.pm line 408.
CGI::param called in list context from package Data::FormValidator::Results line 1074, this can lead to vulnerabilities. See the warning in "Fetching the value or values of a single named parameter" at /opt/perl492-32-O0-5.14.1/lib/site_perl/5.14.1/CGI.pm line 408.
CGI::param called in list context from package Data::FormValidator::Results line 1074, this can lead to vulnerabilities. See the warning in "Fetching the value or values of a single named parameter" at /opt/perl492-32-O0-5.14.1/lib/site_perl/5.14.1/CGI.pm line 408.
CGI::param called in list context from package Data::FormValidator::Results line 1074, this can lead to vulnerabilities. See the warning in "Fetching the value or values of a single named parameter" at /opt/perl492-32-O0-5.14.1/lib/site_perl/5.14.1/CGI.pm line 408.
CGI::param called in list context from package Data::FormValidator::Results line 1074, this can lead to vulnerabilities. See the warning in "Fetching the value or values of a single named parameter" at /opt/perl492-32-O0-5.14.1/lib/site_perl/5.14.1/CGI.pm line 408.
CGI::param called in list context from package Data::FormValidator::Results line 1074, this can lead to vulnerabilities. See the warning in "Fetching the value or values of a single named parameter" at /opt/perl492-32-O0-5.14.1/lib/site_perl/5.14.1/CGI.pm line 408.
CGI::param called in list context from package Data::FormValidator::Results line 1074, this can lead to vulnerabilities. See the warning in "Fetching the value or values of a single named parameter" at /opt/perl492-32-O0-5.14.1/lib/site_perl/5.14.1/CGI.pm line 408.
CGI::param called in list context from package Data::FormValidator::Results line 1074, this can lead to vulnerabilities. See the warning in "Fetching the value or values of a single named parameter" at /opt/perl492-32-O0-5.14.1/lib/site_perl/5.14.1/CGI.pm line 408.
CGI::param called in list context from package Data::FormValidator::Results line 1074, this can lead to vulnerabilities. See the warning in "Fetching the value or values of a single named parameter" at /opt/perl492-32-O0-5.14.1/lib/site_perl/5.14.1/CGI.pm line 408.
CGI::param called in list context from package Data::FormValidator::Results line 1074, this can lead to vulnerabilities. See the warning in "Fetching the value or values of a single named parameter" at /opt/perl492-32-O0-5.14.1/lib/site_perl/5.14.1/CGI.pm line 408.
CGI::param called in list context from package Data::FormValidator::Results line 1074, this can lead to vulnerabilities. See the warning in "Fetching the value or values of a single named parameter" at /opt/perl492-32-O0-5.14.1/lib/site_perl/5.14.1/CGI.pm line 408.
CGI::param called in list context from package Data::FormValidator::Results line 1074, this can lead to vulnerabilities. See the warning in "Fetching the value or values of a single named parameter" at /opt/perl492-32-O0-5.14.1/lib/site_perl/5.14.1/CGI.pm line 408.
CGI::param called in list context from package Data::FormValidator::Results line 1074, this can lead to vulnerabilities. See the warning in "Fetching the value or values of a single named parameter" at /opt/perl492-32-O0-5.14.1/lib/site_perl/5.14.1/CGI.pm line 408.
CGI::param called in list context from package Data::FormValidator::Results line 1074, this can lead to vulnerabilities. See the warning in "Fetching the value or values of a single named parameter" at /opt/perl492-32-O0-5.14.1/lib/site_perl/5.14.1/CGI.pm line 408.
t/upload.t ............................... ok
# testing with CGI.pm version: 4.14
CGI::param called in list context from package Data::FormValidator::Results line 1074, this can lead to vulnerabilities. See the warning in "Fetching the value or values of a single named parameter" at /opt/perl492-32-O0-5.14.1/lib/site_perl/5.14.1/CGI.pm line 408.
CGI::param called in list context from package Data::FormValidator::Results line 1074, this can lead to vulnerabilities. See the warning in "Fetching the value or values of a single named parameter" at /opt/perl492-32-O0-5.14.1/lib/site_perl/5.14.1/CGI.pm line 408.
CGI::param called in list context from package Data::FormValidator::Results line 1074, this can lead to vulnerabilities. See the warning in "Fetching the value or values of a single named parameter" at /opt/perl492-32-O0-5.14.1/lib/site_perl/5.14.1/CGI.pm line 408.
CGI::param called in list context from package Data::FormValidator::Results line 1074, this can lead to vulnerabilities. See the warning in "Fetching the value or values of a single named parameter" at /opt/perl492-32-O0-5.14.1/lib/site_perl/5.14.1/CGI.pm line 408.
CGI::param called in list context from package Data::FormValidator::Results line 1074, this can lead to vulnerabilities. See the warning in "Fetching the value or values of a single named parameter" at /opt/perl492-32-O0-5.14.1/lib/site_perl/5.14.1/CGI.pm line 408.
CGI::param called in list context from package Data::FormValidator::Results line 1074, this can lead to vulnerabilities. See the warning in "Fetching the value or values of a single named parameter" at /opt/perl492-32-O0-5.14.1/lib/site_perl/5.14.1/CGI.pm line 408.
CGI::param called in list context from package Data::FormValidator::Results line 1074, this can lead to vulnerabilities. See the warning in "Fetching the value or values of a single named parameter" at /opt/perl492-32-O0-5.14.1/lib/site_perl/5.14.1/CGI.pm line 408.
CGI::param called in list context from package Data::FormValidator::Results line 1074, this can lead to vulnerabilities. See the warning in "Fetching the value or values of a single named parameter" at /opt/perl492-32-O0-5.14.1/lib/site_perl/5.14.1/CGI.pm line 408.
CGI::param called in list context from package Data::FormValidator::Results line 1074, this can lead to vulnerabilities. See the warning in "Fetching the value or values of a single named parameter" at /opt/perl492-32-O0-5.14.1/lib/site_perl/5.14.1/CGI.pm line 408.
CGI::param called in list context from package Data::FormValidator::Results line 1074, this can lead to vulnerabilities. See the warning in "Fetching the value or values of a single named parameter" at /opt/perl492-32-O0-5.14.1/lib/site_perl/5.14.1/CGI.pm line 408.
CGI::param called in list context from package Data::FormValidator::Results line 1074, this can lead to vulnerabilities. See the warning in "Fetching the value or values of a single named parameter" at /opt/perl492-32-O0-5.14.1/lib/site_perl/5.14.1/CGI.pm line 408.
CGI::param called in list context from package Data::FormValidator::Results line 1074, this can lead to vulnerabilities. See the warning in "Fetching the value or values of a single named parameter" at /opt/perl492-32-O0-5.14.1/lib/site_perl/5.14.1/CGI.pm line 408.
CGI::param called in list context from package Data::FormValidator::Results line 1074, this can lead to vulnerabilities. See the warning in "Fetching the value or values of a single named parameter" at /opt/perl492-32-O0-5.14.1/lib/site_perl/5.14.1/CGI.pm line 408.
CGI::param called in list context from package Data::FormValidator::Results line 1074, this can lead to vulnerabilities. See the warning in "Fetching the value or values of a single named parameter" at /opt/perl492-32-O0-5.14.1/lib/site_perl/5.14.1/CGI.pm line 408.
CGI::param called in list context from package Data::FormValidator::Results line 1074, this can lead to vulnerabilities. See the warning in "Fetching the value or values of a single named parameter" at /opt/perl492-32-O0-5.14.1/lib/site_perl/5.14.1/CGI.pm line 408.
CGI::param called in list context from package Data::FormValidator::Results line 1074, this can lead to vulnerabilities. See the warning in "Fetching the value or values of a single named parameter" at /opt/perl492-32-O0-5.14.1/lib/site_perl/5.14.1/CGI.pm line 408.
CGI::param called in list context from package Data::FormValidator::Results line 1074, this can lead to vulnerabilities. See the warning in "Fetching the value or values of a single named parameter" at /opt/perl492-32-O0-5.14.1/lib/site_perl/5.14.1/CGI.pm line 408.
CGI::param called in list context from package Data::FormValidator::Results line 1074, this can lead to vulnerabilities. See the warning in "Fetching the value or values of a single named parameter" at /opt/perl492-32-O0-5.14.1/lib/site_perl/5.14.1/CGI.pm line 408.
CGI::param called in list context from package Data::FormValidator::Results line 1074, this can lead to vulnerabilities. See the warning in "Fetching the value or values of a single named parameter" at /opt/perl492-32-O0-5.14.1/lib/site_perl/5.14.1/CGI.pm line 408.
CGI::param called in list context from package Data::FormValidator::Results line 1074, this can lead to vulnerabilities. See the warning in "Fetching the value or values of a single named parameter" at /opt/perl492-32-O0-5.14.1/lib/site_perl/5.14.1/CGI.pm line 408.
CGI::param called in list context from package Data::FormValidator::Results line 1074, this can lead to vulnerabilities. See the warning in "Fetching the value or values of a single named parameter" at /opt/perl492-32-O0-5.14.1/lib/site_perl/5.14.1/CGI.pm line 408.
CGI::param called in list context from package Data::FormValidator::Results line 1074, this can lead to vulnerabilities. See the warning in "Fetching the value or values of a single named parameter" at /opt/perl492-32-O0-5.14.1/lib/site_perl/5.14.1/CGI.pm line 408.
CGI::param called in list context from package Data::FormValidator::Results line 1074, this can lead to vulnerabilities. See the warning in "Fetching the value or values of a single named parameter" at /opt/perl492-32-O0-5.14.1/lib/site_perl/5.14.1/CGI.pm line 408.
CGI::param called in list context from package Data::FormValidator::Results line 1074, this can lead to vulnerabilities. See the warning in "Fetching the value or values of a single named parameter" at /opt/perl492-32-O0-5.14.1/lib/site_perl/5.14.1/CGI.pm line 408.
CGI::param called in list context from package Data::FormValidator::Results line 1074, this can lead to vulnerabilities. See the warning in "Fetching the value or values of a single named parameter" at /opt/perl492-32-O0-5.14.1/lib/site_perl/5.14.1/CGI.pm line 408.
CGI::param called in list context from package Data::FormValidator::Results line 1074, this can lead to vulnerabilities. See the warning in "Fetching the value or values of a single named parameter" at /opt/perl492-32-O0-5.14.1/lib/site_perl/5.14.1/CGI.pm line 408.
CGI::param called in list context from package Data::FormValidator::Results line 1074, this can lead to vulnerabilities. See the warning in "Fetching the value or values of a single named parameter" at /opt/perl492-32-O0-5.14.1/lib/site_perl/5.14.1/CGI.pm line 408.
CGI::param called in list context from package Data::FormValidator::Results line 1074, this can lead to vulnerabilities. See the warning in "Fetching the value or values of a single named parameter" at /opt/perl492-32-O0-5.14.1/lib/site_perl/5.14.1/CGI.pm line 408.
CGI::param called in list context from package Data::FormValidator::Results line 1074, this can lead to vulnerabilities. See the warning in "Fetching the value or values of a single named parameter" at /opt/perl492-32-O0-5.14.1/lib/site_perl/5.14.1/CGI.pm line 408.
CGI::param called in list context from package Data::FormValidator::Results line 1074, this can lead to vulnerabilities. See the warning in "Fetching the value or values of a single named parameter" at /opt/perl492-32-O0-5.14.1/lib/site_perl/5.14.1/CGI.pm line 408.
CGI::param called in list context from package Data::FormValidator::Results line 1074, this can lead to vulnerabilities. See the warning in "Fetching the value or values of a single named parameter" at /opt/perl492-32-O0-5.14.1/lib/site_perl/5.14.1/CGI.pm line 408.
CGI::param called in list context from package Data::FormValidator::Results line 1074, this can lead to vulnerabilities. See the warning in "Fetching the value or values of a single named parameter" at /opt/perl492-32-O0-5.14.1/lib/site_perl/5.14.1/CGI.pm line 408.
CGI::param called in list context from package Data::FormValidator::Results line 1074, this can lead to vulnerabilities. See the warning in "Fetching the value or values of a single named parameter" at /opt/perl492-32-O0-5.14.1/lib/site_perl/5.14.1/CGI.pm line 408.
CGI::param called in list context from package Data::FormValidator::Results line 1074, this can lead to vulnerabilities. See the warning in "Fetching the value or values of a single named parameter" at /opt/perl492-32-O0-5.14.1/lib/site_perl/5.14.1/CGI.pm line 408.
CGI::param called in list context from package Data::FormValidator::Results line 1074, this can lead to vulnerabilities. See the warning in "Fetching the value or values of a single named parameter" at /opt/perl492-32-O0-5.14.1/lib/site_perl/5.14.1/CGI.pm line 408.
CGI::param called in list context from package Data::FormValidator::Results line 1074, this can lead to vulnerabilities. See the warning in "Fetching the value or values of a single named parameter" at /opt/perl492-32-O0-5.14.1/lib/site_perl/5.14.1/CGI.pm line 408.
CGI::param called in list context from package Data::FormValidator::Results line 1074, this can lead to vulnerabilities. See the warning in "Fetching the value or values of a single named parameter" at /opt/perl492-32-O0-5.14.1/lib/site_perl/5.14.1/CGI.pm line 408.
CGI::param called in list context from package Data::FormValidator::Results line 1074, this can lead to vulnerabilities. See the warning in "Fetching the value or values of a single named parameter" at /opt/perl492-32-O0-5.14.1/lib/site_perl/5.14.1/CGI.pm line 408.
CGI::param called in list context from package Data::FormValidator::Results line 1074, this can lead to vulnerabilities. See the warning in "Fetching the value or values of a single named parameter" at /opt/perl492-32-O0-5.14.1/lib/site_perl/5.14.1/CGI.pm line 408.
CGI::param called in list context from package Data::FormValidator::Results line 1074, this can lead to vulnerabilities. See the warning in "Fetching the value or values of a single named parameter" at /opt/perl492-32-O0-5.14.1/lib/site_perl/5.14.1/CGI.pm line 408.
CGI::param called in list context from package Data::FormValidator::Results line 1074, this can lead to vulnerabilities. See the warning in "Fetching the value or values of a single named parameter" at /opt/perl492-32-O0-5.14.1/lib/site_perl/5.14.1/CGI.pm line 408.
CGI::param called in list context from package Data::FormValidator::Results line 1074, this can lead to vulnerabilities. See the warning in "Fetching the value or values of a single named parameter" at /opt/perl492-32-O0-5.14.1/lib/site_perl/5.14.1/CGI.pm line 408.
CGI::param called in list context from package Data::FormValidator::Results line 1074, this can lead to vulnerabilities. See the warning in "Fetching the value or values of a single named parameter" at /opt/perl492-32-O0-5.14.1/lib/site_perl/5.14.1/CGI.pm line 408.
CGI::param called in list context from package Data::FormValidator::Results line 1074, this can lead to vulnerabilities. See the warning in "Fetching the value or values of a single named parameter" at /opt/perl492-32-O0-5.14.1/lib/site_perl/5.14.1/CGI.pm line 408.
CGI::param called in list context from package Data::FormValidator::Results line 1074, this can lead to vulnerabilities. See the warning in "Fetching the value or values of a single named parameter" at /opt/perl492-32-O0-5.14.1/lib/site_perl/5.14.1/CGI.pm line 408.
CGI::param called in list context from package Data::FormValidator::Results line 1074, this can lead to vulnerabilities. See the warning in "Fetching the value or values of a single named parameter" at /opt/perl492-32-O0-5.14.1/lib/site_perl/5.14.1/CGI.pm line 408.
CGI::param called in list context from package Data::FormValidator::Results line 1074, this can lead to vulnerabilities. See the warning in "Fetching the value or values of a single named parameter" at /opt/perl492-32-O0-5.14.1/lib/site_perl/5.14.1/CGI.pm line 408.
CGI::param called in list context from package Data::FormValidator::Results line 1074, this can lead to vulnerabilities. See the warning in "Fetching the value or values of a single named parameter" at /opt/perl492-32-O0-5.14.1/lib/site_perl/5.14.1/CGI.pm line 408.
t/upload_closure.t ....................... ok
t/upload_mime_types.t .................... ok
All tests successful.
Files=65, Tests=606, 41 wallclock secs ( 1.40 usr  0.23 sys + 32.00 cusr  2.23 csys = 35.86 CPU)
Result: PASS

------------------------------
PREREQUISITES
------------------------------

Prerequisite modules loaded:

requires:

    Module          Need  Have      
    --------------- ----- ----------
    Date::Calc      5     6.4       
    Email::Valid    0     1.196     
    File::MMagic    1.17  1.30      
    Image::Size     0     3.300     
    MIME::Types     1.005 2.09      
    overload        0     1.13      
    perl            5.008 5.014001  
    Perl6::Junction 1.1   1.60000   
    Regexp::Common  0     2013031301
    Scalar::Util    0     1.41      
    Test::More      0     1.001014  

build_requires:

    Module          Need  Have      
    --------------- ----- ----------
    CGI             3.48  4.14      

configure_requires:

    Module          Need  Have      
    --------------- ----- ----------
    Module::Build   0.38  0.4211    


------------------------------
ENVIRONMENT AND OTHER CONTEXT
------------------------------

Environment variables:

    AUTOMATED_TESTING = 1
    LANG = en_US.utf8
    NONINTERACTIVE_TESTING = 1
    PATH = /usr/lib/qt-3.3/bin:/usr/kerberos/sbin:/usr/kerberos/bin:/usr/lib/ccache:/usr/local/sbin:/usr/sbin:/sbin:/usr/local/bin:/usr/bin:/bin:/usr/lib/firebird/bin:/opt/real/RealPlayer:/root/bin:/usr/lib/firebird/bin:/opt/real/RealPlayer
    PERL5LIB = 
    PERL5OPT = 
    PERL5_CPANPLUS_IS_RUNNING = 9709
    PERL5_CPAN_IS_RUNNING = 9709
    PERL_MM_USE_DEFAULT = 1
    SHELL = /bin/bash
    TERM = xterm

Perl special variables (and OS-specific diagnostics, for MSWin32):

    $^X = /opt/perl492-32-O0-5.14.1/bin/perl
    $UID/$EUID = 0 / 0
    $GID = 0 0 1 2 3 4 6 10
    $EGID = 0 0 1 2 3 4 6 10

Perl module toolchain versions installed:

    Module              Have    
    ------------------- --------
    CPAN                2.10    
    CPAN::Meta          2.150001
    Cwd                 3.47    
    ExtUtils::CBuilder  0.280220
    ExtUtils::Command   1.17    
    ExtUtils::Install   2.04    
    ExtUtils::MakeMaker 7.04    
    ExtUtils::Manifest  1.70    
    ExtUtils::ParseXS   3.24    
    File::Spec          3.47    
    JSON                2.90    
    JSON::PP            2.27300 
    Module::Build       0.4211  
    Module::Signature   0.73    
    Parse::CPAN::Meta   1.4414  
    Test::Harness       3.35    
    Test::More          1.001014
    YAML                1.14    
    YAML::Syck          1.29    
    version             0.9912  


--

Summary of my perl5 (revision 5 version 14 subversion 1) configuration:
   
  Platform:
    osname=linux, osvers=2.6.32.63, archname=i686-linux-thread-multi-64int-ld
    uname='linux localhost.localdomain 2.6.32.63 #2 smp fri jan 30 10:45:01 pst 2015 i686 i686 i386 gnulinux '
    config_args='-Dcc=/opt/492/bin/gcc -Dprefix=/opt/perl492-32-O0-5.14.1 -DDEBUGGING'
    hint=recommended, useposix=true, d_sigaction=define
    useithreads=define, usemultiplicity=define
    useperlio=define, d_sfio=undef, uselargefiles=define, usesocks=undef
    use64bitint=define, use64bitall=undef, uselongdouble=define
    usemymalloc=y, bincompat5005=undef
  Compiler:
    cc='/opt/492/bin/gcc', ccflags ='-D_REENTRANT -D_GNU_SOURCE -DDEBUGGING -fno-strict-aliasing -pipe -fstack-protector -I/usr/local/include -D_LARGEFILE_SOURCE -D_FILE_OFFSET_BITS=64',
    optimize='-O0 -g',
    cppflags='-D_REENTRANT -D_GNU_SOURCE -DDEBUGGING -fno-strict-aliasing -pipe -fstack-protector -I/usr/local/include'
    ccversion='', gccversion='4.9.2', gccosandvers=''
    intsize=4, longsize=4, ptrsize=4, doublesize=8, byteorder=12345678
    d_longlong=define, longlongsize=8, d_longdbl=define, longdblsize=12
    ivtype='long long', ivsize=8, nvtype='long double', nvsize=12, Off_t='off_t', lseeksize=8
    alignbytes=4, prototype=define
  Linker and Libraries:
    ld='/opt/492/bin/gcc', ldflags =' -fstack-protector -L/usr/local/lib'
    libpth=/usr/local/lib /lib /usr/lib
    libs=-lnsl -lgdbm -ldb -ldl -lm -lcrypt -lutil -lpthread -lc
    perllibs=-lnsl -ldl -lm -lcrypt -lutil -lpthread -lc
    libc=/lib/libc-2.8.so, so=so, useshrplib=true, libperl=libperl.so
    gnulibc_version='2.8'
  Dynamic Linking:
    dlsrc=dl_dlopen.xs, dlext=so, d_dlsymun=undef, ccdlflags='-Wl,-E -Wl,-rpath,/opt/perl492-32-O0-5.14.1/lib/5.14.1/i686-linux-thread-multi-64int-ld/CORE'
    cccdlflags='-fPIC', lddlflags='-shared -O0 -g -L/usr/local/lib -fstack-protector'


Characteristics of this binary (from libperl): 
  Compile-time options: DEBUGGING MULTIPLICITY MYMALLOC PERL_DONT_CREATE_GVSV
                        PERL_IMPLICIT_CONTEXT PERL_MAD PERL_MALLOC_WRAP
                        PERL_PRESERVE_IVUV PERL_TRACK_MEMPOOL USE_64_BIT_INT
                        USE_FAST_STDIO USE_ITHREADS USE_LARGE_FILES
                        USE_LONG_DOUBLE USE_PERLIO USE_PERL_ATOF
                        USE_REENTRANT_API
  Built under linux
  Compiled at Mar 22 2015 09:29:55
  %ENV:
    PERL5LIB=""
    PERL5OPT=""
    PERL5_CPANPLUS_IS_RUNNING="9709"
    PERL5_CPAN_IS_RUNNING="9709"
    PERL_MM_USE_DEFAULT="1"
  @INC:
    /opt/perl492-32-O0-5.14.1/lib/site_perl/5.14.1/i686-linux-thread-multi-64int-ld
    /opt/perl492-32-O0-5.14.1/lib/site_perl/5.14.1
    /opt/perl492-32-O0-5.14.1/lib/5.14.1/i686-linux-thread-multi-64int-ld
    /opt/perl492-32-O0-5.14.1/lib/5.14.1
    .