Perl-Critic v1.156 Perl 5 v5.24.4 x86_64-linux-ld
- Status
- Pass
- From
- Slaven Rezić
- Dist
-
Perl-Critic v1.156
- Platform
- Perl 5 v5.24.4 x86_64-linux-ld
- Date
- 2025-02-09 20:22:08
- ID
- 892a7bca-e723-11ef-a64e-c1036e8775ea
This distribution has been tested as part of the CPAN Testers
project, supporting the Perl programming language. See
http://wiki.cpantesters.org/ for more information or email
questions to cpan-testers-discuss@perl.org
--
Dear Andy Lester,
This is a computer-generated report for Perl-Critic-1.156
on perl 5.24.4, created by CPAN-Reporter-1.2020.
Thank you for uploading your work to CPAN. Congratulations!
All tests were successful.
Sections of this report:
* Tester comments
* Program output
* Prerequisites
* Environment and other context
------------------------------
TESTER COMMENTS
------------------------------
Additional comments from tester:
none provided
------------------------------
PROGRAM OUTPUT
------------------------------
Output from './Build test':
# Testing Perl::Critic 1.156 with PPI 1.281 under Perl 5.024004, /opt/perl-5.24.4D/bin/perl
t/00_modules.t ................................ ok
t/00_versions.t ............................... ok
t/01_config.t ................................. ok
t/01_config_bad_perlcriticrc.t ................ ok
t/01_policy_config.t .......................... ok
t/02_policy.t ................................. ok
t/03_annotations.t ............................ ok
t/03_pragmas.t ................................ ok
t/04_options_processor.t ...................... ok
t/05_utils.t .................................. ok
t/05_utils_perl.t ............................. ok
t/05_utils_pod.t .............................. ok
t/05_utils_ppi.t .............................. ok
t/06_violation.t .............................. ok
t/07_command.t ................................ ok
t/07_perlcritic.t ............................. ok
t/08_document.t ............................... ok
t/09_theme.t .................................. ok
t/10_user_profile.t ........................... ok
t/11_policy_factory.t ......................... ok
t/12_policy_listing.t ......................... ok
t/12_theme_listing.t .......................... ok
t/13_bundled_policies.t ....................... ok
t/14_policy_parameter_behavior_boolean.t ...... ok
t/14_policy_parameter_behavior_enumeration.t .. ok
t/14_policy_parameter_behavior_integer.t ...... ok
t/14_policy_parameter_behavior_list_string.t .. ok
t/14_policy_parameter_behavior_string.t ....... ok
t/14_policy_parameters.t ...................... ok
t/15_statistics.t ............................. ok
t/16_roundtrip_defaults.t ..................... ok
t/20_policies.t ............................... skipped: Test::Perl::Critic required to test Perl::Critic itself
t/20_policy_pod_spelling.t .................... ok
t/20_policy_prohibit_evil_modules.t ........... ok
t/20_policy_prohibit_hard_tabs.t .............. ok
t/20_policy_prohibit_trailing_whitespace.t .... ok
t/20_policy_require_consistent_newlines.t ..... ok
t/20_policy_require_tidy_code.t ............... ok
Unhandled type: REGEXP at /opt/perl-5.24.4D/lib/site_perl/5.24.4/Devel/Cycle.pm line 107.
t/92_memory_leaks.t ........................... ok
t/gh-734.t .................................... ok
All tests successful.
Files=40, Tests=5424, 30 wallclock secs ( 0.38 usr 0.11 sys + 26.42 cusr 3.88 csys = 30.79 CPU)
Result: PASS
------------------------------
PREREQUISITES
------------------------------
Prerequisite modules loaded:
requires:
Module Need Have
------------------------- -------- --------
B::Keywords 1.23 1.27
Carp 0 1.50
charnames 0 1.43
Config::Tiny 2 2.30
English 0 1.10
Exception::Class 1.23 1.45
Exporter 5.63 5.78
File::Basename 0 2.85
File::Find 0 1.34
File::Path 0 2.18
File::Spec 0 3.75
File::Spec::Unix 0 3.75
File::Temp 0 0.2311
File::Which 0 1.27
Getopt::Long 0 2.58
List::SomeUtils 0.55 0.59
List::Util 0 1.68
Module::Pluggable 3.1 6.3
overload 0 1.26
parent 0 0.234
perl 5.010001 5.024004
Perl::Tidy 0 20250105
Pod::PlainText 0 2.07
Pod::Select 0 1.63
Pod::Spell 1 1.27
Pod::Usage 0 1.68
PPI 1.277 1.281
PPI::Document 1.277 1.281
PPI::Document::File 1.277 1.281
PPI::Node 1.277 1.281
PPI::Token::Quote::Single 1.277 1.281
PPI::Token::Whitespace 1.277 1.281
PPIx::QuoteLike 0 0.023
PPIx::Regexp 0.027 0.088
PPIx::Regexp::Util 0.068 0.088
PPIx::Utils::Traversal 0.003 0.003
Readonly 2 2.05
Scalar::Util 0 1.68
strict 0 1.11
String::Format 1.18 1.18
Term::ANSIColor 2.02 5.01
Test::Builder 0.92 1.302209
Text::ParseWords 3 3.30
version 0.77 0.9916
warnings 0 1.36
build_requires:
Module Need Have
------------------------- -------- --------
lib 0 0.63
Test::More 0 1.302209
configure_requires:
Module Need Have
------------------------- -------- --------
B::Keywords 1.23 1.27
base 0 2.23_01
Carp 0 1.50
English 0 1.10
Exporter 5.63 5.78
lib 0 0.63
List::SomeUtils 0.55 0.59
Module::Build 0.4204 0.4234
------------------------------
ENVIRONMENT AND OTHER CONTEXT
------------------------------
Environment variables:
LANG = en_US.UTF-8
PATH = /usr/local/bin:/usr/bin:/bin:/usr/local/sbin:/usr/sbin:/sbin:/home/cpansand/bin/linux-gnu:/home/cpansand/bin/sh:/home/cpansand/bin:/usr/games:/home/cpansand/devel:/home/eserte/src/srezic-misc/scripts
PERL5LIB = /home/cpansand/.cpan/build/2025020919/Perl-Tidy-20250105-Yex7vO/blib/arch:/home/cpansand/.cpan/build/2025020919/Perl-Tidy-20250105-Yex7vO/blib/lib:/home/cpansand/.cpan/build/2025020919/String-Format-1.18-qruzPX/blib/arch:/home/cpansand/.cpan/build/2025020919/String-Format-1.18-qruzPX/blib/lib:/home/cpansand/.cpan/build/2025020919/PPIx-QuoteLike-0.023-kPEokx/blib/arch:/home/cpansand/.cpan/build/2025020919/PPIx-QuoteLike-0.023-kPEokx/blib/lib
PERL5OPT =
PERL5_CPANPLUS_IS_RUNNING = 4091459
PERL5_CPAN_IS_RUNNING = 4091459
PERL5_CPAN_IS_RUNNING_IN_RECURSION = 4089489,4091459
PERLDOC = -MPod::Perldoc::ToTextOverstrike
PERL_BATCH = yes
PERL_CANARY_STABILITY_NOPROMPT = 1
PERL_CPAN_REPORTER_CONFIG = /var/tmp/cpansmoker-1023/2025020919/cpanreporter_000_config.ini
PERL_EXTUTILS_AUTOINSTALL = --defaultdeps
SHELL = /usr/bin/zsh
TERM = screen
TMPDIR = /var/tmp/cpansmoker-1023/2025020919
Perl special variables (and OS-specific diagnostics, for MSWin32):
$^X = /opt/perl-5.24.4D/bin/perl
$UID/$EUID = 1023 / 1023
$GID = 1023 1023
$EGID = 1023 1023
Perl module toolchain versions installed:
Module Have
------------------- --------
CPAN 2.11_01
CPAN::Meta 2.150010
Cwd 3.75
ExtUtils::CBuilder 0.280236
ExtUtils::Command 7.70
ExtUtils::Install 2.06
ExtUtils::MakeMaker 7.70
ExtUtils::Manifest 1.70
ExtUtils::ParseXS 3.31
File::Spec 3.75
JSON 4.10
JSON::PP 4.16
Module::Build 0.4234
Module::Signature n/a
Parse::CPAN::Meta 2.150010
Test2 1.302209
Test::Harness 3.36_01
Test::More 1.302209
YAML 1.31
YAML::Syck 1.34
version 0.9916
--
Summary of my perl5 (revision 5 version 24 subversion 4) configuration:
Platform:
osname=linux, osvers=5.14.0-503.22.1.el9_5.x86_64, archname=x86_64-linux-ld
uname='linux cloud1.bbbike.org 5.14.0-503.22.1.el9_5.x86_64 #1 smp preempt_dynamic wed jan 22 13:59:07 utc 2025 x86_64 x86_64 x86_64 gnulinux '
config_args='-ds -e -Dprefix=/opt/perl-5.24.4D -Uinstallusrbinperl -Duselongdouble -Dcf_email=srezic@cpan.org'
hint=recommended, useposix=true, d_sigaction=define
useithreads=undef, usemultiplicity=undef
use64bitint=define, use64bitall=define, uselongdouble=define
usemymalloc=n, bincompat5005=undef
Compiler:
cc='cc', ccflags ='-fwrapv -fno-strict-aliasing -pipe -fstack-protector-strong -I/usr/local/include -D_LARGEFILE_SOURCE -D_FILE_OFFSET_BITS=64 -D_FORTIFY_SOURCE=2',
optimize='-O2',
cppflags='-fwrapv -fno-strict-aliasing -pipe -fstack-protector-strong -I/usr/local/include'
ccversion='', gccversion='11.5.0 20240719 (Red Hat 11.5.0-2)', gccosandvers=''
intsize=4, longsize=8, ptrsize=8, doublesize=8, byteorder=12345678, doublekind=3
d_longlong=define, longlongsize=8, d_longdbl=define, longdblsize=16, longdblkind=3
ivtype='long', ivsize=8, nvtype='long double', nvsize=16, Off_t='off_t', lseeksize=8
alignbytes=16, prototype=define
Linker and Libraries:
ld='cc', ldflags =' -fstack-protector-strong -L/usr/local/lib'
libpth=/usr/local/lib /usr/lib /lib/../lib64 /usr/lib/../lib64 /lib /lib64 /usr/lib64 /usr/local/lib64
libs=-lpthread -ldb -ldl -lm -lcrypt -lutil -lc
perllibs=-lpthread -ldl -lm -lcrypt -lutil -lc
libc=/lib/../lib64/libc.so.6, so=so, useshrplib=false, libperl=libperl.a
gnulibc_version='2.34'
Dynamic Linking:
dlsrc=dl_dlopen.xs, dlext=so, d_dlsymun=undef, ccdlflags='-Wl,-E'
cccdlflags='-fPIC', lddlflags='-shared -O2 -L/usr/local/lib -fstack-protector-strong'
Characteristics of this binary (from libperl):
Compile-time options: HAS_TIMES PERLIO_LAYERS PERL_COPY_ON_WRITE
PERL_DONT_CREATE_GVSV
PERL_HASH_FUNC_ONE_AT_A_TIME_HARD PERL_MALLOC_WRAP
PERL_PRESERVE_IVUV USE_64_BIT_ALL USE_64_BIT_INT
USE_LARGE_FILES USE_LOCALE USE_LOCALE_COLLATE
USE_LOCALE_CTYPE USE_LOCALE_NUMERIC USE_LOCALE_TIME
USE_LONG_DOUBLE USE_PERLIO USE_PERL_ATOF
Locally applied patches:
Devel::PatchPerl 2.08
Built under linux
Compiled at Feb 1 2025 22:13:56
%ENV:
PERL5LIB="/home/cpansand/.cpan/build/2025020919/Perl-Tidy-20250105-Yex7vO/blib/arch:/home/cpansand/.cpan/build/2025020919/Perl-Tidy-20250105-Yex7vO/blib/lib:/home/cpansand/.cpan/build/2025020919/String-Format-1.18-qruzPX/blib/arch:/home/cpansand/.cpan/build/2025020919/String-Format-1.18-qruzPX/blib/lib:/home/cpansand/.cpan/build/2025020919/PPIx-QuoteLike-0.023-kPEokx/blib/arch:/home/cpansand/.cpan/build/2025020919/PPIx-QuoteLike-0.023-kPEokx/blib/lib"
PERL5OPT=""
PERL5_CPANPLUS_IS_RUNNING="4091459"
PERL5_CPAN_IS_RUNNING="4091459"
PERL5_CPAN_IS_RUNNING_IN_RECURSION="4089489,4091459"
PERLDOC="-MPod::Perldoc::ToTextOverstrike"
PERL_BATCH="yes"
PERL_CANARY_STABILITY_NOPROMPT="1"
PERL_CPAN_REPORTER_CONFIG="/var/tmp/cpansmoker-1023/2025020919/cpanreporter_000_config.ini"
PERL_EXTUTILS_AUTOINSTALL="--defaultdeps"
@INC:
/home/cpansand/.cpan/build/2025020919/Perl-Tidy-20250105-Yex7vO/blib/arch
/home/cpansand/.cpan/build/2025020919/Perl-Tidy-20250105-Yex7vO/blib/lib
/home/cpansand/.cpan/build/2025020919/String-Format-1.18-qruzPX/blib/arch
/home/cpansand/.cpan/build/2025020919/String-Format-1.18-qruzPX/blib/lib
/home/cpansand/.cpan/build/2025020919/PPIx-QuoteLike-0.023-kPEokx/blib/arch
/home/cpansand/.cpan/build/2025020919/PPIx-QuoteLike-0.023-kPEokx/blib/lib
/opt/perl-5.24.4D/lib/site_perl/5.24.4/x86_64-linux-ld
/opt/perl-5.24.4D/lib/site_perl/5.24.4
/opt/perl-5.24.4D/lib/5.24.4/x86_64-linux-ld
/opt/perl-5.24.4D/lib/5.24.4
.