Report for Net-SAML2-0.17

Back
From: metabase:user:320bfe00-2aae-11df-837a-5e0a49663a4f
Subject: PASS Net-SAML2-0.17 v5.21.2 GNU/Linux
Date: 2014-06-23T06:42:25Z

This distribution has been tested as part of the CPAN Testers
project, supporting the Perl programming language.  See
http://wiki.cpantesters.org/ for more information or email
questions to cpan-testers-discuss@perl.org


--
Dear Chris Andrews,

This is a computer-generated report for Net-SAML2-0.17
on perl 5.21.2, created by CPAN-Reporter-1.2011.

Thank you for uploading your work to CPAN.  Congratulations!
All tests were successful.

Sections of this report:

    * Tester comments
    * Program output
    * Prerequisites
    * Environment and other context

------------------------------
TESTER COMMENTS
------------------------------

Additional comments from tester:

this report is from an automated smoke testing program
and was not reviewed by a human for accuracy

------------------------------
PROGRAM OUTPUT
------------------------------

Output from '/usr/bin/make test':

make[1]: Entering directory '/tmp/loop_over_bdir-9844-sHoOyf/Net-SAML2-0.17-gQ8CAx/testapp'
make[1]: Leaving directory '/tmp/loop_over_bdir-9844-sHoOyf/Net-SAML2-0.17-gQ8CAx/testapp'
PERL_DL_NONLAZY=1 /tmp/basesmoker-reloperl-0k0T/bin/perl "-MExtUtils::Command::MM" "-MTest::Harness" "-e" "undef *Test::Harness::Switches; test_harness(0, 'inc', 'blib/lib', 'blib/arch')" t/*.t
t/00-basic.t ............. ok
t/01-create-idp.t ........ ok
t/02-create-sp.t ......... ok
t/03-assertions.t ........ ok
t/04-response.t .......... ok
t/05-soap-binding.t ...... ok
t/06-redirect-binding.t .. ok
t/07-logout-request.t .... ok
t/08-logout-response.t ... ok
t/09-authn-request.t ..... ok
t/10-artifact-resolve.t .. ok
t/11-more-metadata.t ..... ok
All tests successful.
Files=12, Tests=80,  8 wallclock secs ( 0.04 usr  0.02 sys +  7.20 cusr  0.40 csys =  7.66 CPU)
Result: PASS
make[1]: Entering directory '/tmp/loop_over_bdir-9844-sHoOyf/Net-SAML2-0.17-gQ8CAx/testapp'
PERL_DL_NONLAZY=1 /tmp/basesmoker-reloperl-0k0T/bin/perl "-MExtUtils::Command::MM" "-MTest::Harness" "-e" "undef *Test::Harness::Switches; test_harness(0, '../blib/lib', '../blib/arch')" t/*.t
t/001_base.t ......... ok
t/002_index_route.t .. ok
All tests successful.
Files=2, Tests=4,  1 wallclock secs ( 0.02 usr  0.00 sys +  1.27 cusr  0.07 csys =  1.36 CPU)
Result: PASS
make[1]: Leaving directory '/tmp/loop_over_bdir-9844-sHoOyf/Net-SAML2-0.17-gQ8CAx/testapp'

------------------------------
PREREQUISITES
------------------------------

Prerequisite modules loaded:

requires:

    Module                     Need     Have    
    -------------------------- -------- --------
    Class::Accessor            0        0.34    
    Crypt::OpenSSL::Bignum     0        0.04    
    Crypt::OpenSSL::DSA        0        0.14    
    Crypt::OpenSSL::Random     0        0.04    
    Crypt::OpenSSL::RSA        0        0.28    
    Crypt::OpenSSL::VerifyX509 0        0.10    
    Crypt::OpenSSL::X509       0        1.804   
    DateTime::Format::XSD      0        0.2     
    Digest::SHA1               0        2.13    
    File::Slurp                0        9999.19 
    IO::Compress::RawDeflate   0        2.064   
    IO::Uncompress::RawInflate 0        2.064   
    LWP::UserAgent             0        6.06    
    MIME::Base64               0        3.14    
    Moose                      0        2.1209  
    MooseX::Types              0        0.44    
    MooseX::Types::Common      0        0.001012
    MooseX::Types::DateTime    0        0.10    
    MooseX::Types::URI         0        0.05    
    perl                       5.008001 5.021002
    URI                        0        1.60    
    XML::CanonicalizeXML       0        0.05    
    XML::Generator             0        1.04    
    XML::XPath                 0        1.13    

build_requires:

    Module                     Need     Have    
    -------------------------- -------- --------
    Dancer                     1.2000   1.3124  
    ExtUtils::MakeMaker        6.98     6.98    
    Test::More                 0.88     1.001003
    WWW::Mechanize             1.66     1.73    
    YAML                       0        0.95    

configure_requires:

    Module                     Need     Have    
    -------------------------- -------- --------
    ExtUtils::MakeMaker        6.56     6.98    


------------------------------
ENVIRONMENT AND OTHER CONTEXT
------------------------------

Environment variables:

    AUTOMATED_TESTING = 1
    LANG = en_US.UTF-8
    LANGUAGE = en_US:en
    PATH = /usr/lib/ccache:/home/sand/bin:/usr/local/bin:/usr/bin:/bin:/usr/games:/usr/local/perl/bin:/usr/X11/bin:/sbin:/usr/sbin
    PERL5LIB = 
    PERL5OPT = 
    PERL5_CPANPLUS_IS_RUNNING = 19451
    PERL5_CPAN_IS_RUNNING = 19451
    PERL_MM_USE_DEFAULT = 1
    SHELL = /usr/bin/zsh
    TERM = screen

Perl special variables (and OS-specific diagnostics, for MSWin32):

    $^X = /tmp/basesmoker-reloperl-0k0T/bin/perl
    $UID/$EUID = 1005 / 1005
    $GID = 1005 1005
    $EGID = 1005 1005

Perl module toolchain versions installed:

    Module              Have    
    ------------------- --------
    CPAN                2.05    
    CPAN::Meta          2.141520
    Cwd                 3.48    
    ExtUtils::CBuilder  0.280216
    ExtUtils::Command   1.18    
    ExtUtils::Install   1.68    
    ExtUtils::MakeMaker 6.98    
    ExtUtils::Manifest  1.63    
    ExtUtils::ParseXS   3.25    
    File::Spec          3.48    
    JSON                2.90    
    JSON::PP            2.27203 
    Module::Build       0.4205  
    Module::Signature   0.73    
    Parse::CPAN::Meta   1.4414  
    Test::Harness       3.32    
    Test::More          1.001003
    YAML                0.95    
    YAML::Syck          1.27    
    version             0.9908  


--

Summary of my perl5 (revision 5 version 21 subversion 2) configuration:
  Commit id: f049db42ef969d7e9f6b8a1414143e9e0dfdbd62
  Platform:
    osname=linux, osvers=3.14-1-amd64, archname=x86_64-linux-ld
    uname='linux k83 3.14-1-amd64 #1 smp debian 3.14.5-1 (2014-06-05) x86_64 gnulinux '
    config_args='-Dprefix=/home/sand/src/perl/repoperls/installed-perls/perl/v5.21.1-21-gf049db4/127e -Dmyhostname=k83 -Dinstallusrbinperl=n -Uversiononly -Dusedevel -des -Ui_db -Uuseithreads -Duselongdouble -DDEBUGGING=-g'
    hint=recommended, useposix=true, d_sigaction=define
    useithreads=undef, usemultiplicity=undef
    use64bitint=define, use64bitall=define, uselongdouble=define
    usemymalloc=n, bincompat5005=undef
  Compiler:
    cc='cc', ccflags ='-fwrapv -fno-strict-aliasing -pipe -fstack-protector -I/usr/local/include -D_LARGEFILE_SOURCE -D_FILE_OFFSET_BITS=64',
    optimize='-O2 -g',
    cppflags='-fwrapv -fno-strict-aliasing -pipe -fstack-protector -I/usr/local/include'
    ccversion='', gccversion='4.8.3', gccosandvers=''
    intsize=4, longsize=8, ptrsize=8, doublesize=8, byteorder=12345678
    d_longlong=define, longlongsize=8, d_longdbl=define, longdblsize=16
    ivtype='long', ivsize=8, nvtype='long double', nvsize=16, Off_t='off_t', lseeksize=8
    alignbytes=16, prototype=define
  Linker and Libraries:
    ld='cc', ldflags =' -fstack-protector -L/usr/local/lib'
    libpth=/usr/local/lib /usr/lib/gcc/x86_64-linux-gnu/4.8/include-fixed /usr/include/x86_64-linux-gnu /usr/lib /lib/x86_64-linux-gnu /lib/../lib /usr/lib/x86_64-linux-gnu /usr/lib/../lib /lib
    libs=-lnsl -lgdbm -ldb -ldl -lm -lcrypt -lutil -lc -lgdbm_compat
    perllibs=-lnsl -ldl -lm -lcrypt -lutil -lc
    libc=libc-2.19.so, so=so, useshrplib=false, libperl=libperl.a
    gnulibc_version='2.19'
  Dynamic Linking:
    dlsrc=dl_dlopen.xs, dlext=so, d_dlsymun=undef, ccdlflags='-Wl,-E'
    cccdlflags='-fPIC', lddlflags='-shared -O2 -g -L/usr/local/lib -fstack-protector'


Characteristics of this binary (from libperl): 
  Compile-time options: HAS_TIMES PERLIO_LAYERS PERL_DONT_CREATE_GVSV
                        PERL_HASH_FUNC_ONE_AT_A_TIME_HARD PERL_MALLOC_WRAP
                        PERL_NEW_COPY_ON_WRITE PERL_PRESERVE_IVUV
                        PERL_USE_DEVEL USE_64_BIT_ALL USE_64_BIT_INT
                        USE_LARGE_FILES USE_LOCALE USE_LOCALE_COLLATE
                        USE_LOCALE_CTYPE USE_LOCALE_NUMERIC USE_LONG_DOUBLE
                        USE_PERLIO USE_PERL_ATOF
  Built under linux
  Compiled at Jun 22 2014 14:26:04
  %ENV:
    PERL5LIB=""
    PERL5OPT=""
    PERL5_CPANPLUS_IS_RUNNING="19451"
    PERL5_CPAN_IS_RUNNING="19451"
    PERL_MM_USE_DEFAULT="1"
  @INC:
    /home/sand/src/perl/repoperls/installed-perls/perl/v5.21.1-21-gf049db4/127e/lib/site_perl/5.21.2/x86_64-linux-ld
    /home/sand/src/perl/repoperls/installed-perls/perl/v5.21.1-21-gf049db4/127e/lib/site_perl/5.21.2
    /home/sand/src/perl/repoperls/installed-perls/perl/v5.21.1-21-gf049db4/127e/lib/5.21.2/x86_64-linux-ld
    /home/sand/src/perl/repoperls/installed-perls/perl/v5.21.1-21-gf049db4/127e/lib/5.21.2
    .