Report for Color-Calc-DEPRECATED-1.070

Back
From: metabase:user:c67a24a6-bd9b-11df-8cde-36a50c2f696f
Subject: PASS Color-Calc-DEPRECATED-1.070 v5.8.8 GNU/Linux
Date: 2010-10-30T10:57:50Z

This distribution has been tested as part of the CPAN Testers
project, supporting the Perl programming language.  See
http://wiki.cpantesters.org/ for more information or email
questions to cpan-testers-discuss@perl.org


--
Dear Claus Faerber,

This is a computer-generated report for Color-Calc-DEPRECATED-1.070
on perl 5.8.8, created by CPAN-Reporter-1.1801.

Thank you for uploading your work to CPAN.  Congratulations!
All tests were successful.

Sections of this report:

    * Tester comments
    * Program output
    * Prerequisites
    * Environment and other context

------------------------------
TESTER COMMENTS
------------------------------

Additional comments from tester:

none provided

------------------------------
PROGRAM OUTPUT
------------------------------

Output from './Build test':

t/DEPRECATED_import_hex.t ..... ok
t/DEPRECATED_import_html.t .... ok
t/DEPRECATED_import_object.t .. ok
t/DEPRECATED_import_tuple.t ... ok
t/DEPRECATED_non-import.t ..... ok
All tests successful.
Files=5, Tests=106,  1 wallclock secs ( 0.02 usr  0.04 sys +  0.26 cusr  0.04 csys =  0.36 CPU)
Result: PASS

------------------------------
PREREQUISITES
------------------------------

Prerequisite modules loaded:

requires:

    Module        Need  Have    
    ------------- ----- --------
  ! Color::Calc   1.07  1.061   
    perl          5.006 5.008008

configure_requires:

    Module        Need  Have    
    ------------- ----- --------
    Module::Build 0.36  0.3607  


------------------------------
ENVIRONMENT AND OTHER CONTEXT
------------------------------

Environment variables:

    LANG = en_GB.UTF-8
    PATH = /usr/kerberos/sbin:/usr/kerberos/bin:/usr/local/sbin:/usr/local/bin:/sbin:/bin:/usr/sbin:/usr/bin:/usr/X11R6/bin:/usr/NX/bin:/root/bin
    PERL5LIB = 
    PERL5OPT = 
    PERL5_CPANPLUS_IS_RUNNING = 1100
    PERL5_CPAN_IS_RUNNING = 1100
    SHELL = /bin/bash
    TERM = xterm

Perl special variables (and OS-specific diagnostics, for MSWin32):

    $^X = /workinghost1/Local/Ix86/Linux/Perl5.8/bin/perl
    $UID/$EUID = 0 / 0
    $GID = 0 10 6 4 3 2 1 0
    $EGID = 0 10 6 4 3 2 1 0

Perl module toolchain versions installed:

    Module              Have  
    ------------------- ------
    CPAN                1.9402
    Cwd                 3.33  
    ExtUtils::CBuilder  0.2703
    ExtUtils::Command   1.16  
    ExtUtils::Install   1.54  
    ExtUtils::MakeMaker 6.56  
    ExtUtils::Manifest  1.58  
    ExtUtils::ParseXS   2.2206
    File::Spec          3.33  
    Module::Build       0.3607
    Module::Signature   0.64  
    Test::Harness       3.22  
    Test::More          0.96  
    YAML                0.72  
    YAML::Syck          n/a   
    version             0.82  


--

Summary of my perl5 (revision 5 version 8 subversion 8) configuration:
  Platform:
    osname=linux, osvers=2.4.21-47.0.1.elsmp, archname=i686-linux
    uname='linux transtec2 2.4.21-47.0.1.elsmp #1 smp fri oct 13 17:56:20 edt 2006 i686 athlon i386 gnulinux '
    config_args=''
    hint=recommended, useposix=true, d_sigaction=define
    usethreads=undef use5005threads=undef useithreads=undef usemultiplicity=undef
    useperlio=define d_sfio=undef uselargefiles=define usesocks=undef
    use64bitint=undef use64bitall=undef uselongdouble=undef
    usemymalloc=n, bincompat5005=undef
  Compiler:
    cc='cc', ccflags ='-fno-strict-aliasing -pipe -Wdeclaration-after-statement -D_LARGEFILE_SOURCE -D_FILE_OFFSET_BITS=64 -I/usr/include/gdbm',
    optimize='-O2',
    cppflags='-fno-strict-aliasing -pipe -Wdeclaration-after-statement -I/usr/include/gdbm'
    ccversion='', gccversion='3.2.3 20030502 (Red Hat Linux 3.2.3-58)', gccosandvers=''
    intsize=4, longsize=4, ptrsize=4, doublesize=8, byteorder=1234
    d_longlong=define, longlongsize=8, d_longdbl=define, longdblsize=12
    ivtype='long', ivsize=4, nvtype='double', nvsize=8, Off_t='off_t', lseeksize=8
    alignbytes=4, prototype=define
  Linker and Libraries:
    ld='cc', ldflags =''
    libpth=/lib /usr/lib
    libs=-lnsl -lgdbm -ldb -ldl -lm -lcrypt -lutil -lc
    perllibs=-lnsl -ldl -lm -lcrypt -lutil -lc
    libc=/lib/libc-2.3.2.so, so=so, useshrplib=false, libperl=libperl.a
    gnulibc_version='2.3.2'
  Dynamic Linking:
    dlsrc=dl_dlopen.xs, dlext=so, d_dlsymun=undef, ccdlflags='-Wl,-E'
    cccdlflags='-fpic', lddlflags='-shared'


Characteristics of this binary (from libperl): 
  Compile-time options: PERL_MALLOC_WRAP USE_LARGE_FILES USE_PERLIO
  Built under linux
  Compiled at May 26 2007 13:03:01
  %ENV:
    PERL5LIB=""
    PERL5OPT=""
    PERL5_CPANPLUS_IS_RUNNING="1100"
    PERL5_CPAN_IS_RUNNING="1100"
  @INC:
    /Local/Ix86/Linux/Perl/lib/perl5/5.8.8/i686-linux
    /Local/Ix86/Linux/Perl/lib/perl5/5.8.8
    /Local/Ix86/Linux/Perl/lib/perl5/site_perl/5.8.8/i686-linux
    /Local/Ix86/Linux/Perl/lib/perl5/site_perl/5.8.8
    /Local/Ix86/Linux/Perl/lib/perl5/site_perl
    .