Net-SAML2 v0.72-TRIAL Perl 5 v5.22.2 x86_64-linux

Status
Pass
From
Slaven Rezić
Dist
Net-SAML2 v0.72-TRIAL
Platform
Perl 5 v5.22.2 x86_64-linux
Date
2023-07-08 01:55:38
ID
898bef70-1d32-11ee-bc2d-e3226e8775ea
This distribution has been tested as part of the CPAN Testers
project, supporting the Perl programming language.  See
http://wiki.cpantesters.org/ for more information or email
questions to cpan-testers-discuss@perl.org


--
Dear Timothy Legge,

This is a computer-generated report for Net-SAML2-0.72-TRIAL
on perl 5.22.2, created by CPAN-Reporter-1.2018.

Thank you for uploading your work to CPAN.  Congratulations!
All tests were successful.

Sections of this report:

    * Tester comments
    * Program output
    * Prerequisites
    * Environment and other context

------------------------------
TESTER COMMENTS
------------------------------

Additional comments from tester:

none provided

------------------------------
PROGRAM OUTPUT
------------------------------

Output from '/usr/bin/make test':

PERL_DL_NONLAZY=1 "/opt/perl-5.22.2/bin/perl" "-MExtUtils::Command::MM" "-MTest::Harness" "-e" "undef *Test::Harness::Switches; test_harness(0, 'blib/lib', 'blib/arch')" t/*.t t/author/*.t
t/00-basic.t ...................................... ok
t/01-create-idp.t ................................. ok
t/02-create-sp.t .................................. ok
t/03-assertions.t ................................. ok
t/04-response.t ................................... ok
not verified by x509
t/05-soap-binding.t ............................... ok
t/06-redirect-binding.t ........................... ok
t/07-logout-request.t ............................. ok
t/08-logout-response.t ............................ ok
t/09-authn-request.t .............................. ok
t/10-artifact-resolve.t ........................... ok
t/11-more-metadata.t .............................. ok
t/12-full-client.t ................................ ok
t/13-verify-issues.t .............................. ok
t/15-evil-nameid-and-email-assertion.t ............ ok
t/16-encrypted-assertion.t ........................ ok
t/17-lowercase-url-escaping.t ..................... ok
t/18-metadata-multiple-signing.t .................. ok
t/19-metadata-multiple-signing.t .................. ok
t/20-path-only-redirect.t ......................... ok
t/21-artifact-response.t .......................... ok
t/22-types.t ...................................... ok
t/23-post-binding.t ............................... ok
t/24-assertion-with-encrypted-attribute-values.t .. ok
t/25-verify-authn-post-sign_xml.t ................. ok
t/author-critic.t ................................. skipped: these tests are for testing by the author
t/author-eof.t .................................... skipped: these tests are for testing by the author
t/author-eol.t .................................... skipped: these tests are for testing by the author
t/author-no-tabs.t ................................ skipped: these tests are for testing by the author
t/author-pod-coverage.t ........................... skipped: these tests are for testing by the author
t/author-pod-syntax.t ............................. skipped: these tests are for testing by the author
t/author/01-confirm-schema.t ...................... skipped: Author test skipped
t/author/notabs.t ................................. ok
t/author/pod.t .................................... ok
t/author/podcoverage.t ............................ skipped: these tests are for testing by the author
All tests successful.
Files=35, Tests=473, 12 wallclock secs ( 0.06 usr  0.03 sys + 10.27 cusr  1.07 csys = 11.43 CPU)
Result: PASS

------------------------------
PREREQUISITES
------------------------------

Prerequisite modules loaded:

requires:

    Module                        Need  Have    
    ----------------------------- ----- --------
    base                          0     2.22    
    Carp                          0     1.38    
    Crypt::OpenSSL::Bignum        0     0.06    
    Crypt::OpenSSL::Random        0     0.11    
    Crypt::OpenSSL::RSA           0     0.28    
    Crypt::OpenSSL::Verify        0     0.36    
    Crypt::OpenSSL::X509          0     1.807   
    DateTime                      0     1.36    
    DateTime::Format::XSD         0     0.4     
    DateTime::HiRes               0     0.01    
    Digest::MD5                   0     2.54    
    Exporter                      0     5.72    
    File::Slurper                 0     0.014   
    HTTP::Request::Common         0     6.11    
    IO::Compress::RawDeflate      0     2.068   
    IO::Uncompress::RawInflate    0     2.068   
    List::Util                    0     1.45    
    LWP::Protocol::https          0     6.06    
    LWP::UserAgent                0     6.15    
    MIME::Base64                  0     3.15    
    Moose                         0     2.1805  
    Moose::Role                   0     2.1805  
    MooseX::Types                 0     0.46    
    MooseX::Types::Common::String 0     0.001013
    MooseX::Types::DateTime       0     0.13    
    MooseX::Types::Moose          0     0.46    
    MooseX::Types::URI            0     0.08    
    namespace::autoclean          0     0.28    
    perl                          5.012 5.022002
    strict                        0     1.09    
    Try::Tiny                     0     0.27    
    Types::Serialiser             0     1.0     
    URI                           0     1.71    
    URI::Encode                   0     1.1.1   
    URI::Escape                   0     3.31    
    URI::QueryParam               0     1.71    
    URN::OASIS::SAML2             0.003 0.003   
    vars                          0     1.03    
    warnings                      0     1.34    
    XML::Enc                      0.13  0.13    
    XML::Generator                1.13  1.13    
    XML::LibXML                   0     2.0128  
    XML::LibXML::XPathContext     0     2.0128  
    XML::Sig                      0.64  0.64    

build_requires:

    Module                        Need  Have    
    ----------------------------- ----- --------
    ExtUtils::MakeMaker           0     7.24    
    Import::Into                  0     1.002005
    Path::Tiny                    0     0.096   
    Sub::Override                 0     0.09    
    Test::Deep                    0     1.120   
    Test::Exception               0     0.43    
    Test::Fatal                   0     0.014   
    Test::Lib                     0     0.002   
    Test::Mock::One               0     0.011   
    Test::More                    0     1.302052
    Test::NoTabs                  0     1.4     
    Test::Pod                     1.14  1.51    
    Test::Pod::Coverage           1.04  1.10    
    URI::URL                      0     5.04    
    XML::LibXML::XPathContext     0     2.0128  

configure_requires:

    Module                        Need  Have    
    ----------------------------- ----- --------
    ExtUtils::MakeMaker           0     7.24    


------------------------------
ENVIRONMENT AND OTHER CONTEXT
------------------------------

Environment variables:

    LANG = en_US.UTF-8
    LANGUAGE = en_US:en
    LC_ALL = en_US.UTF-8
    PATH = /usr/local/bin:/usr/bin:/bin:/usr/local/sbin:/usr/sbin:/sbin:/home/cpansand/bin/linux-gnu:/home/cpansand/bin/sh:/home/cpansand/bin:/usr/games:/home/cpansand/devel:/home/eserte/src/srezic-misc/scripts
    PERL5LIB = /home/cpansand/.cpan/build/2023070803/XML-Sig-0.64-1/blib/arch:/home/cpansand/.cpan/build/2023070803/XML-Sig-0.64-1/blib/lib:/home/cpansand/.cpan/build/2023070803/Crypt-OpenSSL-DSA-0.20-1/blib/arch:/home/cpansand/.cpan/build/2023070803/Crypt-OpenSSL-DSA-0.20-1/blib/lib:/home/cpansand/.cpan/build/2023070803/XML-Generator-1.13-1/blib/arch:/home/cpansand/.cpan/build/2023070803/XML-Generator-1.13-1/blib/lib:/home/cpansand/.cpan/build/2023070803/XML-Enc-0.13-1/blib/arch:/home/cpansand/.cpan/build/2023070803/XML-Enc-0.13-1/blib/lib:/home/cpansand/.cpan/build/2023070803/CryptX-0.078-1/blib/arch:/home/cpansand/.cpan/build/2023070803/CryptX-0.078-1/blib/lib:/home/cpansand/.cpan/build/2023070803/URN-OASIS-SAML2-0.003-1/blib/arch:/home/cpansand/.cpan/build/2023070803/URN-OASIS-SAML2-0.003-1/blib/lib:/home/cpansand/.cpan/build/2023070803/Test-Mock-One-0.011-1/blib/arch:/home/cpansand/.cpan/build/2023070803/Test-Mock-One-0.011-1/blib/lib:/home/cpansand/.cpan/build/2023070803/DateTime-Format-XSD-0.4-1/blib/arch:/home/cpansand/.cpan/build/2023070803/DateTime-Format-XSD-0.4-1/blib/lib:/home/cpansand/.cpan/build/2023070803/Crypt-OpenSSL-Verify-0.36-1/blib/arch:/home/cpansand/.cpan/build/2023070803/Crypt-OpenSSL-Verify-0.36-1/blib/lib:/home/cpansand/.cpan/build/2023070803/File-Slurper-0.014-1/blib/arch:/home/cpansand/.cpan/build/2023070803/File-Slurper-0.014-1/blib/lib:/home/cpansand/.cpan/build/2023070803/Crypt-OpenSSL-Guess-0.15-1/blib/arch:/home/cpansand/.cpan/build/2023070803/Crypt-OpenSSL-Guess-0.15-1/blib/lib
    PERL5OPT = 
    PERL5_CPANPLUS_IS_RUNNING = 1604
    PERL5_CPAN_IS_RUNNING = 1604
    PERL5_CPAN_IS_RUNNING_IN_RECURSION = 30537,1604
    PERLDOC = -MPod::Perldoc::ToTextOverstrike
    PERL_BATCH = yes
    PERL_CANARY_STABILITY_NOPROMPT = 1
    PERL_CPAN_REPORTER_CONFIG = /var/tmp/cpansmoker-1023/2023070803/cpanreporter_000_config.ini
    PERL_EXTUTILS_AUTOINSTALL = --defaultdeps
    PERL_USE_UNSAFE_INC = 1
    SHELL = /bin/zsh
    TERM = screen
    TMPDIR = /var/tmp/cpansmoker-1023/2023070803

Perl special variables (and OS-specific diagnostics, for MSWin32):

    $^X = /opt/perl-5.22.2/bin/perl
    $UID/$EUID = 1023 / 1023
    $GID = 1023 1023
    $EGID = 1023 1023

Perl module toolchain versions installed:

    Module              Have    
    ------------------- --------
    CPAN                2.16    
    CPAN::Meta          2.150010
    Cwd                 3.62    
    ExtUtils::CBuilder  0.280221
    ExtUtils::Command   7.24    
    ExtUtils::Install   2.04    
    ExtUtils::MakeMaker 7.24    
    ExtUtils::Manifest  1.70    
    ExtUtils::ParseXS   3.28    
    File::Spec          3.62    
    JSON                2.90    
    JSON::PP            2.27300 
    Module::Build       0.4220  
    Module::Signature   0.81    
    Parse::CPAN::Meta   2.150010
    Test::Harness       3.35    
    Test::More          1.302052
    YAML                1.17    
    YAML::Syck          1.29    
    version             0.9917  


--

Summary of my perl5 (revision 5 version 22 subversion 2) configuration:
   
  Platform:
    osname=linux, osvers=3.2.0-4-amd64, archname=x86_64-linux
    uname='linux cvrsnica-wheezy 3.2.0-4-amd64 #1 smp debian 3.2.54-2 x86_64 gnulinux '
    config_args='-ds -e -Dprefix=/opt/perl-5.22.2 -Dcf_email=srezic@cpan.org'
    hint=recommended, useposix=true, d_sigaction=define
    useithreads=undef, usemultiplicity=undef
    use64bitint=define, use64bitall=define, uselongdouble=undef
    usemymalloc=n, bincompat5005=undef
  Compiler:
    cc='cc', ccflags ='-fwrapv -fno-strict-aliasing -pipe -fstack-protector -I/usr/local/include -D_LARGEFILE_SOURCE -D_FILE_OFFSET_BITS=64 -D_FORTIFY_SOURCE=2',
    optimize='-O2',
    cppflags='-fwrapv -fno-strict-aliasing -pipe -fstack-protector -I/usr/local/include'
    ccversion='', gccversion='4.7.2', gccosandvers=''
    intsize=4, longsize=8, ptrsize=8, doublesize=8, byteorder=12345678, doublekind=3
    d_longlong=define, longlongsize=8, d_longdbl=define, longdblsize=16, longdblkind=3
    ivtype='long', ivsize=8, nvtype='double', nvsize=8, Off_t='off_t', lseeksize=8
    alignbytes=8, prototype=define
  Linker and Libraries:
    ld='cc', ldflags =' -fstack-protector -L/usr/local/lib'
    libpth=/usr/local/lib /usr/lib/gcc/x86_64-linux-gnu/4.7/include-fixed /usr/include/x86_64-linux-gnu /usr/lib /lib/x86_64-linux-gnu /lib/../lib /usr/lib/x86_64-linux-gnu /usr/lib/../lib /lib
    libs=-lpthread -lnsl -ldb -ldl -lm -lcrypt -lutil -lc
    perllibs=-lpthread -lnsl -ldl -lm -lcrypt -lutil -lc
    libc=libc-2.13.so, so=so, useshrplib=false, libperl=libperl.a
    gnulibc_version='2.13'
  Dynamic Linking:
    dlsrc=dl_dlopen.xs, dlext=so, d_dlsymun=undef, ccdlflags='-Wl,-E'
    cccdlflags='-fPIC', lddlflags='-shared -O2 -L/usr/local/lib -fstack-protector'


Characteristics of this binary (from libperl): 
  Compile-time options: HAS_TIMES PERLIO_LAYERS PERL_DONT_CREATE_GVSV
                        PERL_HASH_FUNC_ONE_AT_A_TIME_HARD PERL_MALLOC_WRAP
                        PERL_NEW_COPY_ON_WRITE PERL_PRESERVE_IVUV
                        USE_64_BIT_ALL USE_64_BIT_INT USE_LARGE_FILES
                        USE_LOCALE USE_LOCALE_COLLATE USE_LOCALE_CTYPE
                        USE_LOCALE_NUMERIC USE_LOCALE_TIME USE_PERLIO
                        USE_PERL_ATOF
  Built under linux
  Compiled at May 29 2016 23:41:57
  %ENV:
    PERL5LIB="/home/cpansand/.cpan/build/2023070803/XML-Sig-0.64-1/blib/arch:/home/cpansand/.cpan/build/2023070803/XML-Sig-0.64-1/blib/lib:/home/cpansand/.cpan/build/2023070803/Crypt-OpenSSL-DSA-0.20-1/blib/arch:/home/cpansand/.cpan/build/2023070803/Crypt-OpenSSL-DSA-0.20-1/blib/lib:/home/cpansand/.cpan/build/2023070803/XML-Generator-1.13-1/blib/arch:/home/cpansand/.cpan/build/2023070803/XML-Generator-1.13-1/blib/lib:/home/cpansand/.cpan/build/2023070803/XML-Enc-0.13-1/blib/arch:/home/cpansand/.cpan/build/2023070803/XML-Enc-0.13-1/blib/lib:/home/cpansand/.cpan/build/2023070803/CryptX-0.078-1/blib/arch:/home/cpansand/.cpan/build/2023070803/CryptX-0.078-1/blib/lib:/home/cpansand/.cpan/build/2023070803/URN-OASIS-SAML2-0.003-1/blib/arch:/home/cpansand/.cpan/build/2023070803/URN-OASIS-SAML2-0.003-1/blib/lib:/home/cpansand/.cpan/build/2023070803/Test-Mock-One-0.011-1/blib/arch:/home/cpansand/.cpan/build/2023070803/Test-Mock-One-0.011-1/blib/lib:/home/cpansand/.cpan/build/2023070803/DateTime-Format-XSD-0.4-1/blib/arch:/home/cpansand/.cpan/build/2023070803/DateTime-Format-XSD-0.4-1/blib/lib:/home/cpansand/.cpan/build/2023070803/Crypt-OpenSSL-Verify-0.36-1/blib/arch:/home/cpansand/.cpan/build/2023070803/Crypt-OpenSSL-Verify-0.36-1/blib/lib:/home/cpansand/.cpan/build/2023070803/File-Slurper-0.014-1/blib/arch:/home/cpansand/.cpan/build/2023070803/File-Slurper-0.014-1/blib/lib:/home/cpansand/.cpan/build/2023070803/Crypt-OpenSSL-Guess-0.15-1/blib/arch:/home/cpansand/.cpan/build/2023070803/Crypt-OpenSSL-Guess-0.15-1/blib/lib"
    PERL5OPT=""
    PERL5_CPANPLUS_IS_RUNNING="1604"
    PERL5_CPAN_IS_RUNNING="1604"
    PERL5_CPAN_IS_RUNNING_IN_RECURSION="30537,1604"
    PERLDOC="-MPod::Perldoc::ToTextOverstrike"
    PERL_BATCH="yes"
    PERL_CANARY_STABILITY_NOPROMPT="1"
    PERL_CPAN_REPORTER_CONFIG="/var/tmp/cpansmoker-1023/2023070803/cpanreporter_000_config.ini"
    PERL_EXTUTILS_AUTOINSTALL="--defaultdeps"
    PERL_USE_UNSAFE_INC="1"
  @INC:
    /home/cpansand/.cpan/build/2023070803/XML-Sig-0.64-1/blib/arch
    /home/cpansand/.cpan/build/2023070803/XML-Sig-0.64-1/blib/lib
    /home/cpansand/.cpan/build/2023070803/Crypt-OpenSSL-DSA-0.20-1/blib/arch
    /home/cpansand/.cpan/build/2023070803/Crypt-OpenSSL-DSA-0.20-1/blib/lib
    /home/cpansand/.cpan/build/2023070803/XML-Generator-1.13-1/blib/arch
    /home/cpansand/.cpan/build/2023070803/XML-Generator-1.13-1/blib/lib
    /home/cpansand/.cpan/build/2023070803/XML-Enc-0.13-1/blib/arch
    /home/cpansand/.cpan/build/2023070803/XML-Enc-0.13-1/blib/lib
    /home/cpansand/.cpan/build/2023070803/CryptX-0.078-1/blib/arch
    /home/cpansand/.cpan/build/2023070803/CryptX-0.078-1/blib/lib
    /home/cpansand/.cpan/build/2023070803/URN-OASIS-SAML2-0.003-1/blib/arch
    /home/cpansand/.cpan/build/2023070803/URN-OASIS-SAML2-0.003-1/blib/lib
    /home/cpansand/.cpan/build/2023070803/Test-Mock-One-0.011-1/blib/arch
    /home/cpansand/.cpan/build/2023070803/Test-Mock-One-0.011-1/blib/lib
    /home/cpansand/.cpan/build/2023070803/DateTime-Format-XSD-0.4-1/blib/arch
    /home/cpansand/.cpan/build/2023070803/DateTime-Format-XSD-0.4-1/blib/lib
    /home/cpansand/.cpan/build/2023070803/Crypt-OpenSSL-Verify-0.36-1/blib/arch
    /home/cpansand/.cpan/build/2023070803/Crypt-OpenSSL-Verify-0.36-1/blib/lib
    /home/cpansand/.cpan/build/2023070803/File-Slurper-0.014-1/blib/arch
    /home/cpansand/.cpan/build/2023070803/File-Slurper-0.014-1/blib/lib
    /home/cpansand/.cpan/build/2023070803/Crypt-OpenSSL-Guess-0.15-1/blib/arch
    /home/cpansand/.cpan/build/2023070803/Crypt-OpenSSL-Guess-0.15-1/blib/lib
    /opt/perl-5.22.2/lib/site_perl/5.22.2/x86_64-linux
    /opt/perl-5.22.2/lib/site_perl/5.22.2
    /opt/perl-5.22.2/lib/5.22.2/x86_64-linux
    /opt/perl-5.22.2/lib/5.22.2
    .